Workbook
Name ВИД_С_ЛИЦЕВОЙ_СТОРОНЫ: 'Схема присадки фасадов'!$V$31:$AO$59
Name курс: 'Фасады серии MZ,MF'!$O$4
Name курсLT: 'Световые полки LT10,11 LT30,31'!$K$3

Sheet Данные
A1: Тип профиля | B1: MZ 01 | C1: узкий | D1: можно без присадки
B2: MZ 02 | C2: узкий
B3: MZ 04 | C3: широкий | D3: можно без присадки
B4: MZ 07 | C4: узкий
B5: MZ 09 | C5: широкий
B6: MZ 10 | C6: широкий
B7: MZ 12 | C7: широкий
B8: MZ 13 | C8: широкий | D8: можно без присадки
B9: MZ 13-01 | C9: широкий | D9: можно без присадки
B10: MZ 17 | C10: широкий
B11: MF 20
B12: MF 30 | C12: узкий | D12: можно без присадки
B13: MF 20/21
B14: MF 30/31 | C14: узкий | D14: можно без присадки
B15: MF 20/22
B16: MF 30/32 | C16: узкий | D16: можно без присадки
B17: MF 20/25
B18: MF 30/33 | C18: узкий | D18: можно без присадки
B19: MF 30/34 | C19: узкий | D19: можно без присадки
B20: MF 30/35 | C20: узкий | D20: можно без присадки
B21: MF 50/51/52
B22: MF 60/61/62 | C22: широкий | D22: можно без присадки
B23: MF 70/71/72
A24: Цвет профиля | B24: серебро А00
B25: шампань А06
B26: коньяк А07
B27: белый А16
B28: белый матовый Р11
B29: титан А18
B30: серебро браш АВ00
B31: шампань браш АВ06
B32: золото браш АВ20
B33: черный браш АВ05
B34: черный матовый А05
B35: латунь АВ21
B36: инокс АВ04
A37: петли | B37: только присадка | C37: любой
B38: без присадки | C38: любой
B39: Blum Накл(уз.пр) clip top blumotion 71B950A никель | C39: узкий
B40: Blum Накл(уз.пр) clip top 71T950A никель | C40: узкий
...

Sheet Световые полки LT10,11 LT30,31
A1: ЗАКАЗ № | D1: КЛИЕНТ | G1: Дата готовности | I1: Упаковка | K1: =X1 -> 89.05 | M1: 2 | X1: 89.05
B2: Параметры изделия | K2: Проверка | L2: стоимость фасада MODUS, руб | M2: стоимость фасада, руб | N2: метраж профиля | O2: площадь наполнения | P2: профиль + работа | Q2: наполнение | R2: стоимость профиля | S2: стоимость работ | T2: стоимость наполнения | U2: стоимость полкодержателей | V2: стоимость шлифовки | W2: стоимость закалки | X2: Примечания
B3: тип профиля | C3: выбор цвета профиля | D3: ширина полки, мм | E3: глубина полки, мм | F3: кол-во полок, шт | G3: вид наполнения | H3: количество трубок (для винных полок) | I3: закалка стекла | J3: полкодержатели
A4: 1 | B4: LT10 | K4: =IF(OR(B4="", C4="", D4=0, E4=0, F4=0), "Сделайте выбор", IF(OR(D4<200, E4<200), "Мин. размер 200х200!", IF(AND(G4<>"", ISNUMBER(SEARCH("VP", G4)), NOT(ISNUMBER(SEARCH("LT3", B4)))), "Трубки VP16 только для LT30/LT31!", IF(AND(J4<>"", NOT(ISNUMBER(SEARCH("Без полкодержателей", J4))), ISNUMBER(SEARCH("LT31", B4)), NOT(ISNUMBER(SEARCH("/", B4)))), "Полкодержатель не подходит для LT31!", IF(IF(ISNUMBER(SEARCH("/", B4)), MIN( COUNTIFS('LT10,30'!$A:$A, LEFT(B4, 4) & "*", 'LT10,30'!$B:$B, C4), COUNTIFS('LT10,30'!$A:$A, LEFT(B4, 2) & MID(B4, 6, 2) & "*", 'LT10,30'!$B:$B, C4) ), COUNTIFS('LT10,30'!$A:$A, LEFT(B4, 4) & "*", 'LT10,30'!$B:$B, C4) )=0, "Ошибка цвета!", IF(IF(ISNUMBER(SEARCH("/", B4)), MIN( SUMIFS('LT10,30'!$C:$C, 'LT10,30'!$A:$A, LEFT(B4, 4) & "*", 'LT10,30'!$B:$B, C4), SUMIFS('LT10,30'!$C:$C, 'LT10,30'!$A:$A, LEFT(B4, 2) & MID(B4, 6, 2) & "*", 'LT10,30'!$B:$B, C4) ), SUMIFS('LT10,30'!$C:$C, 'LT10,30'!$A:$A, LEFT(B4, 4) & "*", 'LT10,30'!$B:$B, C4) )=0, "Нет цены!", IF(AND(I4<>"", I4<>"без закалки", OR(ISNUMBER(SEARCH("VP", G4)), ISNUMBER(SEARCH("нельзя закаливать", IFERROR(INDEX(Данные!$E:$E, MATCH(G4, Данные!$B:$B, 0)), ""))))), "Это наполнение не закаливают!", "ОК"))))))) -> Сделайте выбор | L4: =IF(K4<>"ОК",0,SUM(R4:W4)*$K$1) -> 0 | M4: =(L4-L4*0.2)*$M$1 -> 0 | N4: =IF(K4<>"ОК", 0, (D4 + E4) * 2 * F4 / 1000) -> 0 | O4: =IF(OR(K4<>"ОК", G4="", G4=Данные!$B$72, ISNUMBER(SEARCH("без", G4)), ISNUMBER(SEARCH("VP", G4))), 0, (D4 * E4 / 1000000) * F4) -> 0 | P4: =(R4+S4)*$K$1 -> 0 | Q4: =T4*$K$1 -> 0 | R4: =IFERROR(IF(K4<>"ОК", 0, IF(B4="LT30/31", ((D4 + E4) * 2 / 1000) * F4 * SUMIFS('LT10,30'!$C:$C, 'LT10,30'!$A:$A, "LT30", 'LT10,30'!$B:$B, C4), IF(ISNUMBER(SEARCH("/", B4)), (((D4 + 2 * E4) / 1000) * F4 * SUMIFS('LT10,30'!$C:$C, 'LT10,30'!$A:$A, LEFT(B4, 4), 'LT10,30'!$B:$B, C4)) + ((D4 / 1000) * F4 * SUMIFS('LT10,30'!$C:$C, 'LT10,30'!$A:$A, LEFT(B4, 2) & MID(B4, 6, 2), 'LT10,30'!$B:$B, C4)), ((D4 + E4) * 2 / 1000) * F4 * SUMIFS('LT10,30'!$C:$C, 'LT10,30'!$A:$A, LEFT(B4, 4), 'LT10,30'!$B:$B, C4)))), 0) -> 0 | S4: =IFERROR(IF(K4<>"ОК", 0, F4 * IF(ISNUMBER(SEARCH("VP", G4)), INDEX('LT10,30'!$C:$C, MATCH("Сборка винных полок*", 'LT10,30'!$A:$A, 0)), IF(ISNUMBER(MATCH(B4, Данные!$B$119:$B$120, 0)), INDEX('LT10,30'!$C:$C, MATCH("Сборка световой полки LT10*", 'LT10,30'!$A:$A, 0)), IF(ISNUMBER(SEARCH("30/31", B4)), INDEX('LT10,30'!$C:$C, MATCH("Сборка световой полки LT30/31*", 'LT10,30'!$A:$A, 0)), IF(ISNUMBER(MATCH(B4, Данные!$B$121:$B$123, 0)), INDEX('LT10,30'!$C:$C, MATCH("Сборка световой полки LT30*", 'LT10,30'!$A:$A, 0)), 0))))), 0) -> 0 | T4: =IF(OR(K4<>"ОК", G4="", G4=Данные!$B$72, ISNUMBER(SEARCH("без", G4))), 0, IF(ISNUMBER(SEARCH("VP", G4)), F4 * H4 * ((E4 / 1000) * SUMIF('LT10,30'!$A:$A, G4, 'LT10,30'!$C:$C) + 2), O4 * IF(SUMIFS(СТЕКЛО!$C:$C, СТЕКЛО!$A:$A, G4, СТЕКЛО!$B:$B, "4")>0, SUMIFS(СТЕКЛО!$C:$C, СТЕКЛО!$A:$A, G4, СТЕКЛО!$B:$B, "4"), SUMIF(СТЕКЛО!$A:$A, G4, СТЕКЛО!$C:$C)) + IF(OR(ISNUMBER(SEARCH("30", B4)), ISNUMBER(SEARCH("31", B4)), ISNUMBER(SEARCH("11", B4))), F4 * ((D4 + E4) * 2 / 1000) * IFERROR(VLOOKUP("Полировка кромки стекла", СТЕКЛО!$A:$C, 3, FALSE), 1.42853), 0))) -> 0 | U4: =IF(OR(K4<>"ОК", J4="", J4="Без полкодержателей", ISNUMBER(SEARCH("без", J4))), 0, 4 * F4 * SUMIF('LT10,30'!$A:$A, J4, 'LT10,30'!$C:$C)) -> 0 | V4: 0 | W4: =IF(AND(K4="ОК", I4<>"", I4<>"без закалки"), (O4 * SUMIFS(СТЕКЛО!$C:$C, СТЕКЛО!$A:$A, "Закалка стекла", СТЕКЛО!$B:$B, "4-6 мм")) + (N4 * IF(B4=Данные!$B$119, 2, 1) * SUMIFS(СТЕКЛО!$C:$C, СТЕКЛО!$A:$A, "Шлифовка кромки стекла", СТЕКЛО!$B:$B, "4 мм") * (1 + IF(AND(MIN(D4, E4)>=30, MIN(D4, E4)<=100), 1, 0) + IF(MAX(D4, E4)>=2500, 1, 0))), 0) -> 0
A5: 2 | K5: =IF(OR(B5="", C5="", D5=0, E5=0, F5=0), "Сделайте выбор", IF(OR(D5<200, E5<200), "Мин. размер 200х200!", IF(AND(G5<>"", ISNUMBER(SEARCH("VP", G5)), NOT(ISNUMBER(SEARCH("LT3", B5)))), "Трубки VP16 только для LT30/LT31!", IF(AND(J5<>"", NOT(ISNUMBER(SEARCH("Без полкодержателей", J5))), ISNUMBER(SEARCH("LT31", B5)), NOT(ISNUMBER(SEARCH("/", B5)))), "Полкодержатель не подходит для LT31!", IF(IF(ISNUMBER(SEARCH("/", B5)), MIN( COUNTIFS('LT10,30'!$A:$A, LEFT(B5, 4) & "*", 'LT10,30'!$B:$B, C5), COUNTIFS('LT10,30'!$A:$A, LEFT(B5, 2) & MID(B5, 6, 2) & "*", 'LT10,30'!$B:$B, C5) ), COUNTIFS('LT10,30'!$A:$A, LEFT(B5, 4) & "*", 'LT10,30'!$B:$B, C5) )=0, "Ошибка цвета!", IF(IF(ISNUMBER(SEARCH("/", B5)), MIN( SUMIFS('LT10,30'!$C:$C, 'LT10,30'!$A:$A, LEFT(B5, 4) & "*", 'LT10,30'!$B:$B, C5), SUMIFS('LT10,30'!$C:$C, 'LT10,30'!$A:$A, LEFT(B5, 2) & MID(B5, 6, 2) & "*", 'LT10,30'!$B:$B, C5) ), SUMIFS('LT10,30'!$C:$C, 'LT10,30'!$A:$A, LEFT(B5, 4) & "*", 'LT10,30'!$B:$B, C5) )=0, "Нет цены!", IF(AND(I5<>"", I5<>"без закалки", OR(ISNUMBER(SEARCH("VP", G5)), ISNUMBER(SEARCH("нельзя закаливать", IFERROR(INDEX(Данные!$E:$E, MATCH(G5, Данные!$B:$B, 0)), ""))))), "Это наполнение не закаливают!", "ОК"))))))) -> Сделайте выбор | L5: =IF(K5<>"ОК",0,SUM(R5:W5)*$K$1) -> 0 | M5: =(L5-L5*0.2)*$M$1 -> 0 | N5: =IF(K5<>"ОК", 0, (D5 + E5) * 2 * F5 / 1000) -> 0 | O5: =IF(OR(K5<>"ОК", G5="", G5=Данные!$B$72, ISNUMBER(SEARCH("без", G5)), ISNUMBER(SEARCH("VP", G5))), 0, (D5 * E5 / 1000000) * F5) -> 0 | P5: =(R5+S5)*$K$1 -> 0 | Q5: =T5*$K$1 -> 0 | R5: =IFERROR(IF(K5<>"ОК", 0, IF(B5="LT30/31", ((D5 + E5) * 2 / 1000) * F5 * SUMIFS('LT10,30'!$C:$C, 'LT10,30'!$A:$A, "LT30", 'LT10,30'!$B:$B, C5), IF(ISNUMBER(SEARCH("/", B5)), (((D5 + 2 * E5) / 1000) * F5 * SUMIFS('LT10,30'!$C:$C, 'LT10,30'!$A:$A, LEFT(B5, 4), 'LT10,30'!$B:$B, C5)) + ((D5 / 1000) * F5 * SUMIFS('LT10,30'!$C:$C, 'LT10,30'!$A:$A, LEFT(B5, 2) & MID(B5, 6, 2), 'LT10,30'!$B:$B, C5)), ((D5 + E5) * 2 / 1000) * F5 * SUMIFS('LT10,30'!$C:$C, 'LT10,30'!$A:$A, LEFT(B5, 4), 'LT10,30'!$B:$B, C5)))), 0) -> 0 | S5: =IFERROR(IF(K5<>"ОК", 0, F5 * IF(ISNUMBER(SEARCH("VP", G5)), INDEX('LT10,30'!$C:$C, MATCH("Сборка винных полок*", 'LT10,30'!$A:$A, 0)), IF(ISNUMBER(MATCH(B5, Данные!$B$119:$B$120, 0)), INDEX('LT10,30'!$C:$C, MATCH("Сборка световой полки LT10*", 'LT10,30'!$A:$A, 0)), IF(ISNUMBER(SEARCH("30/31", B5)), INDEX('LT10,30'!$C:$C, MATCH("Сборка световой полки LT30/31*", 'LT10,30'!$A:$A, 0)), IF(ISNUMBER(MATCH(B5, Данные!$B$121:$B$123, 0)), INDEX('LT10,30'!$C:$C, MATCH("Сборка световой полки LT30*", 'LT10,30'!$A:$A, 0)), 0))))), 0) -> 0 | T5: =IF(OR(K5<>"ОК", G5="", G5=Данные!$B$72, ISNUMBER(SEARCH("без", G5))), 0, IF(ISNUMBER(SEARCH("VP", G5)), F5 * H5 * ((E5 / 1000) * SUMIF('LT10,30'!$A:$A, G5, 'LT10,30'!$C:$C) + 2), O5 * IF(SUMIFS(СТЕКЛО!$C:$C, СТЕКЛО!$A:$A, G5, СТЕКЛО!$B:$B, "4")>0, SUMIFS(СТЕКЛО!$C:$C, СТЕКЛО!$A:$A, G5, СТЕКЛО!$B:$B, "4"), SUMIF(СТЕКЛО!$A:$A, G5, СТЕКЛО!$C:$C)) + IF(OR(ISNUMBER(SEARCH("30", B5)), ISNUMBER(SEARCH("31", B5)), ISNUMBER(SEARCH("11", B5))), F5 * ((D5 + E5) * 2 / 1000) * IFERROR(VLOOKUP("Полировка кромки стекла", СТЕКЛО!$A:$C, 3, FALSE), 1.42853), 0))) -> 0 | U5: =IF(OR(K5<>"ОК", J5="", J5="Без полкодержателей", ISNUMBER(SEARCH("без", J5))), 0, 4 * F5 * SUMIF('LT10,30'!$A:$A, J5, 'LT10,30'!$C:$C)) -> 0 | V5: 0 | W5: =IF(AND(K5="ОК", I5<>"", I5<>"без закалки"), (O5 * SUMIFS(СТЕКЛО!$C:$C, СТЕКЛО!$A:$A, "Закалка стекла", СТЕКЛО!$B:$B, "4-6 мм")) + (N5 * IF(B5=Данные!$B$119, 2, 1) * SUMIFS(СТЕКЛО!$C:$C, СТЕКЛО!$A:$A, "Шлифовка кромки стекла", СТЕКЛО!$B:$B, "4 мм") * (1 + IF(AND(MIN(D5, E5)>=30, MIN(D5, E5)<=100), 1, 0) + IF(MAX(D5, E5)>=2500, 1, 0))), 0) -> 0
A6: 3 | K6: =IF(OR(B6="", C6="", D6=0, E6=0, F6=0), "Сделайте выбор", IF(OR(D6<200, E6<200), "Мин. размер 200х200!", IF(AND(G6<>"", ISNUMBER(SEARCH("VP", G6)), NOT(ISNUMBER(SEARCH("LT3", B6)))), "Трубки VP16 только для LT30/LT31!", IF(AND(J6<>"", NOT(ISNUMBER(SEARCH("Без полкодержателей", J6))), ISNUMBER(SEARCH("LT31", B6)), NOT(ISNUMBER(SEARCH("/", B6)))), "Полкодержатель не подходит для LT31!", IF(IF(ISNUMBER(SEARCH("/", B6)), MIN( COUNTIFS('LT10,30'!$A:$A, LEFT(B6, 4) & "*", 'LT10,30'!$B:$B, C6), COUNTIFS('LT10,30'!$A:$A, LEFT(B6, 2) & MID(B6, 6, 2) & "*", 'LT10,30'!$B:$B, C6) ), COUNTIFS('LT10,30'!$A:$A, LEFT(B6, 4) & "*", 'LT10,30'!$B:$B, C6) )=0, "Ошибка цвета!", IF(IF(ISNUMBER(SEARCH("/", B6)), MIN( SUMIFS('LT10,30'!$C:$C, 'LT10,30'!$A:$A, LEFT(B6, 4) & "*", 'LT10,30'!$B:$B, C6), SUMIFS('LT10,30'!$C:$C, 'LT10,30'!$A:$A, LEFT(B6, 2) & MID(B6, 6, 2) & "*", 'LT10,30'!$B:$B, C6) ), SUMIFS('LT10,30'!$C:$C, 'LT10,30'!$A:$A, LEFT(B6, 4) & "*", 'LT10,30'!$B:$B, C6) )=0, "Нет цены!", IF(AND(I6<>"", I6<>"без закалки", OR(ISNUMBER(SEARCH("VP", G6)), ISNUMBER(SEARCH("нельзя закаливать", IFERROR(INDEX(Данные!$E:$E, MATCH(G6, Данные!$B:$B, 0)), ""))))), "Это наполнение не закаливают!", "ОК"))))))) -> Сделайте выбор | L6: =IF(K6<>"ОК",0,SUM(R6:W6)*$K$1) -> 0 | M6: =(L6-L6*0.2)*$M$1 -> 0 | N6: =IF(K6<>"ОК", 0, (D6 + E6) * 2 * F6 / 1000) -> 0 | O6: =IF(OR(K6<>"ОК", G6="", G6=Данные!$B$72, ISNUMBER(SEARCH("без", G6)), ISNUMBER(SEARCH("VP", G6))), 0, (D6 * E6 / 1000000) * F6) -> 0 | P6: =(R6+S6)*$K$1 -> 0 | Q6: =T6*$K$1 -> 0 | R6: =IFERROR(IF(K6<>"ОК", 0, IF(B6="LT30/31", ((D6 + E6) * 2 / 1000) * F6 * SUMIFS('LT10,30'!$C:$C, 'LT10,30'!$A:$A, "LT30", 'LT10,30'!$B:$B, C6), IF(ISNUMBER(SEARCH("/", B6)), (((D6 + 2 * E6) / 1000) * F6 * SUMIFS('LT10,30'!$C:$C, 'LT10,30'!$A:$A, LEFT(B6, 4), 'LT10,30'!$B:$B, C6)) + ((D6 / 1000) * F6 * SUMIFS('LT10,30'!$C:$C, 'LT10,30'!$A:$A, LEFT(B6, 2) & MID(B6, 6, 2), 'LT10,30'!$B:$B, C6)), ((D6 + E6) * 2 / 1000) * F6 * SUMIFS('LT10,30'!$C:$C, 'LT10,30'!$A:$A, LEFT(B6, 4), 'LT10,30'!$B:$B, C6)))), 0) -> 0 | S6: =IFERROR(IF(K6<>"ОК", 0, F6 * IF(ISNUMBER(SEARCH("VP", G6)), INDEX('LT10,30'!$C:$C, MATCH("Сборка винных полок*", 'LT10,30'!$A:$A, 0)), IF(ISNUMBER(MATCH(B6, Данные!$B$119:$B$120, 0)), INDEX('LT10,30'!$C:$C, MATCH("Сборка световой полки LT10*", 'LT10,30'!$A:$A, 0)), IF(ISNUMBER(SEARCH("30/31", B6)), INDEX('LT10,30'!$C:$C, MATCH("Сборка световой полки LT30/31*", 'LT10,30'!$A:$A, 0)), IF(ISNUMBER(MATCH(B6, Данные!$B$121:$B$123, 0)), INDEX('LT10,30'!$C:$C, MATCH("Сборка световой полки LT30*", 'LT10,30'!$A:$A, 0)), 0))))), 0) -> 0 | T6: =IF(OR(K6<>"ОК", G6="", G6=Данные!$B$72, ISNUMBER(SEARCH("без", G6))), 0, IF(ISNUMBER(SEARCH("VP", G6)), F6 * H6 * ((E6 / 1000) * SUMIF('LT10,30'!$A:$A, G6, 'LT10,30'!$C:$C) + 2), O6 * IF(SUMIFS(СТЕКЛО!$C:$C, СТЕКЛО!$A:$A, G6, СТЕКЛО!$B:$B, "4")>0, SUMIFS(СТЕКЛО!$C:$C, СТЕКЛО!$A:$A, G6, СТЕКЛО!$B:$B, "4"), SUMIF(СТЕКЛО!$A:$A, G6, СТЕКЛО!$C:$C)) + IF(OR(ISNUMBER(SEARCH("30", B6)), ISNUMBER(SEARCH("31", B6)), ISNUMBER(SEARCH("11", B6))), F6 * ((D6 + E6) * 2 / 1000) * IFERROR(VLOOKUP("Полировка кромки стекла", СТЕКЛО!$A:$C, 3, FALSE), 1.42853), 0))) -> 0 | U6: =IF(OR(K6<>"ОК", J6="", J6="Без полкодержателей", ISNUMBER(SEARCH("без", J6))), 0, 4 * F6 * SUMIF('LT10,30'!$A:$A, J6, 'LT10,30'!$C:$C)) -> 0 | V6: 0 | W6: =IF(AND(K6="ОК", I6<>"", I6<>"без закалки"), (O6 * SUMIFS(СТЕКЛО!$C:$C, СТЕКЛО!$A:$A, "Закалка стекла", СТЕКЛО!$B:$B, "4-6 мм")) + (N6 * IF(B6=Данные!$B$119, 2, 1) * SUMIFS(СТЕКЛО!$C:$C, СТЕКЛО!$A:$A, "Шлифовка кромки стекла", СТЕКЛО!$B:$B, "4 мм") * (1 + IF(AND(MIN(D6, E6)>=30, MIN(D6, E6)<=100), 1, 0) + IF(MAX(D6, E6)>=2500, 1, 0))), 0) -> 0
A7: 4 | K7: =IF(OR(B7="", C7="", D7=0, E7=0, F7=0), "Сделайте выбор", IF(OR(D7<200, E7<200), "Мин. размер 200х200!", IF(AND(G7<>"", ISNUMBER(SEARCH("VP", G7)), NOT(ISNUMBER(SEARCH("LT3", B7)))), "Трубки VP16 только для LT30/LT31!", IF(AND(J7<>"", NOT(ISNUMBER(SEARCH("Без полкодержателей", J7))), ISNUMBER(SEARCH("LT31", B7)), NOT(ISNUMBER(SEARCH("/", B7)))), "Полкодержатель не подходит для LT31!", IF(IF(ISNUMBER(SEARCH("/", B7)), MIN( COUNTIFS('LT10,30'!$A:$A, LEFT(B7, 4) & "*", 'LT10,30'!$B:$B, C7), COUNTIFS('LT10,30'!$A:$A, LEFT(B7, 2) & MID(B7, 6, 2) & "*", 'LT10,30'!$B:$B, C7) ), COUNTIFS('LT10,30'!$A:$A, LEFT(B7, 4) & "*", 'LT10,30'!$B:$B, C7) )=0, "Ошибка цвета!", IF(IF(ISNUMBER(SEARCH("/", B7)), MIN( SUMIFS('LT10,30'!$C:$C, 'LT10,30'!$A:$A, LEFT(B7, 4) & "*", 'LT10,30'!$B:$B, C7), SUMIFS('LT10,30'!$C:$C, 'LT10,30'!$A:$A, LEFT(B7, 2) & MID(B7, 6, 2) & "*", 'LT10,30'!$B:$B, C7) ), SUMIFS('LT10,30'!$C:$C, 'LT10,30'!$A:$A, LEFT(B7, 4) & "*", 'LT10,30'!$B:$B, C7) )=0, "Нет цены!", IF(AND(I7<>"", I7<>"без закалки", OR(ISNUMBER(SEARCH("VP", G7)), ISNUMBER(SEARCH("нельзя закаливать", IFERROR(INDEX(Данные!$E:$E, MATCH(G7, Данные!$B:$B, 0)), ""))))), "Это наполнение не закаливают!", "ОК"))))))) -> Сделайте выбор | L7: =IF(K7<>"ОК",0,SUM(R7:W7)*$K$1) -> 0 | M7: =(L7-L7*0.2)*$M$1 -> 0 | N7: =IF(K7<>"ОК", 0, (D7 + E7) * 2 * F7 / 1000) -> 0 | O7: =IF(OR(K7<>"ОК", G7="", G7=Данные!$B$72, ISNUMBER(SEARCH("без", G7)), ISNUMBER(SEARCH("VP", G7))), 0, (D7 * E7 / 1000000) * F7) -> 0 | P7: =(R7+S7)*$K$1 -> 0 | Q7: =T7*$K$1 -> 0 | R7: =IFERROR(IF(K7<>"ОК", 0, IF(B7="LT30/31", ((D7 + E7) * 2 / 1000) * F7 * SUMIFS('LT10,30'!$C:$C, 'LT10,30'!$A:$A, "LT30", 'LT10,30'!$B:$B, C7), IF(ISNUMBER(SEARCH("/", B7)), (((D7 + 2 * E7) / 1000) * F7 * SUMIFS('LT10,30'!$C:$C, 'LT10,30'!$A:$A, LEFT(B7, 4), 'LT10,30'!$B:$B, C7)) + ((D7 / 1000) * F7 * SUMIFS('LT10,30'!$C:$C, 'LT10,30'!$A:$A, LEFT(B7, 2) & MID(B7, 6, 2), 'LT10,30'!$B:$B, C7)), ((D7 + E7) * 2 / 1000) * F7 * SUMIFS('LT10,30'!$C:$C, 'LT10,30'!$A:$A, LEFT(B7, 4), 'LT10,30'!$B:$B, C7)))), 0) -> 0 | S7: =IFERROR(IF(K7<>"ОК", 0, F7 * IF(ISNUMBER(SEARCH("VP", G7)), INDEX('LT10,30'!$C:$C, MATCH("Сборка винных полок*", 'LT10,30'!$A:$A, 0)), IF(ISNUMBER(MATCH(B7, Данные!$B$119:$B$120, 0)), INDEX('LT10,30'!$C:$C, MATCH("Сборка световой полки LT10*", 'LT10,30'!$A:$A, 0)), IF(ISNUMBER(SEARCH("30/31", B7)), INDEX('LT10,30'!$C:$C, MATCH("Сборка световой полки LT30/31*", 'LT10,30'!$A:$A, 0)), IF(ISNUMBER(MATCH(B7, Данные!$B$121:$B$123, 0)), INDEX('LT10,30'!$C:$C, MATCH("Сборка световой полки LT30*", 'LT10,30'!$A:$A, 0)), 0))))), 0) -> 0 | T7: =IF(OR(K7<>"ОК", G7="", G7=Данные!$B$72, ISNUMBER(SEARCH("без", G7))), 0, IF(ISNUMBER(SEARCH("VP", G7)), F7 * H7 * ((E7 / 1000) * SUMIF('LT10,30'!$A:$A, G7, 'LT10,30'!$C:$C) + 2), O7 * IF(SUMIFS(СТЕКЛО!$C:$C, СТЕКЛО!$A:$A, G7, СТЕКЛО!$B:$B, "4")>0, SUMIFS(СТЕКЛО!$C:$C, СТЕКЛО!$A:$A, G7, СТЕКЛО!$B:$B, "4"), SUMIF(СТЕКЛО!$A:$A, G7, СТЕКЛО!$C:$C)) + IF(OR(ISNUMBER(SEARCH("30", B7)), ISNUMBER(SEARCH("31", B7)), ISNUMBER(SEARCH("11", B7))), F7 * ((D7 + E7) * 2 / 1000) * IFERROR(VLOOKUP("Полировка кромки стекла", СТЕКЛО!$A:$C, 3, FALSE), 1.42853), 0))) -> 0 | U7: =IF(OR(K7<>"ОК", J7="", J7="Без полкодержателей", ISNUMBER(SEARCH("без", J7))), 0, 4 * F7 * SUMIF('LT10,30'!$A:$A, J7, 'LT10,30'!$C:$C)) -> 0 | V7: 0 | W7: =IF(AND(K7="ОК", I7<>"", I7<>"без закалки"), (O7 * SUMIFS(СТЕКЛО!$C:$C, СТЕКЛО!$A:$A, "Закалка стекла", СТЕКЛО!$B:$B, "4-6 мм")) + (N7 * IF(B7=Данные!$B$119, 2, 1) * SUMIFS(СТЕКЛО!$C:$C, СТЕКЛО!$A:$A, "Шлифовка кромки стекла", СТЕКЛО!$B:$B, "4 мм") * (1 + IF(AND(MIN(D7, E7)>=30, MIN(D7, E7)<=100), 1, 0) + IF(MAX(D7, E7)>=2500, 1, 0))), 0) -> 0
A8: 5 | K8: =IF(OR(B8="", C8="", D8=0, E8=0, F8=0), "Сделайте выбор", IF(OR(D8<200, E8<200), "Мин. размер 200х200!", IF(AND(G8<>"", ISNUMBER(SEARCH("VP", G8)), NOT(ISNUMBER(SEARCH("LT3", B8)))), "Трубки VP16 только для LT30/LT31!", IF(AND(J8<>"", NOT(ISNUMBER(SEARCH("Без полкодержателей", J8))), ISNUMBER(SEARCH("LT31", B8)), NOT(ISNUMBER(SEARCH("/", B8)))), "Полкодержатель не подходит для LT31!", IF(IF(ISNUMBER(SEARCH("/", B8)), MIN( COUNTIFS('LT10,30'!$A:$A, LEFT(B8, 4) & "*", 'LT10,30'!$B:$B, C8), COUNTIFS('LT10,30'!$A:$A, LEFT(B8, 2) & MID(B8, 6, 2) & "*", 'LT10,30'!$B:$B, C8) ), COUNTIFS('LT10,30'!$A:$A, LEFT(B8, 4) & "*", 'LT10,30'!$B:$B, C8) )=0, "Ошибка цвета!", IF(IF(ISNUMBER(SEARCH("/", B8)), MIN( SUMIFS('LT10,30'!$C:$C, 'LT10,30'!$A:$A, LEFT(B8, 4) & "*", 'LT10,30'!$B:$B, C8), SUMIFS('LT10,30'!$C:$C, 'LT10,30'!$A:$A, LEFT(B8, 2) & MID(B8, 6, 2) & "*", 'LT10,30'!$B:$B, C8) ), SUMIFS('LT10,30'!$C:$C, 'LT10,30'!$A:$A, LEFT(B8, 4) & "*", 'LT10,30'!$B:$B, C8) )=0, "Нет цены!", IF(AND(I8<>"", I8<>"без закалки", OR(ISNUMBER(SEARCH("VP", G8)), ISNUMBER(SEARCH("нельзя закаливать", IFERROR(INDEX(Данные!$E:$E, MATCH(G8, Данные!$B:$B, 0)), ""))))), "Это наполнение не закаливают!", "ОК"))))))) -> Сделайте выбор | L8: =IF(K8<>"ОК",0,SUM(R8:W8)*$K$1) -> 0 | M8: =(L8-L8*0.2)*$M$1 -> 0 | N8: =IF(K8<>"ОК", 0, (D8 + E8) * 2 * F8 / 1000) -> 0 | O8: =IF(OR(K8<>"ОК", G8="", G8=Данные!$B$72, ISNUMBER(SEARCH("без", G8)), ISNUMBER(SEARCH("VP", G8))), 0, (D8 * E8 / 1000000) * F8) -> 0 | P8: =(R8+S8)*$K$1 -> 0 | Q8: =T8*$K$1 -> 0 | R8: =IFERROR(IF(K8<>"ОК", 0, IF(B8="LT30/31", ((D8 + E8) * 2 / 1000) * F8 * SUMIFS('LT10,30'!$C:$C, 'LT10,30'!$A:$A, "LT30", 'LT10,30'!$B:$B, C8), IF(ISNUMBER(SEARCH("/", B8)), (((D8 + 2 * E8) / 1000) * F8 * SUMIFS('LT10,30'!$C:$C, 'LT10,30'!$A:$A, LEFT(B8, 4), 'LT10,30'!$B:$B, C8)) + ((D8 / 1000) * F8 * SUMIFS('LT10,30'!$C:$C, 'LT10,30'!$A:$A, LEFT(B8, 2) & MID(B8, 6, 2), 'LT10,30'!$B:$B, C8)), ((D8 + E8) * 2 / 1000) * F8 * SUMIFS('LT10,30'!$C:$C, 'LT10,30'!$A:$A, LEFT(B8, 4), 'LT10,30'!$B:$B, C8)))), 0) -> 0 | S8: =IFERROR(IF(K8<>"ОК", 0, F8 * IF(ISNUMBER(SEARCH("VP", G8)), INDEX('LT10,30'!$C:$C, MATCH("Сборка винных полок*", 'LT10,30'!$A:$A, 0)), IF(ISNUMBER(MATCH(B8, Данные!$B$119:$B$120, 0)), INDEX('LT10,30'!$C:$C, MATCH("Сборка световой полки LT10*", 'LT10,30'!$A:$A, 0)), IF(ISNUMBER(SEARCH("30/31", B8)), INDEX('LT10,30'!$C:$C, MATCH("Сборка световой полки LT30/31*", 'LT10,30'!$A:$A, 0)), IF(ISNUMBER(MATCH(B8, Данные!$B$121:$B$123, 0)), INDEX('LT10,30'!$C:$C, MATCH("Сборка световой полки LT30*", 'LT10,30'!$A:$A, 0)), 0))))), 0) -> 0 | T8: =IF(OR(K8<>"ОК", G8="", G8=Данные!$B$72, ISNUMBER(SEARCH("без", G8))), 0, IF(ISNUMBER(SEARCH("VP", G8)), F8 * H8 * ((E8 / 1000) * SUMIF('LT10,30'!$A:$A, G8, 'LT10,30'!$C:$C) + 2), O8 * IF(SUMIFS(СТЕКЛО!$C:$C, СТЕКЛО!$A:$A, G8, СТЕКЛО!$B:$B, "4")>0, SUMIFS(СТЕКЛО!$C:$C, СТЕКЛО!$A:$A, G8, СТЕКЛО!$B:$B, "4"), SUMIF(СТЕКЛО!$A:$A, G8, СТЕКЛО!$C:$C)) + IF(OR(ISNUMBER(SEARCH("30", B8)), ISNUMBER(SEARCH("31", B8)), ISNUMBER(SEARCH("11", B8))), F8 * ((D8 + E8) * 2 / 1000) * IFERROR(VLOOKUP("Полировка кромки стекла", СТЕКЛО!$A:$C, 3, FALSE), 1.42853), 0))) -> 0 | U8: =IF(OR(K8<>"ОК", J8="", J8="Без полкодержателей", ISNUMBER(SEARCH("без", J8))), 0, 4 * F8 * SUMIF('LT10,30'!$A:$A, J8, 'LT10,30'!$C:$C)) -> 0 | V8: 0 | W8: =IF(AND(K8="ОК", I8<>"", I8<>"без закалки"), (O8 * SUMIFS(СТЕКЛО!$C:$C, СТЕКЛО!$A:$A, "Закалка стекла", СТЕКЛО!$B:$B, "4-6 мм")) + (N8 * IF(B8=Данные!$B$119, 2, 1) * SUMIFS(СТЕКЛО!$C:$C, СТЕКЛО!$A:$A, "Шлифовка кромки стекла", СТЕКЛО!$B:$B, "4 мм") * (1 + IF(AND(MIN(D8, E8)>=30, MIN(D8, E8)<=100), 1, 0) + IF(MAX(D8, E8)>=2500, 1, 0))), 0) -> 0
A9: 6 | K9: =IF(OR(B9="", C9="", D9=0, E9=0, F9=0), "Сделайте выбор", IF(OR(D9<200, E9<200), "Мин. размер 200х200!", IF(AND(G9<>"", ISNUMBER(SEARCH("VP", G9)), NOT(ISNUMBER(SEARCH("LT3", B9)))), "Трубки VP16 только для LT30/LT31!", IF(AND(J9<>"", NOT(ISNUMBER(SEARCH("Без полкодержателей", J9))), ISNUMBER(SEARCH("LT31", B9)), NOT(ISNUMBER(SEARCH("/", B9)))), "Полкодержатель не подходит для LT31!", IF(IF(ISNUMBER(SEARCH("/", B9)), MIN( COUNTIFS('LT10,30'!$A:$A, LEFT(B9, 4) & "*", 'LT10,30'!$B:$B, C9), COUNTIFS('LT10,30'!$A:$A, LEFT(B9, 2) & MID(B9, 6, 2) & "*", 'LT10,30'!$B:$B, C9) ), COUNTIFS('LT10,30'!$A:$A, LEFT(B9, 4) & "*", 'LT10,30'!$B:$B, C9) )=0, "Ошибка цвета!", IF(IF(ISNUMBER(SEARCH("/", B9)), MIN( SUMIFS('LT10,30'!$C:$C, 'LT10,30'!$A:$A, LEFT(B9, 4) & "*", 'LT10,30'!$B:$B, C9), SUMIFS('LT10,30'!$C:$C, 'LT10,30'!$A:$A, LEFT(B9, 2) & MID(B9, 6, 2) & "*", 'LT10,30'!$B:$B, C9) ), SUMIFS('LT10,30'!$C:$C, 'LT10,30'!$A:$A, LEFT(B9, 4) & "*", 'LT10,30'!$B:$B, C9) )=0, "Нет цены!", IF(AND(I9<>"", I9<>"без закалки", OR(ISNUMBER(SEARCH("VP", G9)), ISNUMBER(SEARCH("нельзя закаливать", IFERROR(INDEX(Данные!$E:$E, MATCH(G9, Данные!$B:$B, 0)), ""))))), "Это наполнение не закаливают!", "ОК"))))))) -> Сделайте выбор | L9: =IF(K9<>"ОК",0,SUM(R9:W9)*$K$1) -> 0 | M9: =(L9-L9*0.2)*$M$1 -> 0 | N9: =IF(K9<>"ОК", 0, (D9 + E9) * 2 * F9 / 1000) -> 0 | O9: =IF(OR(K9<>"ОК", G9="", G9=Данные!$B$72, ISNUMBER(SEARCH("без", G9)), ISNUMBER(SEARCH("VP", G9))), 0, (D9 * E9 / 1000000) * F9) -> 0 | P9: =(R9+S9)*$K$1 -> 0 | Q9: =T9*$K$1 -> 0 | R9: =IFERROR(IF(K9<>"ОК", 0, IF(B9="LT30/31", ((D9 + E9) * 2 / 1000) * F9 * SUMIFS('LT10,30'!$C:$C, 'LT10,30'!$A:$A, "LT30", 'LT10,30'!$B:$B, C9), IF(ISNUMBER(SEARCH("/", B9)), (((D9 + 2 * E9) / 1000) * F9 * SUMIFS('LT10,30'!$C:$C, 'LT10,30'!$A:$A, LEFT(B9, 4), 'LT10,30'!$B:$B, C9)) + ((D9 / 1000) * F9 * SUMIFS('LT10,30'!$C:$C, 'LT10,30'!$A:$A, LEFT(B9, 2) & MID(B9, 6, 2), 'LT10,30'!$B:$B, C9)), ((D9 + E9) * 2 / 1000) * F9 * SUMIFS('LT10,30'!$C:$C, 'LT10,30'!$A:$A, LEFT(B9, 4), 'LT10,30'!$B:$B, C9)))), 0) -> 0 | S9: =IFERROR(IF(K9<>"ОК", 0, F9 * IF(ISNUMBER(SEARCH("VP", G9)), INDEX('LT10,30'!$C:$C, MATCH("Сборка винных полок*", 'LT10,30'!$A:$A, 0)), IF(ISNUMBER(MATCH(B9, Данные!$B$119:$B$120, 0)), INDEX('LT10,30'!$C:$C, MATCH("Сборка световой полки LT10*", 'LT10,30'!$A:$A, 0)), IF(ISNUMBER(SEARCH("30/31", B9)), INDEX('LT10,30'!$C:$C, MATCH("Сборка световой полки LT30/31*", 'LT10,30'!$A:$A, 0)), IF(ISNUMBER(MATCH(B9, Данные!$B$121:$B$123, 0)), INDEX('LT10,30'!$C:$C, MATCH("Сборка световой полки LT30*", 'LT10,30'!$A:$A, 0)), 0))))), 0) -> 0 | T9: =IF(OR(K9<>"ОК", G9="", G9=Данные!$B$72, ISNUMBER(SEARCH("без", G9))), 0, IF(ISNUMBER(SEARCH("VP", G9)), F9 * H9 * ((E9 / 1000) * SUMIF('LT10,30'!$A:$A, G9, 'LT10,30'!$C:$C) + 2), O9 * IF(SUMIFS(СТЕКЛО!$C:$C, СТЕКЛО!$A:$A, G9, СТЕКЛО!$B:$B, "4")>0, SUMIFS(СТЕКЛО!$C:$C, СТЕКЛО!$A:$A, G9, СТЕКЛО!$B:$B, "4"), SUMIF(СТЕКЛО!$A:$A, G9, СТЕКЛО!$C:$C)) + IF(OR(ISNUMBER(SEARCH("30", B9)), ISNUMBER(SEARCH("31", B9)), ISNUMBER(SEARCH("11", B9))), F9 * ((D9 + E9) * 2 / 1000) * IFERROR(VLOOKUP("Полировка кромки стекла", СТЕКЛО!$A:$C, 3, FALSE), 1.42853), 0))) -> 0 | U9: =IF(OR(K9<>"ОК", J9="", J9="Без полкодержателей", ISNUMBER(SEARCH("без", J9))), 0, 4 * F9 * SUMIF('LT10,30'!$A:$A, J9, 'LT10,30'!$C:$C)) -> 0 | V9: 0 | W9: =IF(AND(K9="ОК", I9<>"", I9<>"без закалки"), (O9 * SUMIFS(СТЕКЛО!$C:$C, СТЕКЛО!$A:$A, "Закалка стекла", СТЕКЛО!$B:$B, "4-6 мм")) + (N9 * IF(B9=Данные!$B$119, 2, 1) * SUMIFS(СТЕКЛО!$C:$C, СТЕКЛО!$A:$A, "Шлифовка кромки стекла", СТЕКЛО!$B:$B, "4 мм") * (1 + IF(AND(MIN(D9, E9)>=30, MIN(D9, E9)<=100), 1, 0) + IF(MAX(D9, E9)>=2500, 1, 0))), 0) -> 0
A10: 7 | K10: =IF(OR(B10="", C10="", D10=0, E10=0, F10=0), "Сделайте выбор", IF(OR(D10<200, E10<200), "Мин. размер 200х200!", IF(AND(G10<>"", ISNUMBER(SEARCH("VP", G10)), NOT(ISNUMBER(SEARCH("LT3", B10)))), "Трубки VP16 только для LT30/LT31!", IF(AND(J10<>"", NOT(ISNUMBER(SEARCH("Без полкодержателей", J10))), ISNUMBER(SEARCH("LT31", B10)), NOT(ISNUMBER(SEARCH("/", B10)))), "Полкодержатель не подходит для LT31!", IF(IF(ISNUMBER(SEARCH("/", B10)), MIN( COUNTIFS('LT10,30'!$A:$A, LEFT(B10, 4) & "*", 'LT10,30'!$B:$B, C10), COUNTIFS('LT10,30'!$A:$A, LEFT(B10, 2) & MID(B10, 6, 2) & "*", 'LT10,30'!$B:$B, C10) ), COUNTIFS('LT10,30'!$A:$A, LEFT(B10, 4) & "*", 'LT10,30'!$B:$B, C10) )=0, "Ошибка цвета!", IF(IF(ISNUMBER(SEARCH("/", B10)), MIN( SUMIFS('LT10,30'!$C:$C, 'LT10,30'!$A:$A, LEFT(B10, 4) & "*", 'LT10,30'!$B:$B, C10), SUMIFS('LT10,30'!$C:$C, 'LT10,30'!$A:$A, LEFT(B10, 2) & MID(B10, 6, 2) & "*", 'LT10,30'!$B:$B, C10) ), SUMIFS('LT10,30'!$C:$C, 'LT10,30'!$A:$A, LEFT(B10, 4) & "*", 'LT10,30'!$B:$B, C10) )=0, "Нет цены!", IF(AND(I10<>"", I10<>"без закалки", OR(ISNUMBER(SEARCH("VP", G10)), ISNUMBER(SEARCH("нельзя закаливать", IFERROR(INDEX(Данные!$E:$E, MATCH(G10, Данные!$B:$B, 0)), ""))))), "Это наполнение не закаливают!", "ОК"))))))) -> Сделайте выбор | L10: =IF(K10<>"ОК",0,SUM(R10:W10)*$K$1) -> 0 | M10: =(L10-L10*0.2)*$M$1 -> 0 | N10: =IF(K10<>"ОК", 0, (D10 + E10) * 2 * F10 / 1000) -> 0 | O10: =IF(OR(K10<>"ОК", G10="", G10=Данные!$B$72, ISNUMBER(SEARCH("без", G10)), ISNUMBER(SEARCH("VP", G10))), 0, (D10 * E10 / 1000000) * F10) -> 0 | P10: =(R10+S10)*$K$1 -> 0 | Q10: =T10*$K$1 -> 0 | R10: =IFERROR(IF(K10<>"ОК", 0, IF(B10="LT30/31", ((D10 + E10) * 2 / 1000) * F10 * SUMIFS('LT10,30'!$C:$C, 'LT10,30'!$A:$A, "LT30", 'LT10,30'!$B:$B, C10), IF(ISNUMBER(SEARCH("/", B10)), (((D10 + 2 * E10) / 1000) * F10 * SUMIFS('LT10,30'!$C:$C, 'LT10,30'!$A:$A, LEFT(B10, 4), 'LT10,30'!$B:$B, C10)) + ((D10 / 1000) * F10 * SUMIFS('LT10,30'!$C:$C, 'LT10,30'!$A:$A, LEFT(B10, 2) & MID(B10, 6, 2), 'LT10,30'!$B:$B, C10)), ((D10 + E10) * 2 / 1000) * F10 * SUMIFS('LT10,30'!$C:$C, 'LT10,30'!$A:$A, LEFT(B10, 4), 'LT10,30'!$B:$B, C10)))), 0) -> 0 | S10: =IFERROR(IF(K10<>"ОК", 0, F10 * IF(ISNUMBER(SEARCH("VP", G10)), INDEX('LT10,30'!$C:$C, MATCH("Сборка винных полок*", 'LT10,30'!$A:$A, 0)), IF(ISNUMBER(MATCH(B10, Данные!$B$119:$B$120, 0)), INDEX('LT10,30'!$C:$C, MATCH("Сборка световой полки LT10*", 'LT10,30'!$A:$A, 0)), IF(ISNUMBER(SEARCH("30/31", B10)), INDEX('LT10,30'!$C:$C, MATCH("Сборка световой полки LT30/31*", 'LT10,30'!$A:$A, 0)), IF(ISNUMBER(MATCH(B10, Данные!$B$121:$B$123, 0)), INDEX('LT10,30'!$C:$C, MATCH("Сборка световой полки LT30*", 'LT10,30'!$A:$A, 0)), 0))))), 0) -> 0 | T10: =IF(OR(K10<>"ОК", G10="", G10=Данные!$B$72, ISNUMBER(SEARCH("без", G10))), 0, IF(ISNUMBER(SEARCH("VP", G10)), F10 * H10 * ((E10 / 1000) * SUMIF('LT10,30'!$A:$A, G10, 'LT10,30'!$C:$C) + 2), O10 * IF(SUMIFS(СТЕКЛО!$C:$C, СТЕКЛО!$A:$A, G10, СТЕКЛО!$B:$B, "4")>0, SUMIFS(СТЕКЛО!$C:$C, СТЕКЛО!$A:$A, G10, СТЕКЛО!$B:$B, "4"), SUMIF(СТЕКЛО!$A:$A, G10, СТЕКЛО!$C:$C)) + IF(OR(ISNUMBER(SEARCH("30", B10)), ISNUMBER(SEARCH("31", B10)), ISNUMBER(SEARCH("11", B10))), F10 * ((D10 + E10) * 2 / 1000) * IFERROR(VLOOKUP("Полировка кромки стекла", СТЕКЛО!$A:$C, 3, FALSE), 1.42853), 0))) -> 0 | U10: =IF(OR(K10<>"ОК", J10="", J10="Без полкодержателей", ISNUMBER(SEARCH("без", J10))), 0, 4 * F10 * SUMIF('LT10,30'!$A:$A, J10, 'LT10,30'!$C:$C)) -> 0 | V10: 0 | W10: =IF(AND(K10="ОК", I10<>"", I10<>"без закалки"), (O10 * SUMIFS(СТЕКЛО!$C:$C, СТЕКЛО!$A:$A, "Закалка стекла", СТЕКЛО!$B:$B, "4-6 мм")) + (N10 * IF(B10=Данные!$B$119, 2, 1) * SUMIFS(СТЕКЛО!$C:$C, СТЕКЛО!$A:$A, "Шлифовка кромки стекла", СТЕКЛО!$B:$B, "4 мм") * (1 + IF(AND(MIN(D10, E10)>=30, MIN(D10, E10)<=100), 1, 0) + IF(MAX(D10, E10)>=2500, 1, 0))), 0) -> 0
A11: 8 | K11: =IF(OR(B11="", C11="", D11=0, E11=0, F11=0), "Сделайте выбор", IF(OR(D11<200, E11<200), "Мин. размер 200х200!", IF(AND(G11<>"", ISNUMBER(SEARCH("VP", G11)), NOT(ISNUMBER(SEARCH("LT3", B11)))), "Трубки VP16 только для LT30/LT31!", IF(AND(J11<>"", NOT(ISNUMBER(SEARCH("Без полкодержателей", J11))), ISNUMBER(SEARCH("LT31", B11)), NOT(ISNUMBER(SEARCH("/", B11)))), "Полкодержатель не подходит для LT31!", IF(IF(ISNUMBER(SEARCH("/", B11)), MIN( COUNTIFS('LT10,30'!$A:$A, LEFT(B11, 4) & "*", 'LT10,30'!$B:$B, C11), COUNTIFS('LT10,30'!$A:$A, LEFT(B11, 2) & MID(B11, 6, 2) & "*", 'LT10,30'!$B:$B, C11) ), COUNTIFS('LT10,30'!$A:$A, LEFT(B11, 4) & "*", 'LT10,30'!$B:$B, C11) )=0, "Ошибка цвета!", IF(IF(ISNUMBER(SEARCH("/", B11)), MIN( SUMIFS('LT10,30'!$C:$C, 'LT10,30'!$A:$A, LEFT(B11, 4) & "*", 'LT10,30'!$B:$B, C11), SUMIFS('LT10,30'!$C:$C, 'LT10,30'!$A:$A, LEFT(B11, 2) & MID(B11, 6, 2) & "*", 'LT10,30'!$B:$B, C11) ), SUMIFS('LT10,30'!$C:$C, 'LT10,30'!$A:$A, LEFT(B11, 4) & "*", 'LT10,30'!$B:$B, C11) )=0, "Нет цены!", IF(AND(I11<>"", I11<>"без закалки", OR(ISNUMBER(SEARCH("VP", G11)), ISNUMBER(SEARCH("нельзя закаливать", IFERROR(INDEX(Данные!$E:$E, MATCH(G11, Данные!$B:$B, 0)), ""))))), "Это наполнение не закаливают!", "ОК"))))))) -> Сделайте выбор | L11: =IF(K11<>"ОК",0,SUM(R11:W11)*$K$1) -> 0 | M11: =(L11-L11*0.2)*$M$1 -> 0 | N11: =IF(K11<>"ОК", 0, (D11 + E11) * 2 * F11 / 1000) -> 0 | O11: =IF(OR(K11<>"ОК", G11="", G11=Данные!$B$72, ISNUMBER(SEARCH("без", G11)), ISNUMBER(SEARCH("VP", G11))), 0, (D11 * E11 / 1000000) * F11) -> 0 | P11: =(R11+S11)*$K$1 -> 0 | Q11: =T11*$K$1 -> 0 | R11: =IFERROR(IF(K11<>"ОК", 0, IF(B11="LT30/31", ((D11 + E11) * 2 / 1000) * F11 * SUMIFS('LT10,30'!$C:$C, 'LT10,30'!$A:$A, "LT30", 'LT10,30'!$B:$B, C11), IF(ISNUMBER(SEARCH("/", B11)), (((D11 + 2 * E11) / 1000) * F11 * SUMIFS('LT10,30'!$C:$C, 'LT10,30'!$A:$A, LEFT(B11, 4), 'LT10,30'!$B:$B, C11)) + ((D11 / 1000) * F11 * SUMIFS('LT10,30'!$C:$C, 'LT10,30'!$A:$A, LEFT(B11, 2) & MID(B11, 6, 2), 'LT10,30'!$B:$B, C11)), ((D11 + E11) * 2 / 1000) * F11 * SUMIFS('LT10,30'!$C:$C, 'LT10,30'!$A:$A, LEFT(B11, 4), 'LT10,30'!$B:$B, C11)))), 0) -> 0 | S11: =IFERROR(IF(K11<>"ОК", 0, F11 * IF(ISNUMBER(SEARCH("VP", G11)), INDEX('LT10,30'!$C:$C, MATCH("Сборка винных полок*", 'LT10,30'!$A:$A, 0)), IF(ISNUMBER(MATCH(B11, Данные!$B$119:$B$120, 0)), INDEX('LT10,30'!$C:$C, MATCH("Сборка световой полки LT10*", 'LT10,30'!$A:$A, 0)), IF(ISNUMBER(SEARCH("30/31", B11)), INDEX('LT10,30'!$C:$C, MATCH("Сборка световой полки LT30/31*", 'LT10,30'!$A:$A, 0)), IF(ISNUMBER(MATCH(B11, Данные!$B$121:$B$123, 0)), INDEX('LT10,30'!$C:$C, MATCH("Сборка световой полки LT30*", 'LT10,30'!$A:$A, 0)), 0))))), 0) -> 0 | T11: =IF(OR(K11<>"ОК", G11="", G11=Данные!$B$72, ISNUMBER(SEARCH("без", G11))), 0, IF(ISNUMBER(SEARCH("VP", G11)), F11 * H11 * ((E11 / 1000) * SUMIF('LT10,30'!$A:$A, G11, 'LT10,30'!$C:$C) + 2), O11 * IF(SUMIFS(СТЕКЛО!$C:$C, СТЕКЛО!$A:$A, G11, СТЕКЛО!$B:$B, "4")>0, SUMIFS(СТЕКЛО!$C:$C, СТЕКЛО!$A:$A, G11, СТЕКЛО!$B:$B, "4"), SUMIF(СТЕКЛО!$A:$A, G11, СТЕКЛО!$C:$C)) + IF(OR(ISNUMBER(SEARCH("30", B11)), ISNUMBER(SEARCH("31", B11)), ISNUMBER(SEARCH("11", B11))), F11 * ((D11 + E11) * 2 / 1000) * IFERROR(VLOOKUP("Полировка кромки стекла", СТЕКЛО!$A:$C, 3, FALSE), 1.42853), 0))) -> 0 | U11: =IF(OR(K11<>"ОК", J11="", J11="Без полкодержателей", ISNUMBER(SEARCH("без", J11))), 0, 4 * F11 * SUMIF('LT10,30'!$A:$A, J11, 'LT10,30'!$C:$C)) -> 0 | V11: 0 | W11: =IF(AND(K11="ОК", I11<>"", I11<>"без закалки"), (O11 * SUMIFS(СТЕКЛО!$C:$C, СТЕКЛО!$A:$A, "Закалка стекла", СТЕКЛО!$B:$B, "4-6 мм")) + (N11 * IF(B11=Данные!$B$119, 2, 1) * SUMIFS(СТЕКЛО!$C:$C, СТЕКЛО!$A:$A, "Шлифовка кромки стекла", СТЕКЛО!$B:$B, "4 мм") * (1 + IF(AND(MIN(D11, E11)>=30, MIN(D11, E11)<=100), 1, 0) + IF(MAX(D11, E11)>=2500, 1, 0))), 0) -> 0
A12: 9 | K12: =IF(OR(B12="", C12="", D12=0, E12=0, F12=0), "Сделайте выбор", IF(OR(D12<200, E12<200), "Мин. размер 200х200!", IF(AND(G12<>"", ISNUMBER(SEARCH("VP", G12)), NOT(ISNUMBER(SEARCH("LT3", B12)))), "Трубки VP16 только для LT30/LT31!", IF(AND(J12<>"", NOT(ISNUMBER(SEARCH("Без полкодержателей", J12))), ISNUMBER(SEARCH("LT31", B12)), NOT(ISNUMBER(SEARCH("/", B12)))), "Полкодержатель не подходит для LT31!", IF(IF(ISNUMBER(SEARCH("/", B12)), MIN( COUNTIFS('LT10,30'!$A:$A, LEFT(B12, 4) & "*", 'LT10,30'!$B:$B, C12), COUNTIFS('LT10,30'!$A:$A, LEFT(B12, 2) & MID(B12, 6, 2) & "*", 'LT10,30'!$B:$B, C12) ), COUNTIFS('LT10,30'!$A:$A, LEFT(B12, 4) & "*", 'LT10,30'!$B:$B, C12) )=0, "Ошибка цвета!", IF(IF(ISNUMBER(SEARCH("/", B12)), MIN( SUMIFS('LT10,30'!$C:$C, 'LT10,30'!$A:$A, LEFT(B12, 4) & "*", 'LT10,30'!$B:$B, C12), SUMIFS('LT10,30'!$C:$C, 'LT10,30'!$A:$A, LEFT(B12, 2) & MID(B12, 6, 2) & "*", 'LT10,30'!$B:$B, C12) ), SUMIFS('LT10,30'!$C:$C, 'LT10,30'!$A:$A, LEFT(B12, 4) & "*", 'LT10,30'!$B:$B, C12) )=0, "Нет цены!", IF(AND(I12<>"", I12<>"без закалки", OR(ISNUMBER(SEARCH("VP", G12)), ISNUMBER(SEARCH("нельзя закаливать", IFERROR(INDEX(Данные!$E:$E, MATCH(G12, Данные!$B:$B, 0)), ""))))), "Это наполнение не закаливают!", "ОК"))))))) -> Сделайте выбор | L12: =IF(K12<>"ОК",0,SUM(R12:W12)*$K$1) -> 0 | M12: =(L12-L12*0.2)*$M$1 -> 0 | N12: =IF(K12<>"ОК", 0, (D12 + E12) * 2 * F12 / 1000) -> 0 | O12: =IF(OR(K12<>"ОК", G12="", G12=Данные!$B$72, ISNUMBER(SEARCH("без", G12)), ISNUMBER(SEARCH("VP", G12))), 0, (D12 * E12 / 1000000) * F12) -> 0 | P12: =(R12+S12)*$K$1 -> 0 | Q12: =T12*$K$1 -> 0 | R12: =IFERROR(IF(K12<>"ОК", 0, IF(B12="LT30/31", ((D12 + E12) * 2 / 1000) * F12 * SUMIFS('LT10,30'!$C:$C, 'LT10,30'!$A:$A, "LT30", 'LT10,30'!$B:$B, C12), IF(ISNUMBER(SEARCH("/", B12)), (((D12 + 2 * E12) / 1000) * F12 * SUMIFS('LT10,30'!$C:$C, 'LT10,30'!$A:$A, LEFT(B12, 4), 'LT10,30'!$B:$B, C12)) + ((D12 / 1000) * F12 * SUMIFS('LT10,30'!$C:$C, 'LT10,30'!$A:$A, LEFT(B12, 2) & MID(B12, 6, 2), 'LT10,30'!$B:$B, C12)), ((D12 + E12) * 2 / 1000) * F12 * SUMIFS('LT10,30'!$C:$C, 'LT10,30'!$A:$A, LEFT(B12, 4), 'LT10,30'!$B:$B, C12)))), 0) -> 0 | S12: =IFERROR(IF(K12<>"ОК", 0, F12 * IF(ISNUMBER(SEARCH("VP", G12)), INDEX('LT10,30'!$C:$C, MATCH("Сборка винных полок*", 'LT10,30'!$A:$A, 0)), IF(ISNUMBER(MATCH(B12, Данные!$B$119:$B$120, 0)), INDEX('LT10,30'!$C:$C, MATCH("Сборка световой полки LT10*", 'LT10,30'!$A:$A, 0)), IF(ISNUMBER(SEARCH("30/31", B12)), INDEX('LT10,30'!$C:$C, MATCH("Сборка световой полки LT30/31*", 'LT10,30'!$A:$A, 0)), IF(ISNUMBER(MATCH(B12, Данные!$B$121:$B$123, 0)), INDEX('LT10,30'!$C:$C, MATCH("Сборка световой полки LT30*", 'LT10,30'!$A:$A, 0)), 0))))), 0) -> 0 | T12: =IF(OR(K12<>"ОК", G12="", G12=Данные!$B$72, ISNUMBER(SEARCH("без", G12))), 0, IF(ISNUMBER(SEARCH("VP", G12)), F12 * H12 * ((E12 / 1000) * SUMIF('LT10,30'!$A:$A, G12, 'LT10,30'!$C:$C) + 2), O12 * IF(SUMIFS(СТЕКЛО!$C:$C, СТЕКЛО!$A:$A, G12, СТЕКЛО!$B:$B, "4")>0, SUMIFS(СТЕКЛО!$C:$C, СТЕКЛО!$A:$A, G12, СТЕКЛО!$B:$B, "4"), SUMIF(СТЕКЛО!$A:$A, G12, СТЕКЛО!$C:$C)) + IF(OR(ISNUMBER(SEARCH("30", B12)), ISNUMBER(SEARCH("31", B12)), ISNUMBER(SEARCH("11", B12))), F12 * ((D12 + E12) * 2 / 1000) * IFERROR(VLOOKUP("Полировка кромки стекла", СТЕКЛО!$A:$C, 3, FALSE), 1.42853), 0))) -> 0 | U12: =IF(OR(K12<>"ОК", J12="", J12="Без полкодержателей", ISNUMBER(SEARCH("без", J12))), 0, 4 * F12 * SUMIF('LT10,30'!$A:$A, J12, 'LT10,30'!$C:$C)) -> 0 | V12: 0 | W12: =IF(AND(K12="ОК", I12<>"", I12<>"без закалки"), (O12 * SUMIFS(СТЕКЛО!$C:$C, СТЕКЛО!$A:$A, "Закалка стекла", СТЕКЛО!$B:$B, "4-6 мм")) + (N12 * IF(B12=Данные!$B$119, 2, 1) * SUMIFS(СТЕКЛО!$C:$C, СТЕКЛО!$A:$A, "Шлифовка кромки стекла", СТЕКЛО!$B:$B, "4 мм") * (1 + IF(AND(MIN(D12, E12)>=30, MIN(D12, E12)<=100), 1, 0) + IF(MAX(D12, E12)>=2500, 1, 0))), 0) -> 0
A13: 10 | K13: =IF(OR(B13="", C13="", D13=0, E13=0, F13=0), "Сделайте выбор", IF(OR(D13<200, E13<200), "Мин. размер 200х200!", IF(AND(G13<>"", ISNUMBER(SEARCH("VP", G13)), NOT(ISNUMBER(SEARCH("LT3", B13)))), "Трубки VP16 только для LT30/LT31!", IF(AND(J13<>"", NOT(ISNUMBER(SEARCH("Без полкодержателей", J13))), ISNUMBER(SEARCH("LT31", B13)), NOT(ISNUMBER(SEARCH("/", B13)))), "Полкодержатель не подходит для LT31!", IF(IF(ISNUMBER(SEARCH("/", B13)), MIN( COUNTIFS('LT10,30'!$A:$A, LEFT(B13, 4) & "*", 'LT10,30'!$B:$B, C13), COUNTIFS('LT10,30'!$A:$A, LEFT(B13, 2) & MID(B13, 6, 2) & "*", 'LT10,30'!$B:$B, C13) ), COUNTIFS('LT10,30'!$A:$A, LEFT(B13, 4) & "*", 'LT10,30'!$B:$B, C13) )=0, "Ошибка цвета!", IF(IF(ISNUMBER(SEARCH("/", B13)), MIN( SUMIFS('LT10,30'!$C:$C, 'LT10,30'!$A:$A, LEFT(B13, 4) & "*", 'LT10,30'!$B:$B, C13), SUMIFS('LT10,30'!$C:$C, 'LT10,30'!$A:$A, LEFT(B13, 2) & MID(B13, 6, 2) & "*", 'LT10,30'!$B:$B, C13) ), SUMIFS('LT10,30'!$C:$C, 'LT10,30'!$A:$A, LEFT(B13, 4) & "*", 'LT10,30'!$B:$B, C13) )=0, "Нет цены!", IF(AND(I13<>"", I13<>"без закалки", OR(ISNUMBER(SEARCH("VP", G13)), ISNUMBER(SEARCH("нельзя закаливать", IFERROR(INDEX(Данные!$E:$E, MATCH(G13, Данные!$B:$B, 0)), ""))))), "Это наполнение не закаливают!", "ОК"))))))) -> Сделайте выбор | L13: =IF(K13<>"ОК",0,SUM(R13:W13)*$K$1) -> 0 | M13: =(L13-L13*0.2)*$M$1 -> 0 | N13: =IF(K13<>"ОК", 0, (D13 + E13) * 2 * F13 / 1000) -> 0 | O13: =IF(OR(K13<>"ОК", G13="", G13=Данные!$B$72, ISNUMBER(SEARCH("без", G13)), ISNUMBER(SEARCH("VP", G13))), 0, (D13 * E13 / 1000000) * F13) -> 0 | P13: =(R13+S13)*$K$1 -> 0 | Q13: =T13*$K$1 -> 0 | R13: =IFERROR(IF(K13<>"ОК", 0, IF(B13="LT30/31", ((D13 + E13) * 2 / 1000) * F13 * SUMIFS('LT10,30'!$C:$C, 'LT10,30'!$A:$A, "LT30", 'LT10,30'!$B:$B, C13), IF(ISNUMBER(SEARCH("/", B13)), (((D13 + 2 * E13) / 1000) * F13 * SUMIFS('LT10,30'!$C:$C, 'LT10,30'!$A:$A, LEFT(B13, 4), 'LT10,30'!$B:$B, C13)) + ((D13 / 1000) * F13 * SUMIFS('LT10,30'!$C:$C, 'LT10,30'!$A:$A, LEFT(B13, 2) & MID(B13, 6, 2), 'LT10,30'!$B:$B, C13)), ((D13 + E13) * 2 / 1000) * F13 * SUMIFS('LT10,30'!$C:$C, 'LT10,30'!$A:$A, LEFT(B13, 4), 'LT10,30'!$B:$B, C13)))), 0) -> 0 | S13: =IFERROR(IF(K13<>"ОК", 0, F13 * IF(ISNUMBER(SEARCH("VP", G13)), INDEX('LT10,30'!$C:$C, MATCH("Сборка винных полок*", 'LT10,30'!$A:$A, 0)), IF(ISNUMBER(MATCH(B13, Данные!$B$119:$B$120, 0)), INDEX('LT10,30'!$C:$C, MATCH("Сборка световой полки LT10*", 'LT10,30'!$A:$A, 0)), IF(ISNUMBER(SEARCH("30/31", B13)), INDEX('LT10,30'!$C:$C, MATCH("Сборка световой полки LT30/31*", 'LT10,30'!$A:$A, 0)), IF(ISNUMBER(MATCH(B13, Данные!$B$121:$B$123, 0)), INDEX('LT10,30'!$C:$C, MATCH("Сборка световой полки LT30*", 'LT10,30'!$A:$A, 0)), 0))))), 0) -> 0 | T13: =IF(OR(K13<>"ОК", G13="", G13=Данные!$B$72, ISNUMBER(SEARCH("без", G13))), 0, IF(ISNUMBER(SEARCH("VP", G13)), F13 * H13 * ((E13 / 1000) * SUMIF('LT10,30'!$A:$A, G13, 'LT10,30'!$C:$C) + 2), O13 * IF(SUMIFS(СТЕКЛО!$C:$C, СТЕКЛО!$A:$A, G13, СТЕКЛО!$B:$B, "4")>0, SUMIFS(СТЕКЛО!$C:$C, СТЕКЛО!$A:$A, G13, СТЕКЛО!$B:$B, "4"), SUMIF(СТЕКЛО!$A:$A, G13, СТЕКЛО!$C:$C)) + IF(OR(ISNUMBER(SEARCH("30", B13)), ISNUMBER(SEARCH("31", B13)), ISNUMBER(SEARCH("11", B13))), F13 * ((D13 + E13) * 2 / 1000) * IFERROR(VLOOKUP("Полировка кромки стекла", СТЕКЛО!$A:$C, 3, FALSE), 1.42853), 0))) -> 0 | U13: =IF(OR(K13<>"ОК", J13="", J13="Без полкодержателей", ISNUMBER(SEARCH("без", J13))), 0, 4 * F13 * SUMIF('LT10,30'!$A:$A, J13, 'LT10,30'!$C:$C)) -> 0 | V13: 0 | W13: =IF(AND(K13="ОК", I13<>"", I13<>"без закалки"), (O13 * SUMIFS(СТЕКЛО!$C:$C, СТЕКЛО!$A:$A, "Закалка стекла", СТЕКЛО!$B:$B, "4-6 мм")) + (N13 * IF(B13=Данные!$B$119, 2, 1) * SUMIFS(СТЕКЛО!$C:$C, СТЕКЛО!$A:$A, "Шлифовка кромки стекла", СТЕКЛО!$B:$B, "4 мм") * (1 + IF(AND(MIN(D13, E13)>=30, MIN(D13, E13)<=100), 1, 0) + IF(MAX(D13, E13)>=2500, 1, 0))), 0) -> 0
A14: 11 | K14: =IF(OR(B14="", C14="", D14=0, E14=0, F14=0), "Сделайте выбор", IF(OR(D14<200, E14<200), "Мин. размер 200х200!", IF(AND(G14<>"", ISNUMBER(SEARCH("VP", G14)), NOT(ISNUMBER(SEARCH("LT3", B14)))), "Трубки VP16 только для LT30/LT31!", IF(AND(J14<>"", NOT(ISNUMBER(SEARCH("Без полкодержателей", J14))), ISNUMBER(SEARCH("LT31", B14)), NOT(ISNUMBER(SEARCH("/", B14)))), "Полкодержатель не подходит для LT31!", IF(IF(ISNUMBER(SEARCH("/", B14)), MIN( COUNTIFS('LT10,30'!$A:$A, LEFT(B14, 4) & "*", 'LT10,30'!$B:$B, C14), COUNTIFS('LT10,30'!$A:$A, LEFT(B14, 2) & MID(B14, 6, 2) & "*", 'LT10,30'!$B:$B, C14) ), COUNTIFS('LT10,30'!$A:$A, LEFT(B14, 4) & "*", 'LT10,30'!$B:$B, C14) )=0, "Ошибка цвета!", IF(IF(ISNUMBER(SEARCH("/", B14)), MIN( SUMIFS('LT10,30'!$C:$C, 'LT10,30'!$A:$A, LEFT(B14, 4) & "*", 'LT10,30'!$B:$B, C14), SUMIFS('LT10,30'!$C:$C, 'LT10,30'!$A:$A, LEFT(B14, 2) & MID(B14, 6, 2) & "*", 'LT10,30'!$B:$B, C14) ), SUMIFS('LT10,30'!$C:$C, 'LT10,30'!$A:$A, LEFT(B14, 4) & "*", 'LT10,30'!$B:$B, C14) )=0, "Нет цены!", IF(AND(I14<>"", I14<>"без закалки", OR(ISNUMBER(SEARCH("VP", G14)), ISNUMBER(SEARCH("нельзя закаливать", IFERROR(INDEX(Данные!$E:$E, MATCH(G14, Данные!$B:$B, 0)), ""))))), "Это наполнение не закаливают!", "ОК"))))))) -> Сделайте выбор | L14: =IF(K14<>"ОК",0,SUM(R14:W14)*$K$1) -> 0 | M14: =(L14-L14*0.2)*$M$1 -> 0 | N14: =IF(K14<>"ОК", 0, (D14 + E14) * 2 * F14 / 1000) -> 0 | O14: =IF(OR(K14<>"ОК", G14="", G14=Данные!$B$72, ISNUMBER(SEARCH("без", G14)), ISNUMBER(SEARCH("VP", G14))), 0, (D14 * E14 / 1000000) * F14) -> 0 | P14: =(R14+S14)*$K$1 -> 0 | Q14: =T14*$K$1 -> 0 | R14: =IFERROR(IF(K14<>"ОК", 0, IF(B14="LT30/31", ((D14 + E14) * 2 / 1000) * F14 * SUMIFS('LT10,30'!$C:$C, 'LT10,30'!$A:$A, "LT30", 'LT10,30'!$B:$B, C14), IF(ISNUMBER(SEARCH("/", B14)), (((D14 + 2 * E14) / 1000) * F14 * SUMIFS('LT10,30'!$C:$C, 'LT10,30'!$A:$A, LEFT(B14, 4), 'LT10,30'!$B:$B, C14)) + ((D14 / 1000) * F14 * SUMIFS('LT10,30'!$C:$C, 'LT10,30'!$A:$A, LEFT(B14, 2) & MID(B14, 6, 2), 'LT10,30'!$B:$B, C14)), ((D14 + E14) * 2 / 1000) * F14 * SUMIFS('LT10,30'!$C:$C, 'LT10,30'!$A:$A, LEFT(B14, 4), 'LT10,30'!$B:$B, C14)))), 0) -> 0 | S14: =IFERROR(IF(K14<>"ОК", 0, F14 * IF(ISNUMBER(SEARCH("VP", G14)), INDEX('LT10,30'!$C:$C, MATCH("Сборка винных полок*", 'LT10,30'!$A:$A, 0)), IF(ISNUMBER(MATCH(B14, Данные!$B$119:$B$120, 0)), INDEX('LT10,30'!$C:$C, MATCH("Сборка световой полки LT10*", 'LT10,30'!$A:$A, 0)), IF(ISNUMBER(SEARCH("30/31", B14)), INDEX('LT10,30'!$C:$C, MATCH("Сборка световой полки LT30/31*", 'LT10,30'!$A:$A, 0)), IF(ISNUMBER(MATCH(B14, Данные!$B$121:$B$123, 0)), INDEX('LT10,30'!$C:$C, MATCH("Сборка световой полки LT30*", 'LT10,30'!$A:$A, 0)), 0))))), 0) -> 0 | T14: =IF(OR(K14<>"ОК", G14="", G14=Данные!$B$72, ISNUMBER(SEARCH("без", G14))), 0, IF(ISNUMBER(SEARCH("VP", G14)), F14 * H14 * ((E14 / 1000) * SUMIF('LT10,30'!$A:$A, G14, 'LT10,30'!$C:$C) + 2), O14 * IF(SUMIFS(СТЕКЛО!$C:$C, СТЕКЛО!$A:$A, G14, СТЕКЛО!$B:$B, "4")>0, SUMIFS(СТЕКЛО!$C:$C, СТЕКЛО!$A:$A, G14, СТЕКЛО!$B:$B, "4"), SUMIF(СТЕКЛО!$A:$A, G14, СТЕКЛО!$C:$C)) + IF(OR(ISNUMBER(SEARCH("30", B14)), ISNUMBER(SEARCH("31", B14)), ISNUMBER(SEARCH("11", B14))), F14 * ((D14 + E14) * 2 / 1000) * IFERROR(VLOOKUP("Полировка кромки стекла", СТЕКЛО!$A:$C, 3, FALSE), 1.42853), 0))) -> 0 | U14: =IF(OR(K14<>"ОК", J14="", J14="Без полкодержателей", ISNUMBER(SEARCH("без", J14))), 0, 4 * F14 * SUMIF('LT10,30'!$A:$A, J14, 'LT10,30'!$C:$C)) -> 0 | V14: 0 | W14: =IF(AND(K14="ОК", I14<>"", I14<>"без закалки"), (O14 * SUMIFS(СТЕКЛО!$C:$C, СТЕКЛО!$A:$A, "Закалка стекла", СТЕКЛО!$B:$B, "4-6 мм")) + (N14 * IF(B14=Данные!$B$119, 2, 1) * SUMIFS(СТЕКЛО!$C:$C, СТЕКЛО!$A:$A, "Шлифовка кромки стекла", СТЕКЛО!$B:$B, "4 мм") * (1 + IF(AND(MIN(D14, E14)>=30, MIN(D14, E14)<=100), 1, 0) + IF(MAX(D14, E14)>=2500, 1, 0))), 0) -> 0
A15: 12 | K15: =IF(OR(B15="", C15="", D15=0, E15=0, F15=0), "Сделайте выбор", IF(OR(D15<200, E15<200), "Мин. размер 200х200!", IF(AND(G15<>"", ISNUMBER(SEARCH("VP", G15)), NOT(ISNUMBER(SEARCH("LT3", B15)))), "Трубки VP16 только для LT30/LT31!", IF(AND(J15<>"", NOT(ISNUMBER(SEARCH("Без полкодержателей", J15))), ISNUMBER(SEARCH("LT31", B15)), NOT(ISNUMBER(SEARCH("/", B15)))), "Полкодержатель не подходит для LT31!", IF(IF(ISNUMBER(SEARCH("/", B15)), MIN( COUNTIFS('LT10,30'!$A:$A, LEFT(B15, 4) & "*", 'LT10,30'!$B:$B, C15), COUNTIFS('LT10,30'!$A:$A, LEFT(B15, 2) & MID(B15, 6, 2) & "*", 'LT10,30'!$B:$B, C15) ), COUNTIFS('LT10,30'!$A:$A, LEFT(B15, 4) & "*", 'LT10,30'!$B:$B, C15) )=0, "Ошибка цвета!", IF(IF(ISNUMBER(SEARCH("/", B15)), MIN( SUMIFS('LT10,30'!$C:$C, 'LT10,30'!$A:$A, LEFT(B15, 4) & "*", 'LT10,30'!$B:$B, C15), SUMIFS('LT10,30'!$C:$C, 'LT10,30'!$A:$A, LEFT(B15, 2) & MID(B15, 6, 2) & "*", 'LT10,30'!$B:$B, C15) ), SUMIFS('LT10,30'!$C:$C, 'LT10,30'!$A:$A, LEFT(B15, 4) & "*", 'LT10,30'!$B:$B, C15) )=0, "Нет цены!", IF(AND(I15<>"", I15<>"без закалки", OR(ISNUMBER(SEARCH("VP", G15)), ISNUMBER(SEARCH("нельзя закаливать", IFERROR(INDEX(Данные!$E:$E, MATCH(G15, Данные!$B:$B, 0)), ""))))), "Это наполнение не закаливают!", "ОК"))))))) -> Сделайте выбор | L15: =IF(K15<>"ОК",0,SUM(R15:W15)*$K$1) -> 0 | M15: =(L15-L15*0.2)*$M$1 -> 0 | N15: =IF(K15<>"ОК", 0, (D15 + E15) * 2 * F15 / 1000) -> 0 | O15: =IF(OR(K15<>"ОК", G15="", G15=Данные!$B$72, ISNUMBER(SEARCH("без", G15)), ISNUMBER(SEARCH("VP", G15))), 0, (D15 * E15 / 1000000) * F15) -> 0 | P15: =(R15+S15)*$K$1 -> 0 | Q15: =T15*$K$1 -> 0 | R15: =IFERROR(IF(K15<>"ОК", 0, IF(B15="LT30/31", ((D15 + E15) * 2 / 1000) * F15 * SUMIFS('LT10,30'!$C:$C, 'LT10,30'!$A:$A, "LT30", 'LT10,30'!$B:$B, C15), IF(ISNUMBER(SEARCH("/", B15)), (((D15 + 2 * E15) / 1000) * F15 * SUMIFS('LT10,30'!$C:$C, 'LT10,30'!$A:$A, LEFT(B15, 4), 'LT10,30'!$B:$B, C15)) + ((D15 / 1000) * F15 * SUMIFS('LT10,30'!$C:$C, 'LT10,30'!$A:$A, LEFT(B15, 2) & MID(B15, 6, 2), 'LT10,30'!$B:$B, C15)), ((D15 + E15) * 2 / 1000) * F15 * SUMIFS('LT10,30'!$C:$C, 'LT10,30'!$A:$A, LEFT(B15, 4), 'LT10,30'!$B:$B, C15)))), 0) -> 0 | S15: =IFERROR(IF(K15<>"ОК", 0, F15 * IF(ISNUMBER(SEARCH("VP", G15)), INDEX('LT10,30'!$C:$C, MATCH("Сборка винных полок*", 'LT10,30'!$A:$A, 0)), IF(ISNUMBER(MATCH(B15, Данные!$B$119:$B$120, 0)), INDEX('LT10,30'!$C:$C, MATCH("Сборка световой полки LT10*", 'LT10,30'!$A:$A, 0)), IF(ISNUMBER(SEARCH("30/31", B15)), INDEX('LT10,30'!$C:$C, MATCH("Сборка световой полки LT30/31*", 'LT10,30'!$A:$A, 0)), IF(ISNUMBER(MATCH(B15, Данные!$B$121:$B$123, 0)), INDEX('LT10,30'!$C:$C, MATCH("Сборка световой полки LT30*", 'LT10,30'!$A:$A, 0)), 0))))), 0) -> 0 | T15: =IF(OR(K15<>"ОК", G15="", G15=Данные!$B$72, ISNUMBER(SEARCH("без", G15))), 0, IF(ISNUMBER(SEARCH("VP", G15)), F15 * H15 * ((E15 / 1000) * SUMIF('LT10,30'!$A:$A, G15, 'LT10,30'!$C:$C) + 2), O15 * IF(SUMIFS(СТЕКЛО!$C:$C, СТЕКЛО!$A:$A, G15, СТЕКЛО!$B:$B, "4")>0, SUMIFS(СТЕКЛО!$C:$C, СТЕКЛО!$A:$A, G15, СТЕКЛО!$B:$B, "4"), SUMIF(СТЕКЛО!$A:$A, G15, СТЕКЛО!$C:$C)) + IF(OR(ISNUMBER(SEARCH("30", B15)), ISNUMBER(SEARCH("31", B15)), ISNUMBER(SEARCH("11", B15))), F15 * ((D15 + E15) * 2 / 1000) * IFERROR(VLOOKUP("Полировка кромки стекла", СТЕКЛО!$A:$C, 3, FALSE), 1.42853), 0))) -> 0 | U15: =IF(OR(K15<>"ОК", J15="", J15="Без полкодержателей", ISNUMBER(SEARCH("без", J15))), 0, 4 * F15 * SUMIF('LT10,30'!$A:$A, J15, 'LT10,30'!$C:$C)) -> 0 | V15: 0 | W15: =IF(AND(K15="ОК", I15<>"", I15<>"без закалки"), (O15 * SUMIFS(СТЕКЛО!$C:$C, СТЕКЛО!$A:$A, "Закалка стекла", СТЕКЛО!$B:$B, "4-6 мм")) + (N15 * IF(B15=Данные!$B$119, 2, 1) * SUMIFS(СТЕКЛО!$C:$C, СТЕКЛО!$A:$A, "Шлифовка кромки стекла", СТЕКЛО!$B:$B, "4 мм") * (1 + IF(AND(MIN(D15, E15)>=30, MIN(D15, E15)<=100), 1, 0) + IF(MAX(D15, E15)>=2500, 1, 0))), 0) -> 0
A16: Стоимость заказа: | L16: =SUM(L4:L15) -> 0 | M16: =SUM(M4:M15) -> 0
B18: Серия LT 10/11: Рекомендуемые максимальные размеры полки: 900х400 мм. Монтаж световой полки в шкаф можно осуществить на саморезы через профиль либо на полкодержатели. Для стыковки профилей требуется специальная фрезеровка. В качестве наполнения используется стекло толщиной 4 мм.
B19: Серия LT 30/31: Рекомендуемые максимальные размеры: 1000х500 мм. Монтаж световой полки в шкаф можно осуществить на саморезы через профиль либо на полкодержатели. Для стыковки профилей LT 30 + LT 31 требуется специальная фрезеровка. Для стыковки профилей LT 30 + LT 30 (LT 31 + LT 31) достаточно запилить их под углом 45°. В качестве наполнения используется стекло толщиной 4 мм. Для расчета размера наполнения используется следующая формула: габарит полки минус 6 мм.
B21: *В стоимость работы входит стоимость углов для LT30/31 | G21: ВНИМАНИЕ !
G22: Заказывая у нас алюминиевые фасады и полки, вы подтверждаете, что ознакомились с техническими условиями и требованиями к качеству мебельных фасадов и согласны с ними.
G24: Ссылка на требования: | H24: http://ал-декор.рф/Izgotovlenie-alyuminievih-fasadov/

Sheet Фасады серии MZ,MF
A1: ЗАКАЗ № | D1: КЛИЕНТ | H1: Дата готовности | L1: Упаковка | O1: =AK1 -> 89.05 | Q1: 2 | AK1: 89.05
B2: Параметры фасада | G2: Выбор петель | I2: Выбор наполнения | O2: Проверка | P2: стоимость фасада У НАС, руб | Q2: стоимость фасада, руб | R2: метраж профиля | S2: площадь наполнения | T2: работа + профиль | U2: петли | V2: наполнение | W2: стоимость профиля | X2: стоимость работ | Y2: стоимость втулок | Z2: стоимость наполненния | AA2: стоимость подгонки | AB2: стоимость закалки | AC2: стоимость петель | AD2: стоимость отверстий | AE2: стоимость фолии | AF2: подгонка (Z-12, Z-17, Z-19, Z-20), м.п | AG2: Проверка цвета | AH2: Тег выбранного профиля | AI2: Тег выбранной петли | AJ2: Проверка совместимости | AK2: Примечание | AL2: Вес
B3: Выбор типа профиля | C3: Выбор цвета профиля | D3: Высота фасада | E3: Ширина фасада | F3: Кол-во фасадов | G3: Вид петли | H3: Кол-во петель для 1 фасада | I3: Вид стекла | J3: Дополнительная обработка стекла
J4: защитная фолия | K4: закалка стекла | L4: общее кол-во отверстий в стекле, шт | M4: диаметр отверстий, мм | N4: общее кол-во втулок, шт
A5: 1 | B5: MZ 07 | O5: =IF(OR(B5="", C5="", D5=0, E5=0, F5=0), "Сделайте выбор", IF(OR(D5<200, E5<200), "Мин. размер 200х200!", IF(NOT(AG5), "Ошибка цвета!", IF(IF(ISNUMBER(SEARCH("MF", B5)), SUMIFS(MF!$C:$C, MF!$A:$A, LEFT(B5, 5), MF!$B:$B, C5), SUMIFS(MZ!$C:$C, MZ!$A:$A, B5, MZ!$B:$B, C5))=0, "Нет актуальной цены!", IF(OR(AND(NOT(AJ5), NOT(AND(B5="MZ 04", ISNUMBER(SEARCH("902", G5))))), AND(ISNUMBER(SEARCH("MF20", SUBSTITUTE(G5, " ", ""))), NOT(ISNUMBER(SEARCH("MF 2", B5)))), AND(ISNUMBER(SEARCH("MF50", SUBSTITUTE(G5, " ", ""))), NOT(ISNUMBER(SEARCH("MF 5", B5)))), AND(ISNUMBER(SEARCH("MF70", SUBSTITUTE(G5, " ", ""))), NOT(ISNUMBER(SEARCH("MF 7", B5))))), "Петля не подходит!", IF(AND(K5<>"", K5<>"без закалки", OR(ISNUMBER(SEARCH("MF 2", B5)), ISNUMBER(SEARCH("MF 3", B5)))), "В этом профиле закалка невозможна!", IF(AND(K5<>"", K5<>"без закалки", ISNUMBER(SEARCH("нельзя закаливать", IFERROR(INDEX(Данные!$E:$E, MATCH(I5, Данные!$B:$B, 0)), "")))), "Это наполнение не закаливают!", "ОК"))))))) -> Сделайте выбор | P5: =IF(O5="ОК",SUM(W5:AE5)*$O$1,0) -> 0 | Q5: =(P5-P5*0.2)*$Q$1 -> 0 | R5: =SUM(D5:E5)*2*F5/1000 -> 0 | S5: =IF(OR(I5="", I5="без наполнения"), 0, D5/1000 * E5/1000 * F5) -> 0 | T5: =(W5+X5) * $O$1 -> 0 | U5: =AC5*$O$1 -> 0 | V5: =Z5*$O$1 -> 0 | W5: =IFERROR(IF(O5<>"ОК", 0, IF(NOT(ISNUMBER(SEARCH("MF", B5))), IF(ISNUMBER(SEARCH("13-01", B5)), ((R5 - D5*F5/1000) * SUMIFS(MZ!$C:$C, MZ!$A:$A, "MZ 13", MZ!$B:$B, C5) * 0.732) + (F5 * SUMIFS(MZ!$C:$C, MZ!$A:$A, B5, MZ!$B:$B, C5)), R5 * SUMIFS(MZ!$C:$C, MZ!$A:$A, B5, MZ!$B:$B, C5)), IF((LEN(B5)-LEN(SUBSTITUTE(B5,"/","")))=2, (IF(VLOOKUP(LEFT(B5, 5), MF!$A:$D, 4, 0)="хлыст", F5 * ROUNDUP((E5*2/1000) / VLOOKUP(LEFT(B5, 5), MF!$A:$E, 5, 0), 0), (E5*2*F5/1000)) * SUMIFS(MF!$C:$C, MF!$A:$A, LEFT(B5, 5), MF!$B:$B, C5)) + (IF(VLOOKUP("MF "&MID(B5, 7, 2), MF!$A:$D, 4, 0)="хлыст", F5 * ROUNDUP((D5/1000) / VLOOKUP("MF "&MID(B5, 7, 2), MF!$A:$E, 5, 0), 0), (D5*F5/1000)) * SUMIFS(MF!$C:$C, MF!$A:$A, "MF "&MID(B5, 7, 2), MF!$B:$B, C5)) + (IF(VLOOKUP("MF "&RIGHT(B5, 2), MF!$A:$D, 4, 0)="хлыст", F5 * ROUNDUP((D5/1000) / VLOOKUP("MF "&RIGHT(B5, 2), MF!$A:$E, 5, 0), 0), (D5*F5/1000)) * SUMIFS(MF!$C:$C, MF!$A:$A, "MF "&RIGHT(B5, 2), MF!$B:$B, C5)), IF((LEN(B5)-LEN(SUBSTITUTE(B5,"/","")))=1, (IF(VLOOKUP(LEFT(B5, 5), MF!$A:$D, 4, 0)="хлыст", F5 * ROUNDUP(((R5/F5) - D5/1000) / VLOOKUP(LEFT(B5, 5), MF!$A:$E, 5, 0), 0), (R5 - D5*F5/1000)) * SUMIFS(MF!$C:$C, MF!$A:$A, LEFT(B5, 5), MF!$B:$B, C5)) + (IF(VLOOKUP("MF "&RIGHT(B5, 2), MF!$A:$D, 4, 0)="хлыст", F5 * ROUNDUP((D5/1000) / VLOOKUP("MF "&RIGHT(B5, 2), MF!$A:$E, 5, 0), 0), (D5*F5/1000)) * SUMIFS(MF!$C:$C, MF!$A:$A, "MF "&RIGHT(B5, 2), MF!$B:$B, C5)), IF(VLOOKUP(B5, MF!$A:$D, 4, 0)="хлыст", F5 * ROUNDUP((R5/F5) / VLOOKUP(B5, MF!$A:$E, 5, 0), 0), R5) * SUMIFS(MF!$C:$C, MF!$A:$A, B5, MF!$B:$B, C5))))), 0) -> 0 | X5: =IFERROR(IF(O5<>"ОК", 0, F5 * IF(AND(ISNUMBER(SEARCH("MZ", B5)), ISNUMBER(SEARCH("04", B5)), ISNUMBER(SEARCH("902", G5))), SUMIF(MZ!$A:$A, "Сборка*902*", MZ!$C:$C), IF(ISNUMBER(SEARCH("MF", B5)), IF(ISNUMBER(SEARCH("MF 2", B5)), IF(ISNUMBER(SEARCH("/", B5)), SUMIF(MF!$A:$A, "Сборка фасада MF20/2*", MF!$C:$C), SUMIF(MF!$A:$A, "Сборка фасада MF20", MF!$C:$C)), IF(OR(ISNUMBER(SEARCH("MF 5", B5)), ISNUMBER(SEARCH("MF 7", B5))), SUMIF(MF!$A:$A, "Сборка фасада MF50, MF70*", MF!$C:$C), IF(ISNUMBER(SEARCH("MF 6", B5)), SUMIF(MF!$A:$A, "Сборка фасада MF30, MF60*", MF!$C:$C), IF(ISNUMBER(SEARCH("/", B5)), SUMIF(MF!$A:$A, "Сборка фасада MF30/3*", MF!$C:$C), SUMIF(MF!$A:$A, "Сборка фасада MF30, MF60*", MF!$C:$C))))), SUMIF(MZ!$A:$A, "Сборка+уголки+фрез.под петли*", MZ!$C:$C)))), 0) -> 0 | Y5: =IF(AND(O5="ОК", N5>0), N5 * SUMIFS(СТЕКЛО!$C:$C, СТЕКЛО!$A:$A, "Втулки для отверстий в стекле"), 0) -> 0 | Z5: =IF(O5="ОК", S5 * IFERROR(VLOOKUP(I5, СТЕКЛО!$A:$C, 3, 0), 0), 0) -> 0 | AA5: =IF(O5="ОК", AF5 * SUMIFS(СТЕКЛО!$C:$C, СТЕКЛО!$A:$A, "Подгонка под Z-12, Z-17, Z-19, Z-20"), 0) -> 0 | AB5: =IF(OR(O5<>"ОК", K5="", K5="без закалки", ISNUMBER(SEARCH("без", K5))), 0, ( (MAX(0.3 * F5, S5) * IF(SUMIFS(СТЕКЛО!$C:$C, СТЕКЛО!$A:$A, "*Закалк*", СТЕКЛО!$B:$B, "4*")>0, SUMIFS(СТЕКЛО!$C:$C, СТЕКЛО!$A:$A, "*Закалк*", СТЕКЛО!$B:$B, "4*"), SUMIF(СТЕКЛО!$A:$A, "*Закалк*", СТЕКЛО!$C:$C))) + (R5 * IF(SUMIFS(СТЕКЛО!$C:$C, СТЕКЛО!$A:$A, "*Шлифовк*", СТЕКЛО!$B:$B, "4*")>0, SUMIFS(СТЕКЛО!$C:$C, СТЕКЛО!$A:$A, "*Шлифовк*", СТЕКЛО!$B:$B, "4*"), SUMIF(СТЕКЛО!$A:$A, "*Шлифовк*", СТЕКЛО!$C:$C))) ) * (1 + IF(AND(MIN(D5, E5)>=30, MIN(D5, E5)<=100), 1, 0) + IF(MAX(D5, E5)>=2500, 1, 0)) ) -> 0 | AC5: =IF(OR(O5<>"ОК", G5="", G5="без присадки", G5="без петель", G5="только присадка"), 0, IF(ISNUMBER(SEARCH("MF", B5)), IF(SUMIF(MF!$A:$A, G5, MF!$C:$C)>0, SUMIF(MF!$A:$A, G5, MF!$C:$C), SUMIF(MZ!$A:$A, G5, MZ!$C:$C)), IF(SUMIF(MZ!$A:$A, G5, MZ!$C:$C)>0, SUMIF(MZ!$A:$A, G5, MZ!$C:$C), SUMIF(MF!$A:$A, G5, MF!$C:$C))) * F5 * IF(OR(ISNUMBER(SEARCH("Salice AIR", G5)), ISNUMBER(SEARCH("(2шт)", G5))), H5, H5)) -> 0 | AD5: =IF(AND(O5="ОК", L5>0, M5<>""), L5 * SUMIFS(СТЕКЛО!$C:$C, СТЕКЛО!$A:$A, "Сверление отверстий", СТЕКЛО!$B:$B, M5), 0) -> 0 | AE5: =IF(AND(O5="ОК", J5<>"", J5<>"без оклейки"), S5 * IFERROR(VLOOKUP(J5, СТЕКЛО!$A:$C, 3, 0), 0), 0) -> 0 | AF5: =IF(AND(ISNUMBER(MATCH(B5, {"MZ 12","MZ 17","MZ 19","MZ 20","MZ 20/21","MZ 20/22","MZ 20/25"}, 0)), I5<>"", I5<>"без наполнения"), R5, 0) -> 0 | AG5: =IF((COUNTIFS(MZ!$A:$A, B5, MZ!$B:$B, C5) + COUNTIFS(MF!$A:$A, B5, MF!$B:$B, C5))>0, TRUE, FALSE) -> FALSE | AH5: =IFERROR(VLOOKUP(B5, Данные!$B:$C, 2, 0), "") -> узкий | AI5: =IFERROR(VLOOKUP(G5, Данные!$B:$C, 2, 0), "") | AJ5: =IF(G5="без присадки", IF(IFERROR(VLOOKUP(B5, Данные!$B:$D, 3, 0), "")="можно без присадки", TRUE, FALSE), IF(OR(AH5=AI5, AI5="любой", G5="только присадка", G5=""), TRUE, FALSE)) -> TRUE | AL5: =IF(OR(I5="", I5="без наполнения"), R5 * (3/6), S5 * (40/4.09) + R5 * (3/6)) -> 0
