Workbook
Name ВИД_С_ЛИЦЕВОЙ_СТОРОНЫ: 'Схема присадки фасадов'!$V$31:$AO$59
Name курс: 'Фасады серии MZ,MF'!$O$4
Name курсLT: 'Световые полки LT10,11 LT30,31'!$K$3

Sheet Данные
A1: Тип профиля | B1: MZ 01 | C1: узкий | D1: можно без присадки
B2: MZ 02 | C2: узкий
B3: MZ 04 | C3: широкий | D3: можно без присадки
B4: MZ 07 | C4: узкий
B5: MZ 09 | C5: широкий
B6: MZ 10 | C6: широкий
B7: MZ 12 | C7: широкий
B8: MZ 13 | C8: широкий | D8: можно без присадки
B9: MZ 13-01 | C9: широкий | D9: можно без присадки
B10: MZ 17 | C10: широкий
B11: MF 20
B12: MF 30 | C12: узкий | D12: можно без присадки
B13: MF 20/21
B14: MF 30/31 | C14: узкий | D14: можно без присадки
B15: MF 20/22
B16: MF 30/32 | C16: узкий | D16: можно без присадки
B17: MF 20/25
B18: MF 30/33 | C18: узкий | D18: можно без присадки
B19: MF 30/34 | C19: узкий | D19: можно без присадки
B20: MF 30/35 | C20: узкий | D20: можно без присадки
B21: MF 50/51/52
B22: MF 60/61/62 | C22: широкий | D22: можно без присадки
B23: MF 70/71/72
A24: Цвет профиля | B24: серебро А00
B25: шампань А06
B26: коньяк А07
B27: белый А16
B28: белый матовый Р11
B29: титан А18
B30: серебро браш АВ00
B31: шампань браш АВ06
B32: золото браш АВ20
B33: черный браш АВ05
B34: черный матовый А05
B35: латунь АВ21
B36: инокс АВ04
A37: петли | B37: только присадка | C37: любой
B38: без присадки | C38: любой
B39: Blum Накл(уз.пр) clip top blumotion 71B950A никель | C39: узкий
B40: Blum Накл(уз.пр) clip top 71T950A никель | C40: узкий
B41: Blum Накл(уз.пр) clip top 71T950A черный | C41: узкий
B42: Blum Накл(уз.пр) без пружины clip top 70T950A.TL никель | C42: узкий
B43: Blum Накл(уз.пр) без пружины clip top 70T950A.TL черный | C43: узкий
B44: Blum Полунакл(уз.пр) clip top blumotion 71B960A никель | C44: узкий
B45: Blum Полунакл(уз.пр) clip top 71T960A никель | C45: узкий
B46: Blum Вкладн(уз.пр) clip top blumotion 71B970A никель | C46: узкий
B47: Blum Вкладн(уз.пр) clip top 71T970A никель | C47: узкий
B48: Blum Накл(шир.пр) clip top blumotion 71B3550 никель | C48: широкий
B49: Blum Накл(шир.пр) clip top blumotion 71B3550 черный | C49: широкий
... B61: Hettich Накл(уз.пр) с доводчиком черный | C61: узкий
B62: Петля MODUS серии MF20 (2шт) Soft черный
B63: Петля MODUS серии MF20 (2шт) Soft никель
B64: Salice AIR Push для MF20, титан
B65: Salice AIR Push для MF20, никель
B66: Петля серии MF50 270* (2шт) черный матовый
B67: Петля серии MF50 270* (2шт) латунь
B68: Петля серии MF70 270* (2шт) черный матовый
B69: Петля серии MF70 270* (2шт) латунь
B70: MZF 63 Накл(уз.пр) с доводчиком темный графит | C70: узкий
B71: Присадка под Т902
A72: варианты наполнения | B72: без наполнения
B73: Стекло прозрачное
B74: Стекло тонированное СЕРОЕ
B75: Стекло тонированное БРОНЗА
B76: Стекло тонированное DARK GREY
B77: Стекло осветленное
B78: Стекло рифленое Raywall 90
B79: Стекло рифленое Flutelite-B
B80: Стекло Aqualite
B81: Стекло Flurelit-S
B82: Стекло Kathedral Klein
B83: Стекло Gothic
B84: Стекло Stopsol Classic Clear
... B89: Стекло Stopsol Phoenix Bronze
B90: Стекло Мателак 9003 | E90: нельзя закаливать
B91: Стекло Мателак 1013 | E91: нельзя закаливать
B92: Стекло матовое Мателюкс | E92: нельзя закаливать
B93: Стекло матовое Мателюкс серое | E93: нельзя закаливать
B94: Стекло матовое Мателюкс бронза | E94: нельзя закаливать
B95: Стекло матовое Мателюкс осветленное | E95: нельзя закаливать
B96: Стекло Лакобель 9010 | E96: нельзя закаливать
B97: Стекло Лакобель 9005 | E97: нельзя закаливать
B98: Стекло Лакобель 9003 | E98: нельзя закаливать
B99: Стекло Лакобель 7013 | E99: нельзя закаливать
B100: Стекло Лакобель 1236 | E100: нельзя закаливать
B101: Стекло Лакобель 1015 | E101: нельзя закаливать
... B111: Стекло Сталь серая (ШПИОН) | E111: нельзя закаливать
A112: винные полки | B112: Профиль-трубка VP 16 черный матовый A05 | E112: нельзя закаливать
B113: Профиль-трубка VP 16 латунь АВ21 | E113: нельзя закаливать
A114: Защитная фолия | B114: оклейка фолией
B115: без оклейки
A116: Диаметр отверстий в стекле | B116: D=7мм
B117: D=8мм
A118: Проверка | B118: ОК
A119: тип профиля | B119: LT10
B120: LT10/11 (подсветка по передней стороне)
B121: LT30 (без подсветки)
B122: LT31 (подсветка по периметру)
B123: LT30/31 (подсветка по передней стороне)
A124: цвет профиля | B124: серебро А00
...

Sheet Световые полки LT10,11 LT30,31
A1: ЗАКАЗ № | D1: КЛИЕНТ | G1: Дата готовности | I1: Упаковка | K1: =X1 -> 89.05 | M1: 2 | X1: 89.05
B2: Параметры изделия | K2: Проверка | L2: стоимость фасада MODUS, руб | M2: стоимость фасада, руб | N2: метраж профиля | O2: площадь наполнения | P2: профиль + работа | Q2: наполнение | R2: стоимость профиля | S2: стоимость работ | T2: стоимость наполнения | U2: стоимость полкодержателей | V2: стоимость шлифовки | W2: стоимость закалки | X2: Примечания
B3: тип профиля | C3: выбор цвета профиля | D3: ширина полки, мм | E3: глубина полки, мм | F3: кол-во полок, шт | G3: вид наполнения | H3: количество трубок (для винных полок) | I3: закалка стекла | J3: полкодержатели
A4: 1 | B4: LT10 | K4: =IF(OR(B4="", C4="", D4=0, E4=0, F4=0), "Сделайте выбор", IF(OR(D4<200, E4<200), "Мин. размер 200х200!", IF(AND(G4<>"", ISNUMBER(SEARCH("VP", G4)), NOT(ISNUMBER(SEARCH("LT3", B4)))), "Трубки VP16 только для LT30/LT31!", IF(AND(J4<>"", NOT(ISNUMBER(SEARCH("Без полкодержателей", J4))), ISNUMBER(SEARCH("LT31", B4)), NOT(ISNUMBER(SEARCH("/", B4)))), "Полкодержатель не подходит для LT31!", IF(IF(ISNUMBER(SEARCH("/", B4)), MIN( COUNTIFS('LT10,30'!$A:$A, LEFT(B4, 4) & "*", 'LT10,30'!$B:$B, C4), COUNTIFS('LT10,30'!$A:$A, LEFT(B4, 2) & MID(B4, 6, 2) & "*", 'LT10,30'!$B:$B, C4) ), COUNTIFS('LT10,30'!$A:$A, LEFT(B4, 4) & "*", 'LT10,30'!$B:$B, C4) )=0, "Ошибка цвета!", IF(IF(ISNUMBER(SEARCH("/", B4)), MIN( SUMIFS('LT10,30'!$C:$C, 'LT10,30'!$A:$A, LEFT(B4, 4) & "*", 'LT10,30'!$B:$B, C4), SUMIFS('LT10,30'!$C:$C, 'LT10,30'!$A:$A, LEFT(B4, 2) & MID(B4, 6, 2) & "*", 'LT10,30'!$B:$B, C4) ), SUMIFS('LT10,30'!$C:$C, 'LT10,30'!$A:$A, LEFT(B4, 4) & "*", 'LT10,30'!$B:$B, C4) )=0, "Нет цены!", IF(AND(I4<>"", I4<>"без закалки", OR(ISNUMBER(SEARCH("VP", G4)), ISNUMBER(SEARCH("нельзя закаливать", IFERROR(INDEX(Данные!$E:$E, MATCH(G4, Данные!$B:$B, 0)), ""))))), "Это наполнение не закаливают!", "ОК"))))))) -> Сделайте выбор | L4: =IF(K4<>"ОК",0,SUM(R4:W4)*$K$1) -> 0 | M4: =(L4-L4*0.2)*$M$1 -> 0 | N4: =IF(K4<>"ОК", 0, (D4 + E4) * 2 * F4 / 1000) -> 0 | O4: =IF(OR(K4<>"ОК", G4="", G4=Данные!$B$72, ISNUMBER(SEARCH("без", G4)), ISNUMBER(SEARCH("VP", G4))), 0, (D4 * E4 / 1000000) * F4) -> 0 | P4: =(R4+S4)*$K$1 -> 0 | Q4: =T4*$K$1 -> 0 | R4: =IFERROR(IF(K4<>"ОК", 0, IF(B4="LT30/31", ((D4 + E4) * 2 / 1000) * F4 * SUMIFS('LT10,30'!$C:$C, 'LT10,30'!$A:$A, "LT30", 'LT10,30'!$B:$B, C4), IF(ISNUMBER(SEARCH("/", B4)), (((D4 + 2 * E4) / 1000) * F4 * SUMIFS('LT10,30'!$C:$C, 'LT10,30'!$A:$A, LEFT(B4, 4), 'LT10,30'!$B:$B, C4)) + ((D4 / 1000) * F4 * SUMIFS('LT10,30'!$C:$C, 'LT10,30'!$A:$A, LEFT(B4, 2) & MID(B4, 6, 2), 'LT10,30'!$B:$B, C4)), ((D4 + E4) * 2 / 1000) * F4 * SUMIFS('LT10,30'!$C:$C, 'LT10,30'!$A:$A, LEFT(B4, 4), 'LT10,30'!$B:$B, C4)))), 0) -> 0 | S4: =IFERROR(IF(K4<>"ОК", 0, F4 * IF(ISNUMBER(SEARCH("VP", G4)), INDEX('LT10,30'!$C:$C, MATCH("Сборка винных полок*", 'LT10,30'!$A:$A, 0)), IF(ISNUMBER(MATCH(B4, Данные!$B$119:$B$120, 0)), INDEX('LT10,30'!$C:$C, MATCH("Сборка световой полки LT10*", 'LT10,30'!$A:$A, 0)), IF(ISNUMBER(SEARCH("30/31", B4)), INDEX('LT10,30'!$C:$C, MATCH("Сборка световой полки LT30/31*", 'LT10,30'!$A:$A, 0)), IF(ISNUMBER(MATCH(B4, Данные!$B$121:$B$123, 0)), INDEX('LT10,30'!$C:$C, MATCH("Сборка световой полки LT30*", 'LT10,30'!$A:$A, 0)), 0))))), 0) -> 0 | T4: =IF(OR(K4<>"ОК", G4="", G4=Данные!$B$72, ISNUMBER(SEARCH("без", G4))), 0, IF(ISNUMBER(SEARCH("VP", G4)), F4 * H4 * ((E4 / 1000) * SUMIF('LT10,30'!$A:$A, G4, 'LT10,30'!$C:$C) + 2), O4 * IF(SUMIFS(СТЕКЛО!$C:$C, СТЕКЛО!$A:$A, G4, СТЕКЛО!$B:$B, "4")>0, SUMIFS(СТЕКЛО!$C:$C, СТЕКЛО!$A:$A, G4, СТЕКЛО!$B:$B, "4"), SUMIF(СТЕКЛО!$A:$A, G4, СТЕКЛО!$C:$C)) + IF(OR(ISNUMBER(SEARCH("30", B4)), ISNUMBER(SEARCH("31", B4)), ISNUMBER(SEARCH("11", B4))), F4 * ((D4 + E4) * 2 / 1000) * IFERROR(VLOOKUP("Полировка кромки стекла", СТЕКЛО!$A:$C, 3, FALSE), 1.42853), 0))) -> 0 | U4: =IF(OR(K4<>"ОК", J4="", J4="Без полкодержателей", ISNUMBER(SEARCH("без", J4))), 0, 4 * F4 * SUMIF('LT10,30'!$A:$A, J4, 'LT10,30'!$C:$C)) -> 0 | V4: 0 | W4: =IF(AND(K4="ОК", I4<>"", I4<>"без закалки"), (O4 * SUMIFS(СТЕКЛО!$C:$C, СТЕКЛО!$A:$A, "Закалка стекла", СТЕКЛО!$B:$B, "4-6 мм")) + (N4 * IF(B4=Данные!$B$119, 2, 1) * SUMIFS(СТЕКЛО!$C:$C, СТЕКЛО!$A:$A, "Шлифовка кромки стекла", СТЕКЛО!$B:$B, "4 мм") * (1 + IF(AND(MIN(D4, E4)>=30, MIN(D4, E4)<=100), 1, 0) + IF(MAX(D4, E4)>=2500, 1, 0))), 0) -> 0
A5: 2 | K5: =IF(OR(B5="", C5="", D5=0, E5=0, F5=0), "Сделайте выбор", IF(OR(D5<200, E5<200), "Мин. размер 200х200!", IF(AND(G5<>"", ISNUMBER(SEARCH("VP", G5)), NOT(ISNUMBER(SEARCH("LT3", B5)))), "Трубки VP16 только для LT30/LT31!", IF(AND(J5<>"", NOT(ISNUMBER(SEARCH("Без полкодержателей", J5))), ISNUMBER(SEARCH("LT31", B5)), NOT(ISNUMBER(SEARCH("/", B5)))), "Полкодержатель не подходит для LT31!", IF(IF(ISNUMBER(SEARCH("/", B5)), MIN( COUNTIFS('LT10,30'!$A:$A, LEFT(B5, 4) & "*", 'LT10,30'!$B:$B, C5), COUNTIFS('LT10,30'!$A:$A, LEFT(B5, 2) & MID(B5, 6, 2) & "*", 'LT10,30'!$B:$B, C5) ), COUNTIFS('LT10,30'!$A:$A, LEFT(B5, 4) & "*", 'LT10,30'!$B:$B, C5) )=0, "Ошибка цвета!", IF(IF(ISNUMBER(SEARCH("/", B5)), MIN( SUMIFS('LT10,30'!$C:$C, 'LT10,30'!$A:$A, LEFT(B5, 4) & "*", 'LT10,30'!$B:$B, C5), SUMIFS('LT10,30'!$C:$C, 'LT10,30'!$A:$A, LEFT(B5, 2) & MID(B5, 6, 2) & "*", 'LT10,30'!$B:$B, C5) ), SUMIFS('LT10,30'!$C:$C, 'LT10,30'!$A:$A, LEFT(B5, 4) & "*", 'LT10,30'!$B:$B, C5) )=0, "Нет цены!", IF(AND(I5<>"", I5<>"без закалки", OR(ISNUMBER(SEARCH("VP", G5)), ISNUMBER(SEARCH("нельзя закаливать", IFERROR(INDEX(Данные!$E:$E, MATCH(G5, Данные!$B:$B, 0)), ""))))), "Это наполнение не закаливают!", "ОК"))))))) -> Сделайте выбор | L5: =IF(K5<>"ОК",0,SUM(R5:W5)*$K$1) -> 0 | M5: =(L5-L5*0.2)*$M$1 -> 0 | N5: =IF(K5<>"ОК", 0, (D5 + E5) * 2 * F5 / 1000) -> 0 | O5: =IF(OR(K5<>"ОК", G5="", G5=Данные!$B$72, ISNUMBER(SEARCH("без", G5)), ISNUMBER(SEARCH("VP", G5))), 0, (D5 * E5 / 1000000) * F5) -> 0 | P5: =(R5+S5)*$K$1 -> 0 | Q5: =T5*$K$1 -> 0 | R5: =IFERROR(IF(K5<>"ОК", 0, IF(B5="LT30/31", ((D5 + E5) * 2 / 1000) * F5 * SUMIFS('LT10,30'!$C:$C, 'LT10,30'!$A:$A, "LT30", 'LT10,30'!$B:$B, C5), IF(ISNUMBER(SEARCH("/", B5)), (((D5 + 2 * E5) / 1000) * F5 * SUMIFS('LT10,30'!$C:$C, 'LT10,30'!$A:$A, LEFT(B5, 4), 'LT10,30'!$B:$B, C5)) + ((D5 / 1000) * F5 * SUMIFS('LT10,30'!$C:$C, 'LT10,30'!$A:$A, LEFT(B5, 2) & MID(B5, 6, 2), 'LT10,30'!$B:$B, C5)), ((D5 + E5) * 2 / 1000) * F5 * SUMIFS('LT10,30'!$C:$C, 'LT10,30'!$A:$A, LEFT(B5, 4), 'LT10,30'!$B:$B, C5)))), 0) -> 0 | S5: =IFERROR(IF(K5<>"ОК", 0, F5 * IF(ISNUMBER(SEARCH("VP", G5)), INDEX('LT10,30'!$C:$C, MATCH("Сборка винных полок*", 'LT10,30'!$A:$A, 0)), IF(ISNUMBER(MATCH(B5, Данные!$B$119:$B$120, 0)), INDEX('LT10,30'!$C:$C, MATCH("Сборка световой полки LT10*", 'LT10,30'!$A:$A, 0)), IF(ISNUMBER(SEARCH("30/31", B5)), INDEX('LT10,30'!$C:$C, MATCH("Сборка световой полки LT30/31*", 'LT10,30'!$A:$A, 0)), IF(ISNUMBER(MATCH(B5, Данные!$B$121:$B$123, 0)), INDEX('LT10,30'!$C:$C, MATCH("Сборка световой полки LT30*", 'LT10,30'!$A:$A, 0)), 0))))), 0) -> 0 | T5: =IF(OR(K5<>"ОК", G5="", G5=Данные!$B$72, ISNUMBER(SEARCH("без", G5))), 0, IF(ISNUMBER(SEARCH("VP", G5)), F5 * H5 * ((E5 / 1000) * SUMIF('LT10,30'!$A:$A, G5, 'LT10,30'!$C:$C) + 2), O5 * IF(SUMIFS(СТЕКЛО!$C:$C, СТЕКЛО!$A:$A, G5, СТЕКЛО!$B:$B, "4")>0, SUMIFS(СТЕКЛО!$C:$C, СТЕКЛО!$A:$A, G5, СТЕКЛО!$B:$B, "4"), SUMIF(СТЕКЛО!$A:$A, G5, СТЕКЛО!$C:$C)) + IF(OR(ISNUMBER(SEARCH("30", B5)), ISNUMBER(SEARCH("31", B5)), ISNUMBER(SEARCH("11", B5))), F5 * ((D5 + E5) * 2 / 1000) * IFERROR(VLOOKUP("Полировка кромки стекла", СТЕКЛО!$A:$C, 3, FALSE), 1.42853), 0))) -> 0 | U5: =IF(OR(K5<>"ОК", J5="", J5="Без полкодержателей", ISNUMBER(SEARCH("без", J5))), 0, 4 * F5 * SUMIF('LT10,30'!$A:$A, J5, 'LT10,30'!$C:$C)) -> 0 | V5: 0 | W5: =IF(AND(K5="ОК", I5<>"", I5<>"без закалки"), (O5 * SUMIFS(СТЕКЛО!$C:$C, СТЕКЛО!$A:$A, "Закалка стекла", СТЕКЛО!$B:$B, "4-6 мм")) + (N5 * IF(B5=Данные!$B$119, 2, 1) * SUMIFS(СТЕКЛО!$C:$C, СТЕКЛО!$A:$A, "Шлифовка кромки стекла", СТЕКЛО!$B:$B, "4 мм") * (1 + IF(AND(MIN(D5, E5)>=30, MIN(D5, E5)<=100), 1, 0) + IF(MAX(D5, E5)>=2500, 1, 0))), 0) -> 0
A6: 3 | K6: =IF(OR(B6="", C6="", D6=0, E6=0, F6=0), "Сделайте выбор", IF(OR(D6<200, E6<200), "Мин. размер 200х200!", IF(AND(G6<>"", ISNUMBER(SEARCH("VP", G6)), NOT(ISNUMBER(SEARCH("LT3", B6)))), "Трубки VP16 только для LT30/LT31!", IF(AND(J6<>"", NOT(ISNUMBER(SEARCH("Без полкодержателей", J6))), ISNUMBER(SEARCH("LT31", B6)), NOT(ISNUMBER(SEARCH("/", B6)))), "Полкодержатель не подходит для LT31!", IF(IF(ISNUMBER(SEARCH("/", B6)), MIN( COUNTIFS('LT10,30'!$A:$A, LEFT(B6, 4) & "*", 'LT10,30'!$B:$B, C6), COUNTIFS('LT10,30'!$A:$A, LEFT(B6, 2) & MID(B6, 6, 2) & "*", 'LT10,30'!$B:$B, C6) ), COUNTIFS('LT10,30'!$A:$A, LEFT(B6, 4) & "*", 'LT10,30'!$B:$B, C6) )=0, "Ошибка цвета!", IF(IF(ISNUMBER(SEARCH("/", B6)), MIN( SUMIFS('LT10,30'!$C:$C, 'LT10,30'!$A:$A, LEFT(B6, 4) & "*", 'LT10,30'!$B:$B, C6), SUMIFS('LT10,30'!$C:$C, 'LT10,30'!$A:$A, LEFT(B6, 2) & MID(B6, 6, 2) & "*", 'LT10,30'!$B:$B, C6) ), SUMIFS('LT10,30'!$C:$C, 'LT10,30'!$A:$A, LEFT(B6, 4) & "*", 'LT10,30'!$B:$B, C6) )=0, "Нет цены!", IF(AND(I6<>"", I6<>"без закалки", OR(ISNUMBER(SEARCH("VP", G6)), ISNUMBER(SEARCH("нельзя закаливать", IFERROR(INDEX(Данные!$E:$E, MATCH(G6, Данные!$B:$B, 0)), ""))))), "Это наполнение не закаливают!", "ОК"))))))) -> Сделайте выбор | L6: =IF(K6<>"ОК",0,SUM(R6:W6)*$K$1) -> 0 | M6: =(L6-L6*0.2)*$M$1 -> 0 | N6: =IF(K6<>"ОК", 0, (D6 + E6) * 2 * F6 / 1000) -> 0 | O6: =IF(OR(K6<>"ОК", G6="", G6=Данные!$B$72, ISNUMBER(SEARCH("без", G6)), ISNUMBER(SEARCH("VP", G6))), 0, (D6 * E6 / 1000000) * F6) -> 0 | P6: =(R6+S6)*$K$1 -> 0 | Q6: =T6*$K$1 -> 0 | R6: =IFERROR(IF(K6<>"ОК", 0, IF(B6="LT30/31", ((D6 + E6) * 2 / 1000) * F6 * SUMIFS('LT10,30'!$C:$C, 'LT10,30'!$A:$A, "LT30", 'LT10,30'!$B:$B, C6), IF(ISNUMBER(SEARCH("/", B6)), (((D6 + 2 * E6) / 1000) * F6 * SUMIFS('LT10,30'!$C:$C, 'LT10,30'!$A:$A, LEFT(B6, 4), 'LT10,30'!$B:$B, C6)) + ((D6 / 1000) * F6 * SUMIFS('LT10,30'!$C:$C, 'LT10,30'!$A:$A, LEFT(B6, 2) & MID(B6, 6, 2), 'LT10,30'!$B:$B, C6)), ((D6 + E6) * 2 / 1000) * F6 * SUMIFS('LT10,30'!$C:$C, 'LT10,30'!$A:$A, LEFT(B6, 4), 'LT10,30'!$B:$B, C6)))), 0) -> 0 | S6: =IFERROR(IF(K6<>"ОК", 0, F6 * IF(ISNUMBER(SEARCH("VP", G6)), INDEX('LT10,30'!$C:$C, MATCH("Сборка винных полок*", 'LT10,30'!$A:$A, 0)), IF(ISNUMBER(MATCH(B6, Данные!$B$119:$B$120, 0)), INDEX('LT10,30'!$C:$C, MATCH("Сборка световой полки LT10*", 'LT10,30'!$A:$A, 0)), IF(ISNUMBER(SEARCH("30/31", B6)), INDEX('LT10,30'!$C:$C, MATCH("Сборка световой полки LT30/31*", 'LT10,30'!$A:$A, 0)), IF(ISNUMBER(MATCH(B6, Данные!$B$121:$B$123, 0)), INDEX('LT10,30'!$C:$C, MATCH("Сборка световой полки LT30*", 'LT10,30'!$A:$A, 0)), 0))))), 0) -> 0 | T6: =IF(OR(K6<>"ОК", G6="", G6=Данные!$B$72, ISNUMBER(SEARCH("без", G6))), 0, IF(ISNUMBER(SEARCH("VP", G6)), F6 * H6 * ((E6 / 1000) * SUMIF('LT10,30'!$A:$A, G6, 'LT10,30'!$C:$C) + 2), O6 * IF(SUMIFS(СТЕКЛО!$C:$C, СТЕКЛО!$A:$A, G6, СТЕКЛО!$B:$B, "4")>0, SUMIFS(СТЕКЛО!$C:$C, СТЕКЛО!$A:$A, G6, СТЕКЛО!$B:$B, "4"), SUMIF(СТЕКЛО!$A:$A, G6, СТЕКЛО!$C:$C)) + IF(OR(ISNUMBER(SEARCH("30", B6)), ISNUMBER(SEARCH("31", B6)), ISNUMBER(SEARCH("11", B6))), F6 * ((D6 + E6) * 2 / 1000) * IFERROR(VLOOKUP("Полировка кромки стекла", СТЕКЛО!$A:$C, 3, FALSE), 1.42853), 0))) -> 0 | U6: =IF(OR(K6<>"ОК", J6="", J6="Без полкодержателей", ISNUMBER(SEARCH("без", J6))), 0, 4 * F6 * SUMIF('LT10,30'!$A:$A, J6, 'LT10,30'!$C:$C)) -> 0 | V6: 0 | W6: =IF(AND(K6="ОК", I6<>"", I6<>"без закалки"), (O6 * SUMIFS(СТЕКЛО!$C:$C, СТЕКЛО!$A:$A, "Закалка стекла", СТЕКЛО!$B:$B, "4-6 мм")) + (N6 * IF(B6=Данные!$B$119, 2, 1) * SUMIFS(СТЕКЛО!$C:$C, СТЕКЛО!$A:$A, "Шлифовка кромки стекла", СТЕКЛО!$B:$B, "4 мм") * (1 + IF(AND(MIN(D6, E6)>=30, MIN(D6, E6)<=100), 1, 0) + IF(MAX(D6, E6)>=2500, 1, 0))), 0) -> 0
A7: 4 | K7: =IF(OR(B7="", C7="", D7=0, E7=0, F7=0), "Сделайте выбор", IF(OR(D7<200, E7<200), "Мин. размер 200х200!", IF(AND(G7<>"", ISNUMBER(SEARCH("VP", G7)), NOT(ISNUMBER(SEARCH("LT3", B7)))), "Трубки VP16 только для LT30/LT31!", IF(AND(J7<>"", NOT(ISNUMBER(SEARCH("Без полкодержателей", J7))), ISNUMBER(SEARCH("LT31", B7)), NOT(ISNUMBER(SEARCH("/", B7)))), "Полкодержатель не подходит для LT31!", IF(IF(ISNUMBER(SEARCH("/", B7)), MIN( COUNTIFS('LT10,30'!$A:$A, LEFT(B7, 4) & "*", 'LT10,30'!$B:$B, C7), COUNTIFS('LT10,30'!$A:$A, LEFT(B7, 2) & MID(B7, 6, 2) & "*", 'LT10,30'!$B:$B, C7) ), COUNTIFS('LT10,30'!$A:$A, LEFT(B7, 4) & "*", 'LT10,30'!$B:$B, C7) )=0, "Ошибка цвета!", IF(IF(ISNUMBER(SEARCH("/", B7)), MIN( SUMIFS('LT10,30'!$C:$C, 'LT10,30'!$A:$A, LEFT(B7, 4) & "*", 'LT10,30'!$B:$B, C7), SUMIFS('LT10,30'!$C:$C, 'LT10,30'!$A:$A, LEFT(B7, 2) & MID(B7, 6, 2) & "*", 'LT10,30'!$B:$B, C7) ), SUMIFS('LT10,30'!$C:$C, 'LT10,30'!$A:$A, LEFT(B7, 4) & "*", 'LT10,30'!$B:$B, C7) )=0, "Нет цены!", IF(AND(I7<>"", I7<>"без закалки", OR(ISNUMBER(SEARCH("VP", G7)), ISNUMBER(SEARCH("нельзя закаливать", IFERROR(INDEX(Данные!$E:$E, MATCH(G7, Данные!$B:$B, 0)), ""))))), "Это наполнение не закаливают!", "ОК"))))))) -> Сделайте выбор | L7: =IF(K7<>"ОК",0,SUM(R7:W7)*$K$1) -> 0 | M7: =(L7-L7*0.2)*$M$1 -> 0 | N7: =IF(K7<>"ОК", 0, (D7 + E7) * 2 * F7 / 1000) -> 0 | O7: =IF(OR(K7<>"ОК", G7="", G7=Данные!$B$72, ISNUMBER(SEARCH("без", G7)), ISNUMBER(SEARCH("VP", G7))), 0, (D7 * E7 / 1000000) * F7) -> 0 | P7: =(R7+S7)*$K$1 -> 0 | Q7: =T7*$K$1 -> 0 | R7: =IFERROR(IF(K7<>"ОК", 0, IF(B7="LT30/31", ((D7 + E7) * 2 / 1000) * F7 * SUMIFS('LT10,30'!$C:$C, 'LT10,30'!$A:$A, "LT30", 'LT10,30'!$B:$B, C7), IF(ISNUMBER(SEARCH("/", B7)), (((D7 + 2 * E7) / 1000) * F7 * SUMIFS('LT10,30'!$C:$C, 'LT10,30'!$A:$A, LEFT(B7, 4), 'LT10,30'!$B:$B, C7)) + ((D7 / 1000) * F7 * SUMIFS('LT10,30'!$C:$C, 'LT10,30'!$A:$A, LEFT(B7, 2) & MID(B7, 6, 2), 'LT10,30'!$B:$B, C7)), ((D7 + E7) * 2 / 1000) * F7 * SUMIFS('LT10,30'!$C:$C, 'LT10,30'!$A:$A, LEFT(B7, 4), 'LT10,30'!$B:$B, C7)))), 0) -> 0 | S7: =IFERROR(IF(K7<>"ОК", 0, F7 * IF(ISNUMBER(SEARCH("VP", G7)), INDEX('LT10,30'!$C:$C, MATCH("Сборка винных полок*", 'LT10,30'!$A:$A, 0)), IF(ISNUMBER(MATCH(B7, Данные!$B$119:$B$120, 0)), INDEX('LT10,30'!$C:$C, MATCH("Сборка световой полки LT10*", 'LT10,30'!$A:$A, 0)), IF(ISNUMBER(SEARCH("30/31", B7)), INDEX('LT10,30'!$C:$C, MATCH("Сборка световой полки LT30/31*", 'LT10,30'!$A:$A, 0)), IF(ISNUMBER(MATCH(B7, Данные!$B$121:$B$123, 0)), INDEX('LT10,30'!$C:$C, MATCH("Сборка световой полки LT30*", 'LT10,30'!$A:$A, 0)), 0))))), 0) -> 0 | T7: =IF(OR(K7<>"ОК", G7="", G7=Данные!$B$72, ISNUMBER(SEARCH("без", G7))), 0, IF(ISNUMBER(SEARCH("VP", G7)), F7 * H7 * ((E7 / 1000) * SUMIF('LT10,30'!$A:$A, G7, 'LT10,30'!$C:$C) + 2), O7 * IF(SUMIFS(СТЕКЛО!$C:$C, СТЕКЛО!$A:$A, G7, СТЕКЛО!$B:$B, "4")>0, SUMIFS(СТЕКЛО!$C:$C, СТЕКЛО!$A:$A, G7, СТЕКЛО!$B:$B, "4"), SUMIF(СТЕКЛО!$A:$A, G7, СТЕКЛО!$C:$C)) + IF(OR(ISNUMBER(SEARCH("30", B7)), ISNUMBER(SEARCH("31", B7)), ISNUMBER(SEARCH("11", B7))), F7 * ((D7 + E7) * 2 / 1000) * IFERROR(VLOOKUP("Полировка кромки стекла", СТЕКЛО!$A:$C, 3, FALSE), 1.42853), 0))) -> 0 | U7: =IF(OR(K7<>"ОК", J7="", J7="Без полкодержателей", ISNUMBER(SEARCH("без", J7))), 0, 4 * F7 * SUMIF('LT10,30'!$A:$A, J7, 'LT10,30'!$C:$C)) -> 0 | V7: 0 | W7: =IF(AND(K7="ОК", I7<>"", I7<>"без закалки"), (O7 * SUMIFS(СТЕКЛО!$C:$C, СТЕКЛО!$A:$A, "Закалка стекла", СТЕКЛО!$B:$B, "4-6 мм")) + (N7 * IF(B7=Данные!$B$119, 2, 1) * SUMIFS(СТЕКЛО!$C:$C, СТЕКЛО!$A:$A, "Шлифовка кромки стекла", СТЕКЛО!$B:$B, "4 мм") * (1 + IF(AND(MIN(D7, E7)>=30, MIN(D7, E7)<=100), 1, 0) + IF(MAX(D7, E7)>=2500, 1, 0))), 0) -> 0
A8: 5 | K8: =IF(OR(B8="", C8="", D8=0, E8=0, F8=0), "Сделайте выбор", IF(OR(D8<200, E8<200), "Мин. размер 200х200!", IF(AND(G8<>"", ISNUMBER(SEARCH("VP", G8)), NOT(ISNUMBER(SEARCH("LT3", B8)))), "Трубки VP16 только для LT30/LT31!", IF(AND(J8<>"", NOT(ISNUMBER(SEARCH("Без полкодержателей", J8))), ISNUMBER(SEARCH("LT31", B8)), NOT(ISNUMBER(SEARCH("/", B8)))), "Полкодержатель не подходит для LT31!", IF(IF(ISNUMBER(SEARCH("/", B8)), MIN( COUNTIFS('LT10,30'!$A:$A, LEFT(B8, 4) & "*", 'LT10,30'!$B:$B, C8), COUNTIFS('LT10,30'!$A:$A, LEFT(B8, 2) & MID(B8, 6, 2) & "*", 'LT10,30'!$B:$B, C8) ), COUNTIFS('LT10,30'!$A:$A, LEFT(B8, 4) & "*", 'LT10,30'!$B:$B, C8) )=0, "Ошибка цвета!", IF(IF(ISNUMBER(SEARCH("/", B8)), MIN( SUMIFS('LT10,30'!$C:$C, 'LT10,30'!$A:$A, LEFT(B8, 4) & "*", 'LT10,30'!$B:$B, C8), SUMIFS('LT10,30'!$C:$C, 'LT10,30'!$A:$A, LEFT(B8, 2) & MID(B8, 6, 2) & "*", 'LT10,30'!$B:$B, C8) ), SUMIFS('LT10,30'!$C:$C, 'LT10,30'!$A:$A, LEFT(B8, 4) & "*", 'LT10,30'!$B:$B, C8) )=0, "Нет цены!", IF(AND(I8<>"", I8<>"без закалки", OR(ISNUMBER(SEARCH("VP", G8)), ISNUMBER(SEARCH("нельзя закаливать", IFERROR(INDEX(Данные!$E:$E, MATCH(G8, Данные!$B:$B, 0)), ""))))), "Это наполнение не закаливают!", "ОК"))))))) -> Сделайте выбор | L8: =IF(K8<>"ОК",0,SUM(R8:W8)*$K$1) -> 0 | M8: =(L8-L8*0.2)*$M$1 -> 0 | N8: =IF(K8<>"ОК", 0, (D8 + E8) * 2 * F8 / 1000) -> 0 | O8: =IF(OR(K8<>"ОК", G8="", G8=Данные!$B$72, ISNUMBER(SEARCH("без", G8)), ISNUMBER(SEARCH("VP", G8))), 0, (D8 * E8 / 1000000) * F8) -> 0 | P8: =(R8+S8)*$K$1 -> 0 | Q8: =T8*$K$1 -> 0 | R8: =IFERROR(IF(K8<>"ОК", 0, IF(B8="LT30/31", ((D8 + E8) * 2 / 1000) * F8 * SUMIFS('LT10,30'!$C:$C, 'LT10,30'!$A:$A, "LT30", 'LT10,30'!$B:$B, C8), IF(ISNUMBER(SEARCH("/", B8)), (((D8 + 2 * E8) / 1000) * F8 * SUMIFS('LT10,30'!$C:$C, 'LT10,30'!$A:$A, LEFT(B8, 4), 'LT10,30'!$B:$B, C8)) + ((D8 / 1000) * F8 * SUMIFS('LT10,30'!$C:$C, 'LT10,30'!$A:$A, LEFT(B8, 2) & MID(B8, 6, 2), 'LT10,30'!$B:$B, C8)), ((D8 + E8) * 2 / 1000) * F8 * SUMIFS('LT10,30'!$C:$C, 'LT10,30'!$A:$A, LEFT(B8, 4), 'LT10,30'!$B:$B, C8)))), 0) -> 0 | S8: =IFERROR(IF(K8<>"ОК", 0, F8 * IF(ISNUMBER(SEARCH("VP", G8)), INDEX('LT10,30'!$C:$C, MATCH("Сборка винных полок*", 'LT10,30'!$A:$A, 0)), IF(ISNUMBER(MATCH(B8, Данные!$B$119:$B$120, 0)), INDEX('LT10,30'!$C:$C, MATCH("Сборка световой полки LT10*", 'LT10,30'!$A:$A, 0)), IF(ISNUMBER(SEARCH("30/31", B8)), INDEX('LT10,30'!$C:$C, MATCH("Сборка световой полки LT30/31*", 'LT10,30'!$A:$A, 0)), IF(ISNUMBER(MATCH(B8, Данные!$B$121:$B$123, 0)), INDEX('LT10,30'!$C:$C, MATCH("Сборка световой полки LT30*", 'LT10,30'!$A:$A, 0)), 0))))), 0) -> 0 | T8: =IF(OR(K8<>"ОК", G8="", G8=Данные!$B$72, ISNUMBER(SEARCH("без", G8))), 0, IF(ISNUMBER(SEARCH("VP", G8)), F8 * H8 * ((E8 / 1000) * SUMIF('LT10,30'!$A:$A, G8, 'LT10,30'!$C:$C) + 2), O8 * IF(SUMIFS(СТЕКЛО!$C:$C, СТЕКЛО!$A:$A, G8, СТЕКЛО!$B:$B, "4")>0, SUMIFS(СТЕКЛО!$C:$C, СТЕКЛО!$A:$A, G8, СТЕКЛО!$B:$B, "4"), SUMIF(СТЕКЛО!$A:$A, G8, СТЕКЛО!$C:$C)) + IF(OR(ISNUMBER(SEARCH("30", B8)), ISNUMBER(SEARCH("31", B8)), ISNUMBER(SEARCH("11", B8))), F8 * ((D8 + E8) * 2 / 1000) * IFERROR(VLOOKUP("Полировка кромки стекла", СТЕКЛО!$A:$C, 3, FALSE), 1.42853), 0))) -> 0 | U8: =IF(OR(K8<>"ОК", J8="", J8="Без полкодержателей", ISNUMBER(SEARCH("без", J8))), 0, 4 * F8 * SUMIF('LT10,30'!$A:$A, J8, 'LT10,30'!$C:$C)) -> 0 | V8: 0 | W8: =IF(AND(K8="ОК", I8<>"", I8<>"без закалки"), (O8 * SUMIFS(СТЕКЛО!$C:$C, СТЕКЛО!$A:$A, "Закалка стекла", СТЕКЛО!$B:$B, "4-6 мм")) + (N8 * IF(B8=Данные!$B$119, 2, 1) * SUMIFS(СТЕКЛО!$C:$C, СТЕКЛО!$A:$A, "Шлифовка кромки стекла", СТЕКЛО!$B:$B, "4 мм") * (1 + IF(AND(MIN(D8, E8)>=30, MIN(D8, E8)<=100), 1, 0) + IF(MAX(D8, E8)>=2500, 1, 0))), 0) -> 0
A9: 6 | K9: =IF(OR(B9="", C9="", D9=0, E9=0, F9=0), "Сделайте выбор", IF(OR(D9<200, E9<200), "Мин. размер 200х200!", IF(AND(G9<>"", ISNUMBER(SEARCH("VP", G9)), NOT(ISNUMBER(SEARCH("LT3", B9)))), "Трубки VP16 только для LT30/LT31!", IF(AND(J9<>"", NOT(ISNUMBER(SEARCH("Без полкодержателей", J9))), ISNUMBER(SEARCH("LT31", B9)), NOT(ISNUMBER(SEARCH("/", B9)))), "Полкодержатель не подходит для LT31!", IF(IF(ISNUMBER(SEARCH("/", B9)), MIN( COUNTIFS('LT10,30'!$A:$A, LEFT(B9, 4) & "*", 'LT10,30'!$B:$B, C9), COUNTIFS('LT10,30'!$A:$A, LEFT(B9, 2) & MID(B9, 6, 2) & "*", 'LT10,30'!$B:$B, C9) ), COUNTIFS('LT10,30'!$A:$A, LEFT(B9, 4) & "*", 'LT10,30'!$B:$B, C9) )=0, "Ошибка цвета!", IF(IF(ISNUMBER(SEARCH("/", B9)), MIN( SUMIFS('LT10,30'!$C:$C, 'LT10,30'!$A:$A, LEFT(B9, 4) & "*", 'LT10,30'!$B:$B, C9), SUMIFS('LT10,30'!$C:$C, 'LT10,30'!$A:$A, LEFT(B9, 2) & MID(B9, 6, 2) & "*", 'LT10,30'!$B:$B, C9) ), SUMIFS('LT10,30'!$C:$C, 'LT10,30'!$A:$A, LEFT(B9, 4) & "*", 'LT10,30'!$B:$B, C9) )=0, "Нет цены!", IF(AND(I9<>"", I9<>"без закалки", OR(ISNUMBER(SEARCH("VP", G9)), ISNUMBER(SEARCH("нельзя закаливать", IFERROR(INDEX(Данные!$E:$E, MATCH(G9, Данные!$B:$B, 0)), ""))))), "Это наполнение не закаливают!", "ОК"))))))) -> Сделайте выбор | L9: =IF(K9<>"ОК",0,SUM(R9:W9)*$K$1) -> 0 | M9: =(L9-L9*0.2)*$M$1 -> 0 | N9: =IF(K9<>"ОК", 0, (D9 + E9) * 2 * F9 / 1000) -> 0 | O9: =IF(OR(K9<>"ОК", G9="", G9=Данные!$B$72, ISNUMBER(SEARCH("без", G9)), ISNUMBER(SEARCH("VP", G9))), 0, (D9 * E9 / 1000000) * F9) -> 0 | P9: =(R9+S9)*$K$1 -> 0 | Q9: =T9*$K$1 -> 0 | R9: =IFERROR(IF(K9<>"ОК", 0, IF(B9="LT30/31", ((D9 + E9) * 2 / 1000) * F9 * SUMIFS('LT10,30'!$C:$C, 'LT10,30'!$A:$A, "LT30", 'LT10,30'!$B:$B, C9), IF(ISNUMBER(SEARCH("/", B9)), (((D9 + 2 * E9) / 1000) * F9 * SUMIFS('LT10,30'!$C:$C, 'LT10,30'!$A:$A, LEFT(B9, 4), 'LT10,30'!$B:$B, C9)) + ((D9 / 1000) * F9 * SUMIFS('LT10,30'!$C:$C, 'LT10,30'!$A:$A, LEFT(B9, 2) & MID(B9, 6, 2), 'LT10,30'!$B:$B, C9)), ((D9 + E9) * 2 / 1000) * F9 * SUMIFS('LT10,30'!$C:$C, 'LT10,30'!$A:$A, LEFT(B9, 4), 'LT10,30'!$B:$B, C9)))), 0) -> 0 | S9: =IFERROR(IF(K9<>"ОК", 0, F9 * IF(ISNUMBER(SEARCH("VP", G9)), INDEX('LT10,30'!$C:$C, MATCH("Сборка винных полок*", 'LT10,30'!$A:$A, 0)), IF(ISNUMBER(MATCH(B9, Данные!$B$119:$B$120, 0)), INDEX('LT10,30'!$C:$C, MATCH("Сборка световой полки LT10*", 'LT10,30'!$A:$A, 0)), IF(ISNUMBER(SEARCH("30/31", B9)), INDEX('LT10,30'!$C:$C, MATCH("Сборка световой полки LT30/31*", 'LT10,30'!$A:$A, 0)), IF(ISNUMBER(MATCH(B9, Данные!$B$121:$B$123, 0)), INDEX('LT10,30'!$C:$C, MATCH("Сборка световой полки LT30*", 'LT10,30'!$A:$A, 0)), 0))))), 0) -> 0 | T9: =IF(OR(K9<>"ОК", G9="", G9=Данные!$B$72, ISNUMBER(SEARCH("без", G9))), 0, IF(ISNUMBER(SEARCH("VP", G9)), F9 * H9 * ((E9 / 1000) * SUMIF('LT10,30'!$A:$A, G9, 'LT10,30'!$C:$C) + 2), O9 * IF(SUMIFS(СТЕКЛО!$C:$C, СТЕКЛО!$A:$A, G9, СТЕКЛО!$B:$B, "4")>0, SUMIFS(СТЕКЛО!$C:$C, СТЕКЛО!$A:$A, G9, СТЕКЛО!$B:$B, "4"), SUMIF(СТЕКЛО!$A:$A, G9, СТЕКЛО!$C:$C)) + IF(OR(ISNUMBER(SEARCH("30", B9)), ISNUMBER(SEARCH("31", B9)), ISNUMBER(SEARCH("11", B9))), F9 * ((D9 + E9) * 2 / 1000) * IFERROR(VLOOKUP("Полировка кромки стекла", СТЕКЛО!$A:$C, 3, FALSE), 1.42853), 0))) -> 0 | U9: =IF(OR(K9<>"ОК", J9="", J9="Без полкодержателей", ISNUMBER(SEARCH("без", J9))), 0, 4 * F9 * SUMIF('LT10,30'!$A:$A, J9, 'LT10,30'!$C:$C)) -> 0 | V9: 0 | W9: =IF(AND(K9="ОК", I9<>"", I9<>"без закалки"), (O9 * SUMIFS(СТЕКЛО!$C:$C, СТЕКЛО!$A:$A, "Закалка стекла", СТЕКЛО!$B:$B, "4-6 мм")) + (N9 * IF(B9=Данные!$B$119, 2, 1) * SUMIFS(СТЕКЛО!$C:$C, СТЕКЛО!$A:$A, "Шлифовка кромки стекла", СТЕКЛО!$B:$B, "4 мм") * (1 + IF(AND(MIN(D9, E9)>=30, MIN(D9, E9)<=100), 1, 0) + IF(MAX(D9, E9)>=2500, 1, 0))), 0) -> 0
A10: 7 | K10: =IF(OR(B10="", C10="", D10=0, E10=0, F10=0), "Сделайте выбор", IF(OR(D10<200, E10<200), "Мин. размер 200х200!", IF(AND(G10<>"", ISNUMBER(SEARCH("VP", G10)), NOT(ISNUMBER(SEARCH("LT3", B10)))), "Трубки VP16 только для LT30/LT31!", IF(AND(J10<>"", NOT(ISNUMBER(SEARCH("Без полкодержателей", J10))), ISNUMBER(SEARCH("LT31", B10)), NOT(ISNUMBER(SEARCH("/", B10)))), "Полкодержатель не подходит для LT31!", IF(IF(ISNUMBER(SEARCH("/", B10)), MIN( COUNTIFS('LT10,30'!$A:$A, LEFT(B10, 4) & "*", 'LT10,30'!$B:$B, C10), COUNTIFS('LT10,30'!$A:$A, LEFT(B10, 2) & MID(B10, 6, 2) & "*", 'LT10,30'!$B:$B, C10) ), COUNTIFS('LT10,30'!$A:$A, LEFT(B10, 4) & "*", 'LT10,30'!$B:$B, C10) )=0, "Ошибка цвета!", IF(IF(ISNUMBER(SEARCH("/", B10)), MIN( SUMIFS('LT10,30'!$C:$C, 'LT10,30'!$A:$A, LEFT(B10, 4) & "*", 'LT10,30'!$B:$B, C10), SUMIFS('LT10,30'!$C:$C, 'LT10,30'!$A:$A, LEFT(B10, 2) & MID(B10, 6, 2) & "*", 'LT10,30'!$B:$B, C10) ), SUMIFS('LT10,30'!$C:$C, 'LT10,30'!$A:$A, LEFT(B10, 4) & "*", 'LT10,30'!$B:$B, C10) )=0, "Нет цены!", IF(AND(I10<>"", I10<>"без закалки", OR(ISNUMBER(SEARCH("VP", G10)), ISNUMBER(SEARCH("нельзя закаливать", IFERROR(INDEX(Данные!$E:$E, MATCH(G10, Данные!$B:$B, 0)), ""))))), "Это наполнение не закаливают!", "ОК"))))))) -> Сделайте выбор | L10: =IF(K10<>"ОК",0,SUM(R10:W10)*$K$1) -> 0 | M10: =(L10-L10*0.2)*$M$1 -> 0 | N10: =IF(K10<>"ОК", 0, (D10 + E10) * 2 * F10 / 1000) -> 0 | O10: =IF(OR(K10<>"ОК", G10="", G10=Данные!$B$72, ISNUMBER(SEARCH("без", G10)), ISNUMBER(SEARCH("VP", G10))), 0, (D10 * E10 / 1000000) * F10) -> 0 | P10: =(R10+S10)*$K$1 -> 0 | Q10: =T10*$K$1 -> 0 | R10: =IFERROR(IF(K10<>"ОК", 0, IF(B10="LT30/31", ((D10 + E10) * 2 / 1000) * F10 * SUMIFS('LT10,30'!$C:$C, 'LT10,30'!$A:$A, "LT30", 'LT10,30'!$B:$B, C10), IF(ISNUMBER(SEARCH("/", B10)), (((D10 + 2 * E10) / 1000) * F10 * SUMIFS('LT10,30'!$C:$C, 'LT10,30'!$A:$A, LEFT(B10, 4), 'LT10,30'!$B:$B, C10)) + ((D10 / 1000) * F10 * SUMIFS('LT10,30'!$C:$C, 'LT10,30'!$A:$A, LEFT(B10, 2) & MID(B10, 6, 2), 'LT10,30'!$B:$B, C10)), ((D10 + E10) * 2 / 1000) * F10 * SUMIFS('LT10,30'!$C:$C, 'LT10,30'!$A:$A, LEFT(B10, 4), 'LT10,30'!$B:$B, C10)))), 0) -> 0 | S10: =IFERROR(IF(K10<>"ОК", 0, F10 * IF(ISNUMBER(SEARCH("VP", G10)), INDEX('LT10,30'!$C:$C, MATCH("Сборка винных полок*", 'LT10,30'!$A:$A, 0)), IF(ISNUMBER(MATCH(B10, Данные!$B$119:$B$120, 0)), INDEX('LT10,30'!$C:$C, MATCH("Сборка световой полки LT10*", 'LT10,30'!$A:$A, 0)), IF(ISNUMBER(SEARCH("30/31", B10)), INDEX('LT10,30'!$C:$C, MATCH("Сборка световой полки LT30/31*", 'LT10,30'!$A:$A, 0)), IF(ISNUMBER(MATCH(B10, Данные!$B$121:$B$123, 0)), INDEX('LT10,30'!$C:$C, MATCH("Сборка световой полки LT30*", 'LT10,30'!$A:$A, 0)), 0))))), 0) -> 0 | T10: =IF(OR(K10<>"ОК", G10="", G10=Данные!$B$72, ISNUMBER(SEARCH("без", G10))), 0, IF(ISNUMBER(SEARCH("VP", G10)), F10 * H10 * ((E10 / 1000) * SUMIF('LT10,30'!$A:$A, G10, 'LT10,30'!$C:$C) + 2), O10 * IF(SUMIFS(СТЕКЛО!$C:$C, СТЕКЛО!$A:$A, G10, СТЕКЛО!$B:$B, "4")>0, SUMIFS(СТЕКЛО!$C:$C, СТЕКЛО!$A:$A, G10, СТЕКЛО!$B:$B, "4"), SUMIF(СТЕКЛО!$A:$A, G10, СТЕКЛО!$C:$C)) + IF(OR(ISNUMBER(SEARCH("30", B10)), ISNUMBER(SEARCH("31", B10)), ISNUMBER(SEARCH("11", B10))), F10 * ((D10 + E10) * 2 / 1000) * IFERROR(VLOOKUP("Полировка кромки стекла", СТЕКЛО!$A:$C, 3, FALSE), 1.42853), 0))) -> 0 | U10: =IF(OR(K10<>"ОК", J10="", J10="Без полкодержателей", ISNUMBER(SEARCH("без", J10))), 0, 4 * F10 * SUMIF('LT10,30'!$A:$A, J10, 'LT10,30'!$C:$C)) -> 0 | V10: 0 | W10: =IF(AND(K10="ОК", I10<>"", I10<>"без закалки"), (O10 * SUMIFS(СТЕКЛО!$C:$C, СТЕКЛО!$A:$A, "Закалка стекла", СТЕКЛО!$B:$B, "4-6 мм")) + (N10 * IF(B10=Данные!$B$119, 2, 1) * SUMIFS(СТЕКЛО!$C:$C, СТЕКЛО!$A:$A, "Шлифовка кромки стекла", СТЕКЛО!$B:$B, "4 мм") * (1 + IF(AND(MIN(D10, E10)>=30, MIN(D10, E10)<=100), 1, 0) + IF(MAX(D10, E10)>=2500, 1, 0))), 0) -> 0
A11: 8 | K11: =IF(OR(B11="", C11="", D11=0, E11=0, F11=0), "Сделайте выбор", IF(OR(D11<200, E11<200), "Мин. размер 200х200!", IF(AND(G11<>"", ISNUMBER(SEARCH("VP", G11)), NOT(ISNUMBER(SEARCH("LT3", B11)))), "Трубки VP16 только для LT30/LT31!", IF(AND(J11<>"", NOT(ISNUMBER(SEARCH("Без полкодержателей", J11))), ISNUMBER(SEARCH("LT31", B11)), NOT(ISNUMBER(SEARCH("/", B11)))), "Полкодержатель не подходит для LT31!", IF(IF(ISNUMBER(SEARCH("/", B11)), MIN( COUNTIFS('LT10,30'!$A:$A, LEFT(B11, 4) & "*", 'LT10,30'!$B:$B, C11), COUNTIFS('LT10,30'!$A:$A, LEFT(B11, 2) & MID(B11, 6, 2) & "*", 'LT10,30'!$B:$B, C11) ), COUNTIFS('LT10,30'!$A:$A, LEFT(B11, 4) & "*", 'LT10,30'!$B:$B, C11) )=0, "Ошибка цвета!", IF(IF(ISNUMBER(SEARCH("/", B11)), MIN( SUMIFS('LT10,30'!$C:$C, 'LT10,30'!$A:$A, LEFT(B11, 4) & "*", 'LT10,30'!$B:$B, C11), SUMIFS('LT10,30'!$C:$C, 'LT10,30'!$A:$A, LEFT(B11, 2) & MID(B11, 6, 2) & "*", 'LT10,30'!$B:$B, C11) ), SUMIFS('LT10,30'!$C:$C, 'LT10,30'!$A:$A, LEFT(B11, 4) & "*", 'LT10,30'!$B:$B, C11) )=0, "Нет цены!", IF(AND(I11<>"", I11<>"без закалки", OR(ISNUMBER(SEARCH("VP", G11)), ISNUMBER(SEARCH("нельзя закаливать", IFERROR(INDEX(Данные!$E:$E, MATCH(G11, Данные!$B:$B, 0)), ""))))), "Это наполнение не закаливают!", "ОК"))))))) -> Сделайте выбор | L11: =IF(K11<>"ОК",0,SUM(R11:W11)*$K$1) -> 0 | M11: =(L11-L11*0.2)*$M$1 -> 0 | N11: =IF(K11<>"ОК", 0, (D11 + E11) * 2 * F11 / 1000) -> 0 | O11: =IF(OR(K11<>"ОК", G11="", G11=Данные!$B$72, ISNUMBER(SEARCH("без", G11)), ISNUMBER(SEARCH("VP", G11))), 0, (D11 * E11 / 1000000) * F11) -> 0 | P11: =(R11+S11)*$K$1 -> 0 | Q11: =T11*$K$1 -> 0 | R11: =IFERROR(IF(K11<>"ОК", 0, IF(B11="LT30/31", ((D11 + E11) * 2 / 1000) * F11 * SUMIFS('LT10,30'!$C:$C, 'LT10,30'!$A:$A, "LT30", 'LT10,30'!$B:$B, C11), IF(ISNUMBER(SEARCH("/", B11)), (((D11 + 2 * E11) / 1000) * F11 * SUMIFS('LT10,30'!$C:$C, 'LT10,30'!$A:$A, LEFT(B11, 4), 'LT10,30'!$B:$B, C11)) + ((D11 / 1000) * F11 * SUMIFS('LT10,30'!$C:$C, 'LT10,30'!$A:$A, LEFT(B11, 2) & MID(B11, 6, 2), 'LT10,30'!$B:$B, C11)), ((D11 + E11) * 2 / 1000) * F11 * SUMIFS('LT10,30'!$C:$C, 'LT10,30'!$A:$A, LEFT(B11, 4), 'LT10,30'!$B:$B, C11)))), 0) -> 0 | S11: =IFERROR(IF(K11<>"ОК", 0, F11 * IF(ISNUMBER(SEARCH("VP", G11)), INDEX('LT10,30'!$C:$C, MATCH("Сборка винных полок*", 'LT10,30'!$A:$A, 0)), IF(ISNUMBER(MATCH(B11, Данные!$B$119:$B$120, 0)), INDEX('LT10,30'!$C:$C, MATCH("Сборка световой полки LT10*", 'LT10,30'!$A:$A, 0)), IF(ISNUMBER(SEARCH("30/31", B11)), INDEX('LT10,30'!$C:$C, MATCH("Сборка световой полки LT30/31*", 'LT10,30'!$A:$A, 0)), IF(ISNUMBER(MATCH(B11, Данные!$B$121:$B$123, 0)), INDEX('LT10,30'!$C:$C, MATCH("Сборка световой полки LT30*", 'LT10,30'!$A:$A, 0)), 0))))), 0) -> 0 | T11: =IF(OR(K11<>"ОК", G11="", G11=Данные!$B$72, ISNUMBER(SEARCH("без", G11))), 0, IF(ISNUMBER(SEARCH("VP", G11)), F11 * H11 * ((E11 / 1000) * SUMIF('LT10,30'!$A:$A, G11, 'LT10,30'!$C:$C) + 2), O11 * IF(SUMIFS(СТЕКЛО!$C:$C, СТЕКЛО!$A:$A, G11, СТЕКЛО!$B:$B, "4")>0, SUMIFS(СТЕКЛО!$C:$C, СТЕКЛО!$A:$A, G11, СТЕКЛО!$B:$B, "4"), SUMIF(СТЕКЛО!$A:$A, G11, СТЕКЛО!$C:$C)) + IF(OR(ISNUMBER(SEARCH("30", B11)), ISNUMBER(SEARCH("31", B11)), ISNUMBER(SEARCH("11", B11))), F11 * ((D11 + E11) * 2 / 1000) * IFERROR(VLOOKUP("Полировка кромки стекла", СТЕКЛО!$A:$C, 3, FALSE), 1.42853), 0))) -> 0 | U11: =IF(OR(K11<>"ОК", J11="", J11="Без полкодержателей", ISNUMBER(SEARCH("без", J11))), 0, 4 * F11 * SUMIF('LT10,30'!$A:$A, J11, 'LT10,30'!$C:$C)) -> 0 | V11: 0 | W11: =IF(AND(K11="ОК", I11<>"", I11<>"без закалки"), (O11 * SUMIFS(СТЕКЛО!$C:$C, СТЕКЛО!$A:$A, "Закалка стекла", СТЕКЛО!$B:$B, "4-6 мм")) + (N11 * IF(B11=Данные!$B$119, 2, 1) * SUMIFS(СТЕКЛО!$C:$C, СТЕКЛО!$A:$A, "Шлифовка кромки стекла", СТЕКЛО!$B:$B, "4 мм") * (1 + IF(AND(MIN(D11, E11)>=30, MIN(D11, E11)<=100), 1, 0) + IF(MAX(D11, E11)>=2500, 1, 0))), 0) -> 0
A12: 9 | K12: =IF(OR(B12="", C12="", D12=0, E12=0, F12=0), "Сделайте выбор", IF(OR(D12<200, E12<200), "Мин. размер 200х200!", IF(AND(G12<>"", ISNUMBER(SEARCH("VP", G12)), NOT(ISNUMBER(SEARCH("LT3", B12)))), "Трубки VP16 только для LT30/LT31!", IF(AND(J12<>"", NOT(ISNUMBER(SEARCH("Без полкодержателей", J12))), ISNUMBER(SEARCH("LT31", B12)), NOT(ISNUMBER(SEARCH("/", B12)))), "Полкодержатель не подходит для LT31!", IF(IF(ISNUMBER(SEARCH("/", B12)), MIN( COUNTIFS('LT10,30'!$A:$A, LEFT(B12, 4) & "*", 'LT10,30'!$B:$B, C12), COUNTIFS('LT10,30'!$A:$A, LEFT(B12, 2) & MID(B12, 6, 2) & "*", 'LT10,30'!$B:$B, C12) ), COUNTIFS('LT10,30'!$A:$A, LEFT(B12, 4) & "*", 'LT10,30'!$B:$B, C12) )=0, "Ошибка цвета!", IF(IF(ISNUMBER(SEARCH("/", B12)), MIN( SUMIFS('LT10,30'!$C:$C, 'LT10,30'!$A:$A, LEFT(B12, 4) & "*", 'LT10,30'!$B:$B, C12), SUMIFS('LT10,30'!$C:$C, 'LT10,30'!$A:$A, LEFT(B12, 2) & MID(B12, 6, 2) & "*", 'LT10,30'!$B:$B, C12) ), SUMIFS('LT10,30'!$C:$C, 'LT10,30'!$A:$A, LEFT(B12, 4) & "*", 'LT10,30'!$B:$B, C12) )=0, "Нет цены!", IF(AND(I12<>"", I12<>"без закалки", OR(ISNUMBER(SEARCH("VP", G12)), ISNUMBER(SEARCH("нельзя закаливать", IFERROR(INDEX(Данные!$E:$E, MATCH(G12, Данные!$B:$B, 0)), ""))))), "Это наполнение не закаливают!", "ОК"))))))) -> Сделайте выбор | L12: =IF(K12<>"ОК",0,SUM(R12:W12)*$K$1) -> 0 | M12: =(L12-L12*0.2)*$M$1 -> 0 | N12: =IF(K12<>"ОК", 0, (D12 + E12) * 2 * F12 / 1000) -> 0 | O12: =IF(OR(K12<>"ОК", G12="", G12=Данные!$B$72, ISNUMBER(SEARCH("без", G12)), ISNUMBER(SEARCH("VP", G12))), 0, (D12 * E12 / 1000000) * F12) -> 0 | P12: =(R12+S12)*$K$1 -> 0 | Q12: =T12*$K$1 -> 0 | R12: =IFERROR(IF(K12<>"ОК", 0, IF(B12="LT30/31", ((D12 + E12) * 2 / 1000) * F12 * SUMIFS('LT10,30'!$C:$C, 'LT10,30'!$A:$A, "LT30", 'LT10,30'!$B:$B, C12), IF(ISNUMBER(SEARCH("/", B12)), (((D12 + 2 * E12) / 1000) * F12 * SUMIFS('LT10,30'!$C:$C, 'LT10,30'!$A:$A, LEFT(B12, 4), 'LT10,30'!$B:$B, C12)) + ((D12 / 1000) * F12 * SUMIFS('LT10,30'!$C:$C, 'LT10,30'!$A:$A, LEFT(B12, 2) & MID(B12, 6, 2), 'LT10,30'!$B:$B, C12)), ((D12 + E12) * 2 / 1000) * F12 * SUMIFS('LT10,30'!$C:$C, 'LT10,30'!$A:$A, LEFT(B12, 4), 'LT10,30'!$B:$B, C12)))), 0) -> 0 | S12: =IFERROR(IF(K12<>"ОК", 0, F12 * IF(ISNUMBER(SEARCH("VP", G12)), INDEX('LT10,30'!$C:$C, MATCH("Сборка винных полок*", 'LT10,30'!$A:$A, 0)), IF(ISNUMBER(MATCH(B12, Данные!$B$119:$B$120, 0)), INDEX('LT10,30'!$C:$C, MATCH("Сборка световой полки LT10*", 'LT10,30'!$A:$A, 0)), IF(ISNUMBER(SEARCH("30/31", B12)), INDEX('LT10,30'!$C:$C, MATCH("Сборка световой полки LT30/31*", 'LT10,30'!$A:$A, 0)), IF(ISNUMBER(MATCH(B12, Данные!$B$121:$B$123, 0)), INDEX('LT10,30'!$C:$C, MATCH("Сборка световой полки LT30*", 'LT10,30'!$A:$A, 0)), 0))))), 0) -> 0 | T12: =IF(OR(K12<>"ОК", G12="", G12=Данные!$B$72, ISNUMBER(SEARCH("без", G12))), 0, IF(ISNUMBER(SEARCH("VP", G12)), F12 * H12 * ((E12 / 1000) * SUMIF('LT10,30'!$A:$A, G12, 'LT10,30'!$C:$C) + 2), O12 * IF(SUMIFS(СТЕКЛО!$C:$C, СТЕКЛО!$A:$A, G12, СТЕКЛО!$B:$B, "4")>0, SUMIFS(СТЕКЛО!$C:$C, СТЕКЛО!$A:$A, G12, СТЕКЛО!$B:$B, "4"), SUMIF(СТЕКЛО!$A:$A, G12, СТЕКЛО!$C:$C)) + IF(OR(ISNUMBER(SEARCH("30", B12)), ISNUMBER(SEARCH("31", B12)), ISNUMBER(SEARCH("11", B12))), F12 * ((D12 + E12) * 2 / 1000) * IFERROR(VLOOKUP("Полировка кромки стекла", СТЕКЛО!$A:$C, 3, FALSE), 1.42853), 0))) -> 0 | U12: =IF(OR(K12<>"ОК", J12="", J12="Без полкодержателей", ISNUMBER(SEARCH("без", J12))), 0, 4 * F12 * SUMIF('LT10,30'!$A:$A, J12, 'LT10,30'!$C:$C)) -> 0 | V12: 0 | W12: =IF(AND(K12="ОК", I12<>"", I12<>"без закалки"), (O12 * SUMIFS(СТЕКЛО!$C:$C, СТЕКЛО!$A:$A, "Закалка стекла", СТЕКЛО!$B:$B, "4-6 мм")) + (N12 * IF(B12=Данные!$B$119, 2, 1) * SUMIFS(СТЕКЛО!$C:$C, СТЕКЛО!$A:$A, "Шлифовка кромки стекла", СТЕКЛО!$B:$B, "4 мм") * (1 + IF(AND(MIN(D12, E12)>=30, MIN(D12, E12)<=100), 1, 0) + IF(MAX(D12, E12)>=2500, 1, 0))), 0) -> 0
A13: 10 | K13: =IF(OR(B13="", C13="", D13=0, E13=0, F13=0), "Сделайте выбор", IF(OR(D13<200, E13<200), "Мин. размер 200х200!", IF(AND(G13<>"", ISNUMBER(SEARCH("VP", G13)), NOT(ISNUMBER(SEARCH("LT3", B13)))), "Трубки VP16 только для LT30/LT31!", IF(AND(J13<>"", NOT(ISNUMBER(SEARCH("Без полкодержателей", J13))), ISNUMBER(SEARCH("LT31", B13)), NOT(ISNUMBER(SEARCH("/", B13)))), "Полкодержатель не подходит для LT31!", IF(IF(ISNUMBER(SEARCH("/", B13)), MIN( COUNTIFS('LT10,30'!$A:$A, LEFT(B13, 4) & "*", 'LT10,30'!$B:$B, C13), COUNTIFS('LT10,30'!$A:$A, LEFT(B13, 2) & MID(B13, 6, 2) & "*", 'LT10,30'!$B:$B, C13) ), COUNTIFS('LT10,30'!$A:$A, LEFT(B13, 4) & "*", 'LT10,30'!$B:$B, C13) )=0, "Ошибка цвета!", IF(IF(ISNUMBER(SEARCH("/", B13)), MIN( SUMIFS('LT10,30'!$C:$C, 'LT10,30'!$A:$A, LEFT(B13, 4) & "*", 'LT10,30'!$B:$B, C13), SUMIFS('LT10,30'!$C:$C, 'LT10,30'!$A:$A, LEFT(B13, 2) & MID(B13, 6, 2) & "*", 'LT10,30'!$B:$B, C13) ), SUMIFS('LT10,30'!$C:$C, 'LT10,30'!$A:$A, LEFT(B13, 4) & "*", 'LT10,30'!$B:$B, C13) )=0, "Нет цены!", IF(AND(I13<>"", I13<>"без закалки", OR(ISNUMBER(SEARCH("VP", G13)), ISNUMBER(SEARCH("нельзя закаливать", IFERROR(INDEX(Данные!$E:$E, MATCH(G13, Данные!$B:$B, 0)), ""))))), "Это наполнение не закаливают!", "ОК"))))))) -> Сделайте выбор | L13: =IF(K13<>"ОК",0,SUM(R13:W13)*$K$1) -> 0 | M13: =(L13-L13*0.2)*$M$1 -> 0 | N13: =IF(K13<>"ОК", 0, (D13 + E13) * 2 * F13 / 1000) -> 0 | O13: =IF(OR(K13<>"ОК", G13="", G13=Данные!$B$72, ISNUMBER(SEARCH("без", G13)), ISNUMBER(SEARCH("VP", G13))), 0, (D13 * E13 / 1000000) * F13) -> 0 | P13: =(R13+S13)*$K$1 -> 0 | Q13: =T13*$K$1 -> 0 | R13: =IFERROR(IF(K13<>"ОК", 0, IF(B13="LT30/31", ((D13 + E13) * 2 / 1000) * F13 * SUMIFS('LT10,30'!$C:$C, 'LT10,30'!$A:$A, "LT30", 'LT10,30'!$B:$B, C13), IF(ISNUMBER(SEARCH("/", B13)), (((D13 + 2 * E13) / 1000) * F13 * SUMIFS('LT10,30'!$C:$C, 'LT10,30'!$A:$A, LEFT(B13, 4), 'LT10,30'!$B:$B, C13)) + ((D13 / 1000) * F13 * SUMIFS('LT10,30'!$C:$C, 'LT10,30'!$A:$A, LEFT(B13, 2) & MID(B13, 6, 2), 'LT10,30'!$B:$B, C13)), ((D13 + E13) * 2 / 1000) * F13 * SUMIFS('LT10,30'!$C:$C, 'LT10,30'!$A:$A, LEFT(B13, 4), 'LT10,30'!$B:$B, C13)))), 0) -> 0 | S13: =IFERROR(IF(K13<>"ОК", 0, F13 * IF(ISNUMBER(SEARCH("VP", G13)), INDEX('LT10,30'!$C:$C, MATCH("Сборка винных полок*", 'LT10,30'!$A:$A, 0)), IF(ISNUMBER(MATCH(B13, Данные!$B$119:$B$120, 0)), INDEX('LT10,30'!$C:$C, MATCH("Сборка световой полки LT10*", 'LT10,30'!$A:$A, 0)), IF(ISNUMBER(SEARCH("30/31", B13)), INDEX('LT10,30'!$C:$C, MATCH("Сборка световой полки LT30/31*", 'LT10,30'!$A:$A, 0)), IF(ISNUMBER(MATCH(B13, Данные!$B$121:$B$123, 0)), INDEX('LT10,30'!$C:$C, MATCH("Сборка световой полки LT30*", 'LT10,30'!$A:$A, 0)), 0))))), 0) -> 0 | T13: =IF(OR(K13<>"ОК", G13="", G13=Данные!$B$72, ISNUMBER(SEARCH("без", G13))), 0, IF(ISNUMBER(SEARCH("VP", G13)), F13 * H13 * ((E13 / 1000) * SUMIF('LT10,30'!$A:$A, G13, 'LT10,30'!$C:$C) + 2), O13 * IF(SUMIFS(СТЕКЛО!$C:$C, СТЕКЛО!$A:$A, G13, СТЕКЛО!$B:$B, "4")>0, SUMIFS(СТЕКЛО!$C:$C, СТЕКЛО!$A:$A, G13, СТЕКЛО!$B:$B, "4"), SUMIF(СТЕКЛО!$A:$A, G13, СТЕКЛО!$C:$C)) + IF(OR(ISNUMBER(SEARCH("30", B13)), ISNUMBER(SEARCH("31", B13)), ISNUMBER(SEARCH("11", B13))), F13 * ((D13 + E13) * 2 / 1000) * IFERROR(VLOOKUP("Полировка кромки стекла", СТЕКЛО!$A:$C, 3, FALSE), 1.42853), 0))) -> 0 | U13: =IF(OR(K13<>"ОК", J13="", J13="Без полкодержателей", ISNUMBER(SEARCH("без", J13))), 0, 4 * F13 * SUMIF('LT10,30'!$A:$A, J13, 'LT10,30'!$C:$C)) -> 0 | V13: 0 | W13: =IF(AND(K13="ОК", I13<>"", I13<>"без закалки"), (O13 * SUMIFS(СТЕКЛО!$C:$C, СТЕКЛО!$A:$A, "Закалка стекла", СТЕКЛО!$B:$B, "4-6 мм")) + (N13 * IF(B13=Данные!$B$119, 2, 1) * SUMIFS(СТЕКЛО!$C:$C, СТЕКЛО!$A:$A, "Шлифовка кромки стекла", СТЕКЛО!$B:$B, "4 мм") * (1 + IF(AND(MIN(D13, E13)>=30, MIN(D13, E13)<=100), 1, 0) + IF(MAX(D13, E13)>=2500, 1, 0))), 0) -> 0
A14: 11 | K14: =IF(OR(B14="", C14="", D14=0, E14=0, F14=0), "Сделайте выбор", IF(OR(D14<200, E14<200), "Мин. размер 200х200!", IF(AND(G14<>"", ISNUMBER(SEARCH("VP", G14)), NOT(ISNUMBER(SEARCH("LT3", B14)))), "Трубки VP16 только для LT30/LT31!", IF(AND(J14<>"", NOT(ISNUMBER(SEARCH("Без полкодержателей", J14))), ISNUMBER(SEARCH("LT31", B14)), NOT(ISNUMBER(SEARCH("/", B14)))), "Полкодержатель не подходит для LT31!", IF(IF(ISNUMBER(SEARCH("/", B14)), MIN( COUNTIFS('LT10,30'!$A:$A, LEFT(B14, 4) & "*", 'LT10,30'!$B:$B, C14), COUNTIFS('LT10,30'!$A:$A, LEFT(B14, 2) & MID(B14, 6, 2) & "*", 'LT10,30'!$B:$B, C14) ), COUNTIFS('LT10,30'!$A:$A, LEFT(B14, 4) & "*", 'LT10,30'!$B:$B, C14) )=0, "Ошибка цвета!", IF(IF(ISNUMBER(SEARCH("/", B14)), MIN( SUMIFS('LT10,30'!$C:$C, 'LT10,30'!$A:$A, LEFT(B14, 4) & "*", 'LT10,30'!$B:$B, C14), SUMIFS('LT10,30'!$C:$C, 'LT10,30'!$A:$A, LEFT(B14, 2) & MID(B14, 6, 2) & "*", 'LT10,30'!$B:$B, C14) ), SUMIFS('LT10,30'!$C:$C, 'LT10,30'!$A:$A, LEFT(B14, 4) & "*", 'LT10,30'!$B:$B, C14) )=0, "Нет цены!", IF(AND(I14<>"", I14<>"без закалки", OR(ISNUMBER(SEARCH("VP", G14)), ISNUMBER(SEARCH("нельзя закаливать", IFERROR(INDEX(Данные!$E:$E, MATCH(G14, Данные!$B:$B, 0)), ""))))), "Это наполнение не закаливают!", "ОК"))))))) -> Сделайте выбор | L14: =IF(K14<>"ОК",0,SUM(R14:W14)*$K$1) -> 0 | M14: =(L14-L14*0.2)*$M$1 -> 0 | N14: =IF(K14<>"ОК", 0, (D14 + E14) * 2 * F14 / 1000) -> 0 | O14: =IF(OR(K14<>"ОК", G14="", G14=Данные!$B$72, ISNUMBER(SEARCH("без", G14)), ISNUMBER(SEARCH("VP", G14))), 0, (D14 * E14 / 1000000) * F14) -> 0 | P14: =(R14+S14)*$K$1 -> 0 | Q14: =T14*$K$1 -> 0 | R14: =IFERROR(IF(K14<>"ОК", 0, IF(B14="LT30/31", ((D14 + E14) * 2 / 1000) * F14 * SUMIFS('LT10,30'!$C:$C, 'LT10,30'!$A:$A, "LT30", 'LT10,30'!$B:$B, C14), IF(ISNUMBER(SEARCH("/", B14)), (((D14 + 2 * E14) / 1000) * F14 * SUMIFS('LT10,30'!$C:$C, 'LT10,30'!$A:$A, LEFT(B14, 4), 'LT10,30'!$B:$B, C14)) + ((D14 / 1000) * F14 * SUMIFS('LT10,30'!$C:$C, 'LT10,30'!$A:$A, LEFT(B14, 2) & MID(B14, 6, 2), 'LT10,30'!$B:$B, C14)), ((D14 + E14) * 2 / 1000) * F14 * SUMIFS('LT10,30'!$C:$C, 'LT10,30'!$A:$A, LEFT(B14, 4), 'LT10,30'!$B:$B, C14)))), 0) -> 0 | S14: =IFERROR(IF(K14<>"ОК", 0, F14 * IF(ISNUMBER(SEARCH("VP", G14)), INDEX('LT10,30'!$C:$C, MATCH("Сборка винных полок*", 'LT10,30'!$A:$A, 0)), IF(ISNUMBER(MATCH(B14, Данные!$B$119:$B$120, 0)), INDEX('LT10,30'!$C:$C, MATCH("Сборка световой полки LT10*", 'LT10,30'!$A:$A, 0)), IF(ISNUMBER(SEARCH("30/31", B14)), INDEX('LT10,30'!$C:$C, MATCH("Сборка световой полки LT30/31*", 'LT10,30'!$A:$A, 0)), IF(ISNUMBER(MATCH(B14, Данные!$B$121:$B$123, 0)), INDEX('LT10,30'!$C:$C, MATCH("Сборка световой полки LT30*", 'LT10,30'!$A:$A, 0)), 0))))), 0) -> 0 | T14: =IF(OR(K14<>"ОК", G14="", G14=Данные!$B$72, ISNUMBER(SEARCH("без", G14))), 0, IF(ISNUMBER(SEARCH("VP", G14)), F14 * H14 * ((E14 / 1000) * SUMIF('LT10,30'!$A:$A, G14, 'LT10,30'!$C:$C) + 2), O14 * IF(SUMIFS(СТЕКЛО!$C:$C, СТЕКЛО!$A:$A, G14, СТЕКЛО!$B:$B, "4")>0, SUMIFS(СТЕКЛО!$C:$C, СТЕКЛО!$A:$A, G14, СТЕКЛО!$B:$B, "4"), SUMIF(СТЕКЛО!$A:$A, G14, СТЕКЛО!$C:$C)) + IF(OR(ISNUMBER(SEARCH("30", B14)), ISNUMBER(SEARCH("31", B14)), ISNUMBER(SEARCH("11", B14))), F14 * ((D14 + E14) * 2 / 1000) * IFERROR(VLOOKUP("Полировка кромки стекла", СТЕКЛО!$A:$C, 3, FALSE), 1.42853), 0))) -> 0 | U14: =IF(OR(K14<>"ОК", J14="", J14="Без полкодержателей", ISNUMBER(SEARCH("без", J14))), 0, 4 * F14 * SUMIF('LT10,30'!$A:$A, J14, 'LT10,30'!$C:$C)) -> 0 | V14: 0 | W14: =IF(AND(K14="ОК", I14<>"", I14<>"без закалки"), (O14 * SUMIFS(СТЕКЛО!$C:$C, СТЕКЛО!$A:$A, "Закалка стекла", СТЕКЛО!$B:$B, "4-6 мм")) + (N14 * IF(B14=Данные!$B$119, 2, 1) * SUMIFS(СТЕКЛО!$C:$C, СТЕКЛО!$A:$A, "Шлифовка кромки стекла", СТЕКЛО!$B:$B, "4 мм") * (1 + IF(AND(MIN(D14, E14)>=30, MIN(D14, E14)<=100), 1, 0) + IF(MAX(D14, E14)>=2500, 1, 0))), 0) -> 0
A15: 12 | K15: =IF(OR(B15="", C15="", D15=0, E15=0, F15=0), "Сделайте выбор", IF(OR(D15<200, E15<200), "Мин. размер 200х200!", IF(AND(G15<>"", ISNUMBER(SEARCH("VP", G15)), NOT(ISNUMBER(SEARCH("LT3", B15)))), "Трубки VP16 только для LT30/LT31!", IF(AND(J15<>"", NOT(ISNUMBER(SEARCH("Без полкодержателей", J15))), ISNUMBER(SEARCH("LT31", B15)), NOT(ISNUMBER(SEARCH("/", B15)))), "Полкодержатель не подходит для LT31!", IF(IF(ISNUMBER(SEARCH("/", B15)), MIN( COUNTIFS('LT10,30'!$A:$A, LEFT(B15, 4) & "*", 'LT10,30'!$B:$B, C15), COUNTIFS('LT10,30'!$A:$A, LEFT(B15, 2) & MID(B15, 6, 2) & "*", 'LT10,30'!$B:$B, C15) ), COUNTIFS('LT10,30'!$A:$A, LEFT(B15, 4) & "*", 'LT10,30'!$B:$B, C15) )=0, "Ошибка цвета!", IF(IF(ISNUMBER(SEARCH("/", B15)), MIN( SUMIFS('LT10,30'!$C:$C, 'LT10,30'!$A:$A, LEFT(B15, 4) & "*", 'LT10,30'!$B:$B, C15), SUMIFS('LT10,30'!$C:$C, 'LT10,30'!$A:$A, LEFT(B15, 2) & MID(B15, 6, 2) & "*", 'LT10,30'!$B:$B, C15) ), SUMIFS('LT10,30'!$C:$C, 'LT10,30'!$A:$A, LEFT(B15, 4) & "*", 'LT10,30'!$B:$B, C15) )=0, "Нет цены!", IF(AND(I15<>"", I15<>"без закалки", OR(ISNUMBER(SEARCH("VP", G15)), ISNUMBER(SEARCH("нельзя закаливать", IFERROR(INDEX(Данные!$E:$E, MATCH(G15, Данные!$B:$B, 0)), ""))))), "Это наполнение не закаливают!", "ОК"))))))) -> Сделайте выбор | L15: =IF(K15<>"ОК",0,SUM(R15:W15)*$K$1) -> 0 | M15: =(L15-L15*0.2)*$M$1 -> 0 | N15: =IF(K15<>"ОК", 0, (D15 + E15) * 2 * F15 / 1000) -> 0 | O15: =IF(OR(K15<>"ОК", G15="", G15=Данные!$B$72, ISNUMBER(SEARCH("без", G15)), ISNUMBER(SEARCH("VP", G15))), 0, (D15 * E15 / 1000000) * F15) -> 0 | P15: =(R15+S15)*$K$1 -> 0 | Q15: =T15*$K$1 -> 0 | R15: =IFERROR(IF(K15<>"ОК", 0, IF(B15="LT30/31", ((D15 + E15) * 2 / 1000) * F15 * SUMIFS('LT10,30'!$C:$C, 'LT10,30'!$A:$A, "LT30", 'LT10,30'!$B:$B, C15), IF(ISNUMBER(SEARCH("/", B15)), (((D15 + 2 * E15) / 1000) * F15 * SUMIFS('LT10,30'!$C:$C, 'LT10,30'!$A:$A, LEFT(B15, 4), 'LT10,30'!$B:$B, C15)) + ((D15 / 1000) * F15 * SUMIFS('LT10,30'!$C:$C, 'LT10,30'!$A:$A, LEFT(B15, 2) & MID(B15, 6, 2), 'LT10,30'!$B:$B, C15)), ((D15 + E15) * 2 / 1000) * F15 * SUMIFS('LT10,30'!$C:$C, 'LT10,30'!$A:$A, LEFT(B15, 4), 'LT10,30'!$B:$B, C15)))), 0) -> 0 | S15: =IFERROR(IF(K15<>"ОК", 0, F15 * IF(ISNUMBER(SEARCH("VP", G15)), INDEX('LT10,30'!$C:$C, MATCH("Сборка винных полок*", 'LT10,30'!$A:$A, 0)), IF(ISNUMBER(MATCH(B15, Данные!$B$119:$B$120, 0)), INDEX('LT10,30'!$C:$C, MATCH("Сборка световой полки LT10*", 'LT10,30'!$A:$A, 0)), IF(ISNUMBER(SEARCH("30/31", B15)), INDEX('LT10,30'!$C:$C, MATCH("Сборка световой полки LT30/31*", 'LT10,30'!$A:$A, 0)), IF(ISNUMBER(MATCH(B15, Данные!$B$121:$B$123, 0)), INDEX('LT10,30'!$C:$C, MATCH("Сборка световой полки LT30*", 'LT10,30'!$A:$A, 0)), 0))))), 0) -> 0 | T15: =IF(OR(K15<>"ОК", G15="", G15=Данные!$B$72, ISNUMBER(SEARCH("без", G15))), 0, IF(ISNUMBER(SEARCH("VP", G15)), F15 * H15 * ((E15 / 1000) * SUMIF('LT10,30'!$A:$A, G15, 'LT10,30'!$C:$C) + 2), O15 * IF(SUMIFS(СТЕКЛО!$C:$C, СТЕКЛО!$A:$A, G15, СТЕКЛО!$B:$B, "4")>0, SUMIFS(СТЕКЛО!$C:$C, СТЕКЛО!$A:$A, G15, СТЕКЛО!$B:$B, "4"), SUMIF(СТЕКЛО!$A:$A, G15, СТЕКЛО!$C:$C)) + IF(OR(ISNUMBER(SEARCH("30", B15)), ISNUMBER(SEARCH("31", B15)), ISNUMBER(SEARCH("11", B15))), F15 * ((D15 + E15) * 2 / 1000) * IFERROR(VLOOKUP("Полировка кромки стекла", СТЕКЛО!$A:$C, 3, FALSE), 1.42853), 0))) -> 0 | U15: =IF(OR(K15<>"ОК", J15="", J15="Без полкодержателей", ISNUMBER(SEARCH("без", J15))), 0, 4 * F15 * SUMIF('LT10,30'!$A:$A, J15, 'LT10,30'!$C:$C)) -> 0 | V15: 0 | W15: =IF(AND(K15="ОК", I15<>"", I15<>"без закалки"), (O15 * SUMIFS(СТЕКЛО!$C:$C, СТЕКЛО!$A:$A, "Закалка стекла", СТЕКЛО!$B:$B, "4-6 мм")) + (N15 * IF(B15=Данные!$B$119, 2, 1) * SUMIFS(СТЕКЛО!$C:$C, СТЕКЛО!$A:$A, "Шлифовка кромки стекла", СТЕКЛО!$B:$B, "4 мм") * (1 + IF(AND(MIN(D15, E15)>=30, MIN(D15, E15)<=100), 1, 0) + IF(MAX(D15, E15)>=2500, 1, 0))), 0) -> 0
A16: Стоимость заказа: | L16: =SUM(L4:L15) -> 0 | M16: =SUM(M4:M15) -> 0
B18: Серия LT 10/11: Рекомендуемые максимальные размеры полки: 900х400 мм. Монтаж световой полки в шкаф можно осуществить на саморезы через профиль либо на полкодержатели. Для стыковки профилей требуется специальная фрезеровка. В качестве наполнения используется стекло толщиной 4 мм.
B19: Серия LT 30/31: Рекомендуемые максимальные размеры: 1000х500 мм. Монтаж световой полки в шкаф можно осуществить на саморезы через профиль либо на полкодержатели. Для стыковки профилей LT 30 + LT 31 требуется специальная фрезеровка. Для стыковки профилей LT 30 + LT 30 (LT 31 + LT 31) достаточно запилить их под углом 45°. В качестве наполнения используется стекло толщиной 4 мм. Для расчета размера наполнения используется следующая формула: габарит полки минус 6 мм.
B21: *В стоимость работы входит стоимость углов для LT30/31 | G21: ВНИМАНИЕ !
G22: Заказывая у нас алюминиевые фасады и полки, вы подтверждаете, что ознакомились с техническими условиями и требованиями к качеству мебельных фасадов и согласны с ними.
G24: Ссылка на требования: | H24: http://ал-декор.рф/Izgotovlenie-alyuminievih-fasadov/

Sheet Фасады серии MZ,MF
A1: ЗАКАЗ № | D1: КЛИЕНТ | H1: Дата готовности | L1: Упаковка | O1: =AK1 -> 89.05 | Q1: 2 | AK1: 89.05
B2: Параметры фасада | G2: Выбор петель | I2: Выбор наполнения | O2: Проверка | P2: стоимость фасада У НАС, руб | Q2: стоимость фасада, руб | R2: метраж профиля | S2: площадь наполнения | T2: работа + профиль | U2: петли | V2: наполнение | W2: стоимость профиля | X2: стоимость работ | Y2: стоимость втулок | Z2: стоимость наполненния | AA2: стоимость подгонки | AB2: стоимость закалки | AC2: стоимость петель | AD2: стоимость отверстий | AE2: стоимость фолии | AF2: подгонка (Z-12, Z-17, Z-19, Z-20), м.п | AG2: Проверка цвета | AH2: Тег выбранного профиля | AI2: Тег выбранной петли | AJ2: Проверка совместимости | AK2: Примечание | AL2: Вес
B3: Выбор типа профиля | C3: Выбор цвета профиля | D3: Высота фасада | E3: Ширина фасада | F3: Кол-во фасадов | G3: Вид петли | H3: Кол-во петель для 1 фасада | I3: Вид стекла | J3: Дополнительная обработка стекла
J4: защитная фолия | K4: закалка стекла | L4: общее кол-во отверстий в стекле, шт | M4: диаметр отверстий, мм | N4: общее кол-во втулок, шт
A5: 1 | B5: MZ 07 | O5: =IF(OR(B5="", C5="", D5=0, E5=0, F5=0), "Сделайте выбор", IF(OR(D5<200, E5<200), "Мин. размер 200х200!", IF(NOT(AG5), "Ошибка цвета!", IF(IF(ISNUMBER(SEARCH("MF", B5)), SUMIFS(MF!$C:$C, MF!$A:$A, LEFT(B5, 5), MF!$B:$B, C5), SUMIFS(MZ!$C:$C, MZ!$A:$A, B5, MZ!$B:$B, C5))=0, "Нет актуальной цены!", IF(OR(AND(NOT(AJ5), NOT(AND(B5="MZ 04", ISNUMBER(SEARCH("902", G5))))), AND(ISNUMBER(SEARCH("MF20", SUBSTITUTE(G5, " ", ""))), NOT(ISNUMBER(SEARCH("MF 2", B5)))), AND(ISNUMBER(SEARCH("MF50", SUBSTITUTE(G5, " ", ""))), NOT(ISNUMBER(SEARCH("MF 5", B5)))), AND(ISNUMBER(SEARCH("MF70", SUBSTITUTE(G5, " ", ""))), NOT(ISNUMBER(SEARCH("MF 7", B5))))), "Петля не подходит!", IF(AND(K5<>"", K5<>"без закалки", OR(ISNUMBER(SEARCH("MF 2", B5)), ISNUMBER(SEARCH("MF 3", B5)))), "В этом профиле закалка невозможна!", IF(AND(K5<>"", K5<>"без закалки", ISNUMBER(SEARCH("нельзя закаливать", IFERROR(INDEX(Данные!$E:$E, MATCH(I5, Данные!$B:$B, 0)), "")))), "Это наполнение не закаливают!", "ОК"))))))) -> Сделайте выбор | P5: =IF(O5="ОК",SUM(W5:AE5)*$O$1,0) -> 0 | Q5: =(P5-P5*0.2)*$Q$1 -> 0 | R5: =SUM(D5:E5)*2*F5/1000 -> 0 | S5: =IF(OR(I5="", I5="без наполнения"), 0, D5/1000 * E5/1000 * F5) -> 0 | T5: =(W5+X5) * $O$1 -> 0 | U5: =AC5*$O$1 -> 0 | V5: =Z5*$O$1 -> 0 | W5: =IFERROR(IF(O5<>"ОК", 0, IF(NOT(ISNUMBER(SEARCH("MF", B5))), IF(ISNUMBER(SEARCH("13-01", B5)), ((R5 - D5*F5/1000) * SUMIFS(MZ!$C:$C, MZ!$A:$A, "MZ 13", MZ!$B:$B, C5) * 0.732) + (F5 * SUMIFS(MZ!$C:$C, MZ!$A:$A, B5, MZ!$B:$B, C5)), R5 * SUMIFS(MZ!$C:$C, MZ!$A:$A, B5, MZ!$B:$B, C5)), IF((LEN(B5)-LEN(SUBSTITUTE(B5,"/","")))=2, (IF(VLOOKUP(LEFT(B5, 5), MF!$A:$D, 4, 0)="хлыст", F5 * ROUNDUP((E5*2/1000) / VLOOKUP(LEFT(B5, 5), MF!$A:$E, 5, 0), 0), (E5*2*F5/1000)) * SUMIFS(MF!$C:$C, MF!$A:$A, LEFT(B5, 5), MF!$B:$B, C5)) + (IF(VLOOKUP("MF "&MID(B5, 7, 2), MF!$A:$D, 4, 0)="хлыст", F5 * ROUNDUP((D5/1000) / VLOOKUP("MF "&MID(B5, 7, 2), MF!$A:$E, 5, 0), 0), (D5*F5/1000)) * SUMIFS(MF!$C:$C, MF!$A:$A, "MF "&MID(B5, 7, 2), MF!$B:$B, C5)) + (IF(VLOOKUP("MF "&RIGHT(B5, 2), MF!$A:$D, 4, 0)="хлыст", F5 * ROUNDUP((D5/1000) / VLOOKUP("MF "&RIGHT(B5, 2), MF!$A:$E, 5, 0), 0), (D5*F5/1000)) * SUMIFS(MF!$C:$C, MF!$A:$A, "MF "&RIGHT(B5, 2), MF!$B:$B, C5)), IF((LEN(B5)-LEN(SUBSTITUTE(B5,"/","")))=1, (IF(VLOOKUP(LEFT(B5, 5), MF!$A:$D, 4, 0)="хлыст", F5 * ROUNDUP(((R5/F5) - D5/1000) / VLOOKUP(LEFT(B5, 5), MF!$A:$E, 5, 0), 0), (R5 - D5*F5/1000)) * SUMIFS(MF!$C:$C, MF!$A:$A, LEFT(B5, 5), MF!$B:$B, C5)) + (IF(VLOOKUP("MF "&RIGHT(B5, 2), MF!$A:$D, 4, 0)="хлыст", F5 * ROUNDUP((D5/1000) / VLOOKUP("MF "&RIGHT(B5, 2), MF!$A:$E, 5, 0), 0), (D5*F5/1000)) * SUMIFS(MF!$C:$C, MF!$A:$A, "MF "&RIGHT(B5, 2), MF!$B:$B, C5)), IF(VLOOKUP(B5, MF!$A:$D, 4, 0)="хлыст", F5 * ROUNDUP((R5/F5) / VLOOKUP(B5, MF!$A:$E, 5, 0), 0), R5) * SUMIFS(MF!$C:$C, MF!$A:$A, B5, MF!$B:$B, C5))))), 0) -> 0 | X5: =IFERROR(IF(O5<>"ОК", 0, F5 * IF(AND(ISNUMBER(SEARCH("MZ", B5)), ISNUMBER(SEARCH("04", B5)), ISNUMBER(SEARCH("902", G5))), SUMIF(MZ!$A:$A, "Сборка*902*", MZ!$C:$C), IF(ISNUMBER(SEARCH("MF", B5)), IF(ISNUMBER(SEARCH("MF 2", B5)), IF(ISNUMBER(SEARCH("/", B5)), SUMIF(MF!$A:$A, "Сборка фасада MF20/2*", MF!$C:$C), SUMIF(MF!$A:$A, "Сборка фасада MF20", MF!$C:$C)), IF(OR(ISNUMBER(SEARCH("MF 5", B5)), ISNUMBER(SEARCH("MF 7", B5))), SUMIF(MF!$A:$A, "Сборка фасада MF50, MF70*", MF!$C:$C), IF(ISNUMBER(SEARCH("MF 6", B5)), SUMIF(MF!$A:$A, "Сборка фасада MF30, MF60*", MF!$C:$C), IF(ISNUMBER(SEARCH("/", B5)), SUMIF(MF!$A:$A, "Сборка фасада MF30/3*", MF!$C:$C), SUMIF(MF!$A:$A, "Сборка фасада MF30, MF60*", MF!$C:$C))))), SUMIF(MZ!$A:$A, "Сборка+уголки+фрез.под петли*", MZ!$C:$C)))), 0) -> 0 | Y5: =IF(AND(O5="ОК", N5>0), N5 * SUMIFS(СТЕКЛО!$C:$C, СТЕКЛО!$A:$A, "Втулки для отверстий в стекле"), 0) -> 0 | Z5: =IF(O5="ОК", S5 * IFERROR(VLOOKUP(I5, СТЕКЛО!$A:$C, 3, 0), 0), 0) -> 0 | AA5: =IF(O5="ОК", AF5 * SUMIFS(СТЕКЛО!$C:$C, СТЕКЛО!$A:$A, "Подгонка под Z-12, Z-17, Z-19, Z-20"), 0) -> 0 | AB5: =IF(OR(O5<>"ОК", K5="", K5="без закалки", ISNUMBER(SEARCH("без", K5))), 0, ( (MAX(0.3 * F5, S5) * IF(SUMIFS(СТЕКЛО!$C:$C, СТЕКЛО!$A:$A, "*Закалк*", СТЕКЛО!$B:$B, "4*")>0, SUMIFS(СТЕКЛО!$C:$C, СТЕКЛО!$A:$A, "*Закалк*", СТЕКЛО!$B:$B, "4*"), SUMIF(СТЕКЛО!$A:$A, "*Закалк*", СТЕКЛО!$C:$C))) + (R5 * IF(SUMIFS(СТЕКЛО!$C:$C, СТЕКЛО!$A:$A, "*Шлифовк*", СТЕКЛО!$B:$B, "4*")>0, SUMIFS(СТЕКЛО!$C:$C, СТЕКЛО!$A:$A, "*Шлифовк*", СТЕКЛО!$B:$B, "4*"), SUMIF(СТЕКЛО!$A:$A, "*Шлифовк*", СТЕКЛО!$C:$C))) ) * (1 + IF(AND(MIN(D5, E5)>=30, MIN(D5, E5)<=100), 1, 0) + IF(MAX(D5, E5)>=2500, 1, 0)) ) -> 0 | AC5: =IF(OR(O5<>"ОК", G5="", G5="без присадки", G5="без петель", G5="только присадка"), 0, IF(ISNUMBER(SEARCH("MF", B5)), IF(SUMIF(MF!$A:$A, G5, MF!$C:$C)>0, SUMIF(MF!$A:$A, G5, MF!$C:$C), SUMIF(MZ!$A:$A, G5, MZ!$C:$C)), IF(SUMIF(MZ!$A:$A, G5, MZ!$C:$C)>0, SUMIF(MZ!$A:$A, G5, MZ!$C:$C), SUMIF(MF!$A:$A, G5, MF!$C:$C))) * F5 * IF(OR(ISNUMBER(SEARCH("Salice AIR", G5)), ISNUMBER(SEARCH("(2шт)", G5))), H5, H5)) -> 0 | AD5: =IF(AND(O5="ОК", L5>0, M5<>""), L5 * SUMIFS(СТЕКЛО!$C:$C, СТЕКЛО!$A:$A, "Сверление отверстий", СТЕКЛО!$B:$B, M5), 0) -> 0 | AE5: =IF(AND(O5="ОК", J5<>"", J5<>"без оклейки"), S5 * IFERROR(VLOOKUP(J5, СТЕКЛО!$A:$C, 3, 0), 0), 0) -> 0 | AF5: =IF(AND(ISNUMBER(MATCH(B5, {"MZ 12","MZ 17","MZ 19","MZ 20","MZ 20/21","MZ 20/22","MZ 20/25"}, 0)), I5<>"", I5<>"без наполнения"), R5, 0) -> 0 | AG5: =IF((COUNTIFS(MZ!$A:$A, B5, MZ!$B:$B, C5) + COUNTIFS(MF!$A:$A, B5, MF!$B:$B, C5))>0, TRUE, FALSE) -> FALSE | AH5: =IFERROR(VLOOKUP(B5, Данные!$B:$C, 2, 0), "") -> узкий | AI5: =IFERROR(VLOOKUP(G5, Данные!$B:$C, 2, 0), "") | AJ5: =IF(G5="без присадки", IF(IFERROR(VLOOKUP(B5, Данные!$B:$D, 3, 0), "")="можно без присадки", TRUE, FALSE), IF(OR(AH5=AI5, AI5="любой", G5="только присадка", G5=""), TRUE, FALSE)) -> TRUE | AL5: =IF(OR(I5="", I5="без наполнения"), R5 * (3/6), S5 * (40/4.09) + R5 * (3/6)) -> 0
A6: 2 | O6: =IF(OR(B6="", C6="", D6=0, E6=0, F6=0), "Сделайте выбор", IF(OR(D6<200, E6<200), "Мин. размер 200х200!", IF(NOT(AG6), "Ошибка цвета!", IF(IF(ISNUMBER(SEARCH("MF", B6)), SUMIFS(MF!$C:$C, MF!$A:$A, LEFT(B6, 5), MF!$B:$B, C6), SUMIFS(MZ!$C:$C, MZ!$A:$A, B6, MZ!$B:$B, C6))=0, "Нет актуальной цены!", IF(OR(AND(NOT(AJ6), NOT(AND(B6="MZ 04", ISNUMBER(SEARCH("902", G6))))), AND(ISNUMBER(SEARCH("MF20", SUBSTITUTE(G6, " ", ""))), NOT(ISNUMBER(SEARCH("MF 2", B6)))), AND(ISNUMBER(SEARCH("MF50", SUBSTITUTE(G6, " ", ""))), NOT(ISNUMBER(SEARCH("MF 5", B6)))), AND(ISNUMBER(SEARCH("MF70", SUBSTITUTE(G6, " ", ""))), NOT(ISNUMBER(SEARCH("MF 7", B6))))), "Петля не подходит!", IF(AND(K6<>"", K6<>"без закалки", OR(ISNUMBER(SEARCH("MF 2", B6)), ISNUMBER(SEARCH("MF 3", B6)))), "В этом профиле закалка невозможна!", IF(AND(K6<>"", K6<>"без закалки", ISNUMBER(SEARCH("нельзя закаливать", IFERROR(INDEX(Данные!$E:$E, MATCH(I6, Данные!$B:$B, 0)), "")))), "Это наполнение не закаливают!", "ОК"))))))) -> Сделайте выбор | P6: =IF(O6="ОК",SUM(W6:AE6)*$O$1,0) -> 0 | Q6: =(P6-P6*0.2)*$Q$1 -> 0 | R6: =SUM(D6:E6)*2*F6/1000 -> 0 | S6: =IF(OR(I6="", I6="без наполнения"), 0, D6/1000 * E6/1000 * F6) -> 0 | T6: =(W6+X6) * $O$1 -> 0 | U6: =AC6*$O$1 -> 0 | V6: =Z6*$O$1 -> 0 | W6: =IFERROR(IF(O6<>"ОК", 0, IF(NOT(ISNUMBER(SEARCH("MF", B6))), IF(ISNUMBER(SEARCH("13-01", B6)), ((R6 - D6*F6/1000) * SUMIFS(MZ!$C:$C, MZ!$A:$A, "MZ 13", MZ!$B:$B, C6) * 0.732) + (F6 * SUMIFS(MZ!$C:$C, MZ!$A:$A, B6, MZ!$B:$B, C6)), R6 * SUMIFS(MZ!$C:$C, MZ!$A:$A, B6, MZ!$B:$B, C6)), IF((LEN(B6)-LEN(SUBSTITUTE(B6,"/","")))=2, (IF(VLOOKUP(LEFT(B6, 5), MF!$A:$D, 4, 0)="хлыст", F6 * ROUNDUP((E6*2/1000) / VLOOKUP(LEFT(B6, 5), MF!$A:$E, 5, 0), 0), (E6*2*F6/1000)) * SUMIFS(MF!$C:$C, MF!$A:$A, LEFT(B6, 5), MF!$B:$B, C6)) + (IF(VLOOKUP("MF "&MID(B6, 7, 2), MF!$A:$D, 4, 0)="хлыст", F6 * ROUNDUP((D6/1000) / VLOOKUP("MF "&MID(B6, 7, 2), MF!$A:$E, 5, 0), 0), (D6*F6/1000)) * SUMIFS(MF!$C:$C, MF!$A:$A, "MF "&MID(B6, 7, 2), MF!$B:$B, C6)) + (IF(VLOOKUP("MF "&RIGHT(B6, 2), MF!$A:$D, 4, 0)="хлыст", F6 * ROUNDUP((D6/1000) / VLOOKUP("MF "&RIGHT(B6, 2), MF!$A:$E, 5, 0), 0), (D6*F6/1000)) * SUMIFS(MF!$C:$C, MF!$A:$A, "MF "&RIGHT(B6, 2), MF!$B:$B, C6)), IF((LEN(B6)-LEN(SUBSTITUTE(B6,"/","")))=1, (IF(VLOOKUP(LEFT(B6, 5), MF!$A:$D, 4, 0)="хлыст", F6 * ROUNDUP(((R6/F6) - D6/1000) / VLOOKUP(LEFT(B6, 5), MF!$A:$E, 5, 0), 0), (R6 - D6*F6/1000)) * SUMIFS(MF!$C:$C, MF!$A:$A, LEFT(B6, 5), MF!$B:$B, C6)) + (IF(VLOOKUP("MF "&RIGHT(B6, 2), MF!$A:$D, 4, 0)="хлыст", F6 * ROUNDUP((D6/1000) / VLOOKUP("MF "&RIGHT(B6, 2), MF!$A:$E, 5, 0), 0), (D6*F6/1000)) * SUMIFS(MF!$C:$C, MF!$A:$A, "MF "&RIGHT(B6, 2), MF!$B:$B, C6)), IF(VLOOKUP(B6, MF!$A:$D, 4, 0)="хлыст", F6 * ROUNDUP((R6/F6) / VLOOKUP(B6, MF!$A:$E, 5, 0), 0), R6) * SUMIFS(MF!$C:$C, MF!$A:$A, B6, MF!$B:$B, C6))))), 0) -> 0 | X6: =IFERROR(IF(O6<>"ОК", 0, F6 * IF(AND(ISNUMBER(SEARCH("MZ", B6)), ISNUMBER(SEARCH("04", B6)), ISNUMBER(SEARCH("902", G6))), SUMIF(MZ!$A:$A, "Сборка*902*", MZ!$C:$C), IF(ISNUMBER(SEARCH("MF", B6)), IF(ISNUMBER(SEARCH("MF 2", B6)), IF(ISNUMBER(SEARCH("/", B6)), SUMIF(MF!$A:$A, "Сборка фасада MF20/2*", MF!$C:$C), SUMIF(MF!$A:$A, "Сборка фасада MF20", MF!$C:$C)), IF(OR(ISNUMBER(SEARCH("MF 5", B6)), ISNUMBER(SEARCH("MF 7", B6))), SUMIF(MF!$A:$A, "Сборка фасада MF50, MF70*", MF!$C:$C), IF(ISNUMBER(SEARCH("MF 6", B6)), SUMIF(MF!$A:$A, "Сборка фасада MF30, MF60*", MF!$C:$C), IF(ISNUMBER(SEARCH("/", B6)), SUMIF(MF!$A:$A, "Сборка фасада MF30/3*", MF!$C:$C), SUMIF(MF!$A:$A, "Сборка фасада MF30, MF60*", MF!$C:$C))))), SUMIF(MZ!$A:$A, "Сборка+уголки+фрез.под петли*", MZ!$C:$C)))), 0) -> 0 | Y6: =IF(AND(O6="ОК", N6>0), N6 * SUMIFS(СТЕКЛО!$C:$C, СТЕКЛО!$A:$A, "Втулки для отверстий в стекле"), 0) -> 0 | Z6: =IF(O6="ОК", S6 * IFERROR(VLOOKUP(I6, СТЕКЛО!$A:$C, 3, 0), 0), 0) -> 0 | AA6: =IF(O6="ОК", AF6 * SUMIFS(СТЕКЛО!$C:$C, СТЕКЛО!$A:$A, "Подгонка под Z-12, Z-17, Z-19, Z-20"), 0) -> 0 | AB6: =IF(OR(O6<>"ОК", K6="", K6="без закалки", ISNUMBER(SEARCH("без", K6))), 0, ( (MAX(0.3 * F6, S6) * IF(SUMIFS(СТЕКЛО!$C:$C, СТЕКЛО!$A:$A, "*Закалк*", СТЕКЛО!$B:$B, "4*")>0, SUMIFS(СТЕКЛО!$C:$C, СТЕКЛО!$A:$A, "*Закалк*", СТЕКЛО!$B:$B, "4*"), SUMIF(СТЕКЛО!$A:$A, "*Закалк*", СТЕКЛО!$C:$C))) + (R6 * IF(SUMIFS(СТЕКЛО!$C:$C, СТЕКЛО!$A:$A, "*Шлифовк*", СТЕКЛО!$B:$B, "4*")>0, SUMIFS(СТЕКЛО!$C:$C, СТЕКЛО!$A:$A, "*Шлифовк*", СТЕКЛО!$B:$B, "4*"), SUMIF(СТЕКЛО!$A:$A, "*Шлифовк*", СТЕКЛО!$C:$C))) ) * (1 + IF(AND(MIN(D6, E6)>=30, MIN(D6, E6)<=100), 1, 0) + IF(MAX(D6, E6)>=2500, 1, 0)) ) -> 0 | AC6: =IF(OR(O6<>"ОК", G6="", G6="без присадки", G6="без петель", G6="только присадка"), 0, IF(ISNUMBER(SEARCH("MF", B6)), IF(SUMIF(MF!$A:$A, G6, MF!$C:$C)>0, SUMIF(MF!$A:$A, G6, MF!$C:$C), SUMIF(MZ!$A:$A, G6, MZ!$C:$C)), IF(SUMIF(MZ!$A:$A, G6, MZ!$C:$C)>0, SUMIF(MZ!$A:$A, G6, MZ!$C:$C), SUMIF(MF!$A:$A, G6, MF!$C:$C))) * F6 * IF(OR(ISNUMBER(SEARCH("Salice AIR", G6)), ISNUMBER(SEARCH("(2шт)", G6))), H6, H6)) -> 0 | AD6: =IF(AND(O6="ОК", L6>0, M6<>""), L6 * SUMIFS(СТЕКЛО!$C:$C, СТЕКЛО!$A:$A, "Сверление отверстий", СТЕКЛО!$B:$B, M6), 0) -> 0 | AE6: =IF(AND(O6="ОК", J6<>"", J6<>"без оклейки"), S6 * IFERROR(VLOOKUP(J6, СТЕКЛО!$A:$C, 3, 0), 0), 0) -> 0 | AF6: =IF(AND(ISNUMBER(MATCH(B6, {"MZ 12","MZ 17","MZ 19","MZ 20","MZ 20/21","MZ 20/22","MZ 20/25"}, 0)), I6<>"", I6<>"без наполнения"), R6, 0) -> 0 | AG6: =IF((COUNTIFS(MZ!$A:$A, B6, MZ!$B:$B, C6) + COUNTIFS(MF!$A:$A, B6, MF!$B:$B, C6))>0, TRUE, FALSE) -> FALSE | AH6: =IFERROR(VLOOKUP(B6, Данные!$B:$C, 2, 0), "") | AI6: =IFERROR(VLOOKUP(G6, Данные!$B:$C, 2, 0), "") | AJ6: =IF(G6="без присадки", IF(IFERROR(VLOOKUP(B6, Данные!$B:$D, 3, 0), "")="можно без присадки", TRUE, FALSE), IF(OR(AH6=AI6, AI6="любой", G6="только присадка", G6=""), TRUE, FALSE)) -> TRUE | AL6: =IF(OR(I6="", I6="без наполнения"), R6 * (3/6), S6 * (40/4.09) + R6 * (3/6)) -> 0
A7: 3 | O7: =IF(OR(B7="", C7="", D7=0, E7=0, F7=0), "Сделайте выбор", IF(OR(D7<200, E7<200), "Мин. размер 200х200!", IF(NOT(AG7), "Ошибка цвета!", IF(IF(ISNUMBER(SEARCH("MF", B7)), SUMIFS(MF!$C:$C, MF!$A:$A, LEFT(B7, 5), MF!$B:$B, C7), SUMIFS(MZ!$C:$C, MZ!$A:$A, B7, MZ!$B:$B, C7))=0, "Нет актуальной цены!", IF(OR(AND(NOT(AJ7), NOT(AND(B7="MZ 04", ISNUMBER(SEARCH("902", G7))))), AND(ISNUMBER(SEARCH("MF20", SUBSTITUTE(G7, " ", ""))), NOT(ISNUMBER(SEARCH("MF 2", B7)))), AND(ISNUMBER(SEARCH("MF50", SUBSTITUTE(G7, " ", ""))), NOT(ISNUMBER(SEARCH("MF 5", B7)))), AND(ISNUMBER(SEARCH("MF70", SUBSTITUTE(G7, " ", ""))), NOT(ISNUMBER(SEARCH("MF 7", B7))))), "Петля не подходит!", IF(AND(K7<>"", K7<>"без закалки", OR(ISNUMBER(SEARCH("MF 2", B7)), ISNUMBER(SEARCH("MF 3", B7)))), "В этом профиле закалка невозможна!", IF(AND(K7<>"", K7<>"без закалки", ISNUMBER(SEARCH("нельзя закаливать", IFERROR(INDEX(Данные!$E:$E, MATCH(I7, Данные!$B:$B, 0)), "")))), "Это наполнение не закаливают!", "ОК"))))))) -> Сделайте выбор | P7: =IF(O7="ОК",SUM(W7:AE7)*$O$1,0) -> 0 | Q7: =(P7-P7*0.2)*$Q$1 -> 0 | R7: =SUM(D7:E7)*2*F7/1000 -> 0 | S7: =IF(OR(I7="", I7="без наполнения"), 0, D7/1000 * E7/1000 * F7) -> 0 | T7: =(W7+X7) * $O$1 -> 0 | U7: =AC7*$O$1 -> 0 | V7: =Z7*$O$1 -> 0 | W7: =IFERROR(IF(O7<>"ОК", 0, IF(NOT(ISNUMBER(SEARCH("MF", B7))), IF(ISNUMBER(SEARCH("13-01", B7)), ((R7 - D7*F7/1000) * SUMIFS(MZ!$C:$C, MZ!$A:$A, "MZ 13", MZ!$B:$B, C7) * 0.732) + (F7 * SUMIFS(MZ!$C:$C, MZ!$A:$A, B7, MZ!$B:$B, C7)), R7 * SUMIFS(MZ!$C:$C, MZ!$A:$A, B7, MZ!$B:$B, C7)), IF((LEN(B7)-LEN(SUBSTITUTE(B7,"/","")))=2, (IF(VLOOKUP(LEFT(B7, 5), MF!$A:$D, 4, 0)="хлыст", F7 * ROUNDUP((E7*2/1000) / VLOOKUP(LEFT(B7, 5), MF!$A:$E, 5, 0), 0), (E7*2*F7/1000)) * SUMIFS(MF!$C:$C, MF!$A:$A, LEFT(B7, 5), MF!$B:$B, C7)) + (IF(VLOOKUP("MF "&MID(B7, 7, 2), MF!$A:$D, 4, 0)="хлыст", F7 * ROUNDUP((D7/1000) / VLOOKUP("MF "&MID(B7, 7, 2), MF!$A:$E, 5, 0), 0), (D7*F7/1000)) * SUMIFS(MF!$C:$C, MF!$A:$A, "MF "&MID(B7, 7, 2), MF!$B:$B, C7)) + (IF(VLOOKUP("MF "&RIGHT(B7, 2), MF!$A:$D, 4, 0)="хлыст", F7 * ROUNDUP((D7/1000) / VLOOKUP("MF "&RIGHT(B7, 2), MF!$A:$E, 5, 0), 0), (D7*F7/1000)) * SUMIFS(MF!$C:$C, MF!$A:$A, "MF "&RIGHT(B7, 2), MF!$B:$B, C7)), IF((LEN(B7)-LEN(SUBSTITUTE(B7,"/","")))=1, (IF(VLOOKUP(LEFT(B7, 5), MF!$A:$D, 4, 0)="хлыст", F7 * ROUNDUP(((R7/F7) - D7/1000) / VLOOKUP(LEFT(B7, 5), MF!$A:$E, 5, 0), 0), (R7 - D7*F7/1000)) * SUMIFS(MF!$C:$C, MF!$A:$A, LEFT(B7, 5), MF!$B:$B, C7)) + (IF(VLOOKUP("MF "&RIGHT(B7, 2), MF!$A:$D, 4, 0)="хлыст", F7 * ROUNDUP((D7/1000) / VLOOKUP("MF "&RIGHT(B7, 2), MF!$A:$E, 5, 0), 0), (D7*F7/1000)) * SUMIFS(MF!$C:$C, MF!$A:$A, "MF "&RIGHT(B7, 2), MF!$B:$B, C7)), IF(VLOOKUP(B7, MF!$A:$D, 4, 0)="хлыст", F7 * ROUNDUP((R7/F7) / VLOOKUP(B7, MF!$A:$E, 5, 0), 0), R7) * SUMIFS(MF!$C:$C, MF!$A:$A, B7, MF!$B:$B, C7))))), 0) -> 0 | X7: =IFERROR(IF(O7<>"ОК", 0, F7 * IF(AND(ISNUMBER(SEARCH("MZ", B7)), ISNUMBER(SEARCH("04", B7)), ISNUMBER(SEARCH("902", G7))), SUMIF(MZ!$A:$A, "Сборка*902*", MZ!$C:$C), IF(ISNUMBER(SEARCH("MF", B7)), IF(ISNUMBER(SEARCH("MF 2", B7)), IF(ISNUMBER(SEARCH("/", B7)), SUMIF(MF!$A:$A, "Сборка фасада MF20/2*", MF!$C:$C), SUMIF(MF!$A:$A, "Сборка фасада MF20", MF!$C:$C)), IF(OR(ISNUMBER(SEARCH("MF 5", B7)), ISNUMBER(SEARCH("MF 7", B7))), SUMIF(MF!$A:$A, "Сборка фасада MF50, MF70*", MF!$C:$C), IF(ISNUMBER(SEARCH("MF 6", B7)), SUMIF(MF!$A:$A, "Сборка фасада MF30, MF60*", MF!$C:$C), IF(ISNUMBER(SEARCH("/", B7)), SUMIF(MF!$A:$A, "Сборка фасада MF30/3*", MF!$C:$C), SUMIF(MF!$A:$A, "Сборка фасада MF30, MF60*", MF!$C:$C))))), SUMIF(MZ!$A:$A, "Сборка+уголки+фрез.под петли*", MZ!$C:$C)))), 0) -> 0 | Y7: =IF(AND(O7="ОК", N7>0), N7 * SUMIFS(СТЕКЛО!$C:$C, СТЕКЛО!$A:$A, "Втулки для отверстий в стекле"), 0) -> 0 | Z7: =IF(O7="ОК", S7 * IFERROR(VLOOKUP(I7, СТЕКЛО!$A:$C, 3, 0), 0), 0) -> 0 | AA7: =IF(O7="ОК", AF7 * SUMIFS(СТЕКЛО!$C:$C, СТЕКЛО!$A:$A, "Подгонка под Z-12, Z-17, Z-19, Z-20"), 0) -> 0 | AB7: =IF(OR(O7<>"ОК", K7="", K7="без закалки", ISNUMBER(SEARCH("без", K7))), 0, ( (MAX(0.3 * F7, S7) * IF(SUMIFS(СТЕКЛО!$C:$C, СТЕКЛО!$A:$A, "*Закалк*", СТЕКЛО!$B:$B, "4*")>0, SUMIFS(СТЕКЛО!$C:$C, СТЕКЛО!$A:$A, "*Закалк*", СТЕКЛО!$B:$B, "4*"), SUMIF(СТЕКЛО!$A:$A, "*Закалк*", СТЕКЛО!$C:$C))) + (R7 * IF(SUMIFS(СТЕКЛО!$C:$C, СТЕКЛО!$A:$A, "*Шлифовк*", СТЕКЛО!$B:$B, "4*")>0, SUMIFS(СТЕКЛО!$C:$C, СТЕКЛО!$A:$A, "*Шлифовк*", СТЕКЛО!$B:$B, "4*"), SUMIF(СТЕКЛО!$A:$A, "*Шлифовк*", СТЕКЛО!$C:$C))) ) * (1 + IF(AND(MIN(D7, E7)>=30, MIN(D7, E7)<=100), 1, 0) + IF(MAX(D7, E7)>=2500, 1, 0)) ) -> 0 | AC7: =IF(OR(O7<>"ОК", G7="", G7="без присадки", G7="без петель", G7="только присадка"), 0, IF(ISNUMBER(SEARCH("MF", B7)), IF(SUMIF(MF!$A:$A, G7, MF!$C:$C)>0, SUMIF(MF!$A:$A, G7, MF!$C:$C), SUMIF(MZ!$A:$A, G7, MZ!$C:$C)), IF(SUMIF(MZ!$A:$A, G7, MZ!$C:$C)>0, SUMIF(MZ!$A:$A, G7, MZ!$C:$C), SUMIF(MF!$A:$A, G7, MF!$C:$C))) * F7 * IF(OR(ISNUMBER(SEARCH("Salice AIR", G7)), ISNUMBER(SEARCH("(2шт)", G7))), H7, H7)) -> 0 | AD7: =IF(AND(O7="ОК", L7>0, M7<>""), L7 * SUMIFS(СТЕКЛО!$C:$C, СТЕКЛО!$A:$A, "Сверление отверстий", СТЕКЛО!$B:$B, M7), 0) -> 0 | AE7: =IF(AND(O7="ОК", J7<>"", J7<>"без оклейки"), S7 * IFERROR(VLOOKUP(J7, СТЕКЛО!$A:$C, 3, 0), 0), 0) -> 0 | AF7: =IF(AND(ISNUMBER(MATCH(B7, {"MZ 12","MZ 17","MZ 19","MZ 20","MZ 20/21","MZ 20/22","MZ 20/25"}, 0)), I7<>"", I7<>"без наполнения"), R7, 0) -> 0 | AG7: =IF((COUNTIFS(MZ!$A:$A, B7, MZ!$B:$B, C7) + COUNTIFS(MF!$A:$A, B7, MF!$B:$B, C7))>0, TRUE, FALSE) -> FALSE | AH7: =IFERROR(VLOOKUP(B7, Данные!$B:$C, 2, 0), "") | AI7: =IFERROR(VLOOKUP(G7, Данные!$B:$C, 2, 0), "") | AJ7: =IF(G7="без присадки", IF(IFERROR(VLOOKUP(B7, Данные!$B:$D, 3, 0), "")="можно без присадки", TRUE, FALSE), IF(OR(AH7=AI7, AI7="любой", G7="только присадка", G7=""), TRUE, FALSE)) -> TRUE | AL7: =IF(OR(I7="", I7="без наполнения"), R7 * (3/6), S7 * (40/4.09) + R7 * (3/6)) -> 0
A8: 4 | O8: =IF(OR(B8="", C8="", D8=0, E8=0, F8=0), "Сделайте выбор", IF(OR(D8<200, E8<200), "Мин. размер 200х200!", IF(NOT(AG8), "Ошибка цвета!", IF(IF(ISNUMBER(SEARCH("MF", B8)), SUMIFS(MF!$C:$C, MF!$A:$A, LEFT(B8, 5), MF!$B:$B, C8), SUMIFS(MZ!$C:$C, MZ!$A:$A, B8, MZ!$B:$B, C8))=0, "Нет актуальной цены!", IF(OR(AND(NOT(AJ8), NOT(AND(B8="MZ 04", ISNUMBER(SEARCH("902", G8))))), AND(ISNUMBER(SEARCH("MF20", SUBSTITUTE(G8, " ", ""))), NOT(ISNUMBER(SEARCH("MF 2", B8)))), AND(ISNUMBER(SEARCH("MF50", SUBSTITUTE(G8, " ", ""))), NOT(ISNUMBER(SEARCH("MF 5", B8)))), AND(ISNUMBER(SEARCH("MF70", SUBSTITUTE(G8, " ", ""))), NOT(ISNUMBER(SEARCH("MF 7", B8))))), "Петля не подходит!", IF(AND(K8<>"", K8<>"без закалки", OR(ISNUMBER(SEARCH("MF 2", B8)), ISNUMBER(SEARCH("MF 3", B8)))), "В этом профиле закалка невозможна!", IF(AND(K8<>"", K8<>"без закалки", ISNUMBER(SEARCH("нельзя закаливать", IFERROR(INDEX(Данные!$E:$E, MATCH(I8, Данные!$B:$B, 0)), "")))), "Это наполнение не закаливают!", "ОК"))))))) -> Сделайте выбор | P8: =IF(O8="ОК",SUM(W8:AE8)*$O$1,0) -> 0 | Q8: =(P8-P8*0.2)*$Q$1 -> 0 | R8: =SUM(D8:E8)*2*F8/1000 -> 0 | S8: =IF(OR(I8="", I8="без наполнения"), 0, D8/1000 * E8/1000 * F8) -> 0 | T8: =(W8+X8) * $O$1 -> 0 | U8: =AC8*$O$1 -> 0 | V8: =Z8*$O$1 -> 0 | W8: =IFERROR(IF(O8<>"ОК", 0, IF(NOT(ISNUMBER(SEARCH("MF", B8))), IF(ISNUMBER(SEARCH("13-01", B8)), ((R8 - D8*F8/1000) * SUMIFS(MZ!$C:$C, MZ!$A:$A, "MZ 13", MZ!$B:$B, C8) * 0.732) + (F8 * SUMIFS(MZ!$C:$C, MZ!$A:$A, B8, MZ!$B:$B, C8)), R8 * SUMIFS(MZ!$C:$C, MZ!$A:$A, B8, MZ!$B:$B, C8)), IF((LEN(B8)-LEN(SUBSTITUTE(B8,"/","")))=2, (IF(VLOOKUP(LEFT(B8, 5), MF!$A:$D, 4, 0)="хлыст", F8 * ROUNDUP((E8*2/1000) / VLOOKUP(LEFT(B8, 5), MF!$A:$E, 5, 0), 0), (E8*2*F8/1000)) * SUMIFS(MF!$C:$C, MF!$A:$A, LEFT(B8, 5), MF!$B:$B, C8)) + (IF(VLOOKUP("MF "&MID(B8, 7, 2), MF!$A:$D, 4, 0)="хлыст", F8 * ROUNDUP((D8/1000) / VLOOKUP("MF "&MID(B8, 7, 2), MF!$A:$E, 5, 0), 0), (D8*F8/1000)) * SUMIFS(MF!$C:$C, MF!$A:$A, "MF "&MID(B8, 7, 2), MF!$B:$B, C8)) + (IF(VLOOKUP("MF "&RIGHT(B8, 2), MF!$A:$D, 4, 0)="хлыст", F8 * ROUNDUP((D8/1000) / VLOOKUP("MF "&RIGHT(B8, 2), MF!$A:$E, 5, 0), 0), (D8*F8/1000)) * SUMIFS(MF!$C:$C, MF!$A:$A, "MF "&RIGHT(B8, 2), MF!$B:$B, C8)), IF((LEN(B8)-LEN(SUBSTITUTE(B8,"/","")))=1, (IF(VLOOKUP(LEFT(B8, 5), MF!$A:$D, 4, 0)="хлыст", F8 * ROUNDUP(((R8/F8) - D8/1000) / VLOOKUP(LEFT(B8, 5), MF!$A:$E, 5, 0), 0), (R8 - D8*F8/1000)) * SUMIFS(MF!$C:$C, MF!$A:$A, LEFT(B8, 5), MF!$B:$B, C8)) + (IF(VLOOKUP("MF "&RIGHT(B8, 2), MF!$A:$D, 4, 0)="хлыст", F8 * ROUNDUP((D8/1000) / VLOOKUP("MF "&RIGHT(B8, 2), MF!$A:$E, 5, 0), 0), (D8*F8/1000)) * SUMIFS(MF!$C:$C, MF!$A:$A, "MF "&RIGHT(B8, 2), MF!$B:$B, C8)), IF(VLOOKUP(B8, MF!$A:$D, 4, 0)="хлыст", F8 * ROUNDUP((R8/F8) / VLOOKUP(B8, MF!$A:$E, 5, 0), 0), R8) * SUMIFS(MF!$C:$C, MF!$A:$A, B8, MF!$B:$B, C8))))), 0) -> 0 | X8: =IFERROR(IF(O8<>"ОК", 0, F8 * IF(AND(ISNUMBER(SEARCH("MZ", B8)), ISNUMBER(SEARCH("04", B8)), ISNUMBER(SEARCH("902", G8))), SUMIF(MZ!$A:$A, "Сборка*902*", MZ!$C:$C), IF(ISNUMBER(SEARCH("MF", B8)), IF(ISNUMBER(SEARCH("MF 2", B8)), IF(ISNUMBER(SEARCH("/", B8)), SUMIF(MF!$A:$A, "Сборка фасада MF20/2*", MF!$C:$C), SUMIF(MF!$A:$A, "Сборка фасада MF20", MF!$C:$C)), IF(OR(ISNUMBER(SEARCH("MF 5", B8)), ISNUMBER(SEARCH("MF 7", B8))), SUMIF(MF!$A:$A, "Сборка фасада MF50, MF70*", MF!$C:$C), IF(ISNUMBER(SEARCH("MF 6", B8)), SUMIF(MF!$A:$A, "Сборка фасада MF30, MF60*", MF!$C:$C), IF(ISNUMBER(SEARCH("/", B8)), SUMIF(MF!$A:$A, "Сборка фасада MF30/3*", MF!$C:$C), SUMIF(MF!$A:$A, "Сборка фасада MF30, MF60*", MF!$C:$C))))), SUMIF(MZ!$A:$A, "Сборка+уголки+фрез.под петли*", MZ!$C:$C)))), 0) -> 0 | Y8: =IF(AND(O8="ОК", N8>0), N8 * SUMIFS(СТЕКЛО!$C:$C, СТЕКЛО!$A:$A, "Втулки для отверстий в стекле"), 0) -> 0 | Z8: =IF(O8="ОК", S8 * IFERROR(VLOOKUP(I8, СТЕКЛО!$A:$C, 3, 0), 0), 0) -> 0 | AA8: =IF(O8="ОК", AF8 * SUMIFS(СТЕКЛО!$C:$C, СТЕКЛО!$A:$A, "Подгонка под Z-12, Z-17, Z-19, Z-20"), 0) -> 0 | AB8: =IF(OR(O8<>"ОК", K8="", K8="без закалки", ISNUMBER(SEARCH("без", K8))), 0, ( (MAX(0.3 * F8, S8) * IF(SUMIFS(СТЕКЛО!$C:$C, СТЕКЛО!$A:$A, "*Закалк*", СТЕКЛО!$B:$B, "4*")>0, SUMIFS(СТЕКЛО!$C:$C, СТЕКЛО!$A:$A, "*Закалк*", СТЕКЛО!$B:$B, "4*"), SUMIF(СТЕКЛО!$A:$A, "*Закалк*", СТЕКЛО!$C:$C))) + (R8 * IF(SUMIFS(СТЕКЛО!$C:$C, СТЕКЛО!$A:$A, "*Шлифовк*", СТЕКЛО!$B:$B, "4*")>0, SUMIFS(СТЕКЛО!$C:$C, СТЕКЛО!$A:$A, "*Шлифовк*", СТЕКЛО!$B:$B, "4*"), SUMIF(СТЕКЛО!$A:$A, "*Шлифовк*", СТЕКЛО!$C:$C))) ) * (1 + IF(AND(MIN(D8, E8)>=30, MIN(D8, E8)<=100), 1, 0) + IF(MAX(D8, E8)>=2500, 1, 0)) ) -> 0 | AC8: =IF(OR(O8<>"ОК", G8="", G8="без присадки", G8="без петель", G8="только присадка"), 0, IF(ISNUMBER(SEARCH("MF", B8)), IF(SUMIF(MF!$A:$A, G8, MF!$C:$C)>0, SUMIF(MF!$A:$A, G8, MF!$C:$C), SUMIF(MZ!$A:$A, G8, MZ!$C:$C)), IF(SUMIF(MZ!$A:$A, G8, MZ!$C:$C)>0, SUMIF(MZ!$A:$A, G8, MZ!$C:$C), SUMIF(MF!$A:$A, G8, MF!$C:$C))) * F8 * IF(OR(ISNUMBER(SEARCH("Salice AIR", G8)), ISNUMBER(SEARCH("(2шт)", G8))), H8, H8)) -> 0 | AD8: =IF(AND(O8="ОК", L8>0, M8<>""), L8 * SUMIFS(СТЕКЛО!$C:$C, СТЕКЛО!$A:$A, "Сверление отверстий", СТЕКЛО!$B:$B, M8), 0) -> 0 | AE8: =IF(AND(O8="ОК", J8<>"", J8<>"без оклейки"), S8 * IFERROR(VLOOKUP(J8, СТЕКЛО!$A:$C, 3, 0), 0), 0) -> 0 | AF8: =IF(AND(ISNUMBER(MATCH(B8, {"MZ 12","MZ 17","MZ 19","MZ 20","MZ 20/21","MZ 20/22","MZ 20/25"}, 0)), I8<>"", I8<>"без наполнения"), R8, 0) -> 0 | AG8: =IF((COUNTIFS(MZ!$A:$A, B8, MZ!$B:$B, C8) + COUNTIFS(MF!$A:$A, B8, MF!$B:$B, C8))>0, TRUE, FALSE) -> FALSE | AH8: =IFERROR(VLOOKUP(B8, Данные!$B:$C, 2, 0), "") | AI8: =IFERROR(VLOOKUP(G8, Данные!$B:$C, 2, 0), "") | AJ8: =IF(G8="без присадки", IF(IFERROR(VLOOKUP(B8, Данные!$B:$D, 3, 0), "")="можно без присадки", TRUE, FALSE), IF(OR(AH8=AI8, AI8="любой", G8="только присадка", G8=""), TRUE, FALSE)) -> TRUE | AL8: =IF(OR(I8="", I8="без наполнения"), R8 * (3/6), S8 * (40/4.09) + R8 * (3/6)) -> 0
A9: 5 | O9: =IF(OR(B9="", C9="", D9=0, E9=0, F9=0), "Сделайте выбор", IF(OR(D9<200, E9<200), "Мин. размер 200х200!", IF(NOT(AG9), "Ошибка цвета!", IF(IF(ISNUMBER(SEARCH("MF", B9)), SUMIFS(MF!$C:$C, MF!$A:$A, LEFT(B9, 5), MF!$B:$B, C9), SUMIFS(MZ!$C:$C, MZ!$A:$A, B9, MZ!$B:$B, C9))=0, "Нет актуальной цены!", IF(OR(AND(NOT(AJ9), NOT(AND(B9="MZ 04", ISNUMBER(SEARCH("902", G9))))), AND(ISNUMBER(SEARCH("MF20", SUBSTITUTE(G9, " ", ""))), NOT(ISNUMBER(SEARCH("MF 2", B9)))), AND(ISNUMBER(SEARCH("MF50", SUBSTITUTE(G9, " ", ""))), NOT(ISNUMBER(SEARCH("MF 5", B9)))), AND(ISNUMBER(SEARCH("MF70", SUBSTITUTE(G9, " ", ""))), NOT(ISNUMBER(SEARCH("MF 7", B9))))), "Петля не подходит!", IF(AND(K9<>"", K9<>"без закалки", OR(ISNUMBER(SEARCH("MF 2", B9)), ISNUMBER(SEARCH("MF 3", B9)))), "В этом профиле закалка невозможна!", IF(AND(K9<>"", K9<>"без закалки", ISNUMBER(SEARCH("нельзя закаливать", IFERROR(INDEX(Данные!$E:$E, MATCH(I9, Данные!$B:$B, 0)), "")))), "Это наполнение не закаливают!", "ОК"))))))) -> Сделайте выбор | P9: =IF(O9="ОК",SUM(W9:AE9)*$O$1,0) -> 0 | Q9: =(P9-P9*0.2)*$Q$1 -> 0 | R9: =SUM(D9:E9)*2*F9/1000 -> 0 | S9: =IF(OR(I9="", I9="без наполнения"), 0, D9/1000 * E9/1000 * F9) -> 0 | T9: =(W9+X9) * $O$1 -> 0 | U9: =AC9*$O$1 -> 0 | V9: =Z9*$O$1 -> 0 | W9: =IFERROR(IF(O9<>"ОК", 0, IF(NOT(ISNUMBER(SEARCH("MF", B9))), IF(ISNUMBER(SEARCH("13-01", B9)), ((R9 - D9*F9/1000) * SUMIFS(MZ!$C:$C, MZ!$A:$A, "MZ 13", MZ!$B:$B, C9) * 0.732) + (F9 * SUMIFS(MZ!$C:$C, MZ!$A:$A, B9, MZ!$B:$B, C9)), R9 * SUMIFS(MZ!$C:$C, MZ!$A:$A, B9, MZ!$B:$B, C9)), IF((LEN(B9)-LEN(SUBSTITUTE(B9,"/","")))=2, (IF(VLOOKUP(LEFT(B9, 5), MF!$A:$D, 4, 0)="хлыст", F9 * ROUNDUP((E9*2/1000) / VLOOKUP(LEFT(B9, 5), MF!$A:$E, 5, 0), 0), (E9*2*F9/1000)) * SUMIFS(MF!$C:$C, MF!$A:$A, LEFT(B9, 5), MF!$B:$B, C9)) + (IF(VLOOKUP("MF "&MID(B9, 7, 2), MF!$A:$D, 4, 0)="хлыст", F9 * ROUNDUP((D9/1000) / VLOOKUP("MF "&MID(B9, 7, 2), MF!$A:$E, 5, 0), 0), (D9*F9/1000)) * SUMIFS(MF!$C:$C, MF!$A:$A, "MF "&MID(B9, 7, 2), MF!$B:$B, C9)) + (IF(VLOOKUP("MF "&RIGHT(B9, 2), MF!$A:$D, 4, 0)="хлыст", F9 * ROUNDUP((D9/1000) / VLOOKUP("MF "&RIGHT(B9, 2), MF!$A:$E, 5, 0), 0), (D9*F9/1000)) * SUMIFS(MF!$C:$C, MF!$A:$A, "MF "&RIGHT(B9, 2), MF!$B:$B, C9)), IF((LEN(B9)-LEN(SUBSTITUTE(B9,"/","")))=1, (IF(VLOOKUP(LEFT(B9, 5), MF!$A:$D, 4, 0)="хлыст", F9 * ROUNDUP(((R9/F9) - D9/1000) / VLOOKUP(LEFT(B9, 5), MF!$A:$E, 5, 0), 0), (R9 - D9*F9/1000)) * SUMIFS(MF!$C:$C, MF!$A:$A, LEFT(B9, 5), MF!$B:$B, C9)) + (IF(VLOOKUP("MF "&RIGHT(B9, 2), MF!$A:$D, 4, 0)="хлыст", F9 * ROUNDUP((D9/1000) / VLOOKUP("MF "&RIGHT(B9, 2), MF!$A:$E, 5, 0), 0), (D9*F9/1000)) * SUMIFS(MF!$C:$C, MF!$A:$A, "MF "&RIGHT(B9, 2), MF!$B:$B, C9)), IF(VLOOKUP(B9, MF!$A:$D, 4, 0)="хлыст", F9 * ROUNDUP((R9/F9) / VLOOKUP(B9, MF!$A:$E, 5, 0), 0), R9) * SUMIFS(MF!$C:$C, MF!$A:$A, B9, MF!$B:$B, C9))))), 0) -> 0 | X9: =IFERROR(IF(O9<>"ОК", 0, F9 * IF(AND(ISNUMBER(SEARCH("MZ", B9)), ISNUMBER(SEARCH("04", B9)), ISNUMBER(SEARCH("902", G9))), SUMIF(MZ!$A:$A, "Сборка*902*", MZ!$C:$C), IF(ISNUMBER(SEARCH("MF", B9)), IF(ISNUMBER(SEARCH("MF 2", B9)), IF(ISNUMBER(SEARCH("/", B9)), SUMIF(MF!$A:$A, "Сборка фасада MF20/2*", MF!$C:$C), SUMIF(MF!$A:$A, "Сборка фасада MF20", MF!$C:$C)), IF(OR(ISNUMBER(SEARCH("MF 5", B9)), ISNUMBER(SEARCH("MF 7", B9))), SUMIF(MF!$A:$A, "Сборка фасада MF50, MF70*", MF!$C:$C), IF(ISNUMBER(SEARCH("MF 6", B9)), SUMIF(MF!$A:$A, "Сборка фасада MF30, MF60*", MF!$C:$C), IF(ISNUMBER(SEARCH("/", B9)), SUMIF(MF!$A:$A, "Сборка фасада MF30/3*", MF!$C:$C), SUMIF(MF!$A:$A, "Сборка фасада MF30, MF60*", MF!$C:$C))))), SUMIF(MZ!$A:$A, "Сборка+уголки+фрез.под петли*", MZ!$C:$C)))), 0) -> 0 | Y9: =IF(AND(O9="ОК", N9>0), N9 * SUMIFS(СТЕКЛО!$C:$C, СТЕКЛО!$A:$A, "Втулки для отверстий в стекле"), 0) -> 0 | Z9: =IF(O9="ОК", S9 * IFERROR(VLOOKUP(I9, СТЕКЛО!$A:$C, 3, 0), 0), 0) -> 0 | AA9: =IF(O9="ОК", AF9 * SUMIFS(СТЕКЛО!$C:$C, СТЕКЛО!$A:$A, "Подгонка под Z-12, Z-17, Z-19, Z-20"), 0) -> 0 | AB9: =IF(OR(O9<>"ОК", K9="", K9="без закалки", ISNUMBER(SEARCH("без", K9))), 0, ( (MAX(0.3 * F9, S9) * IF(SUMIFS(СТЕКЛО!$C:$C, СТЕКЛО!$A:$A, "*Закалк*", СТЕКЛО!$B:$B, "4*")>0, SUMIFS(СТЕКЛО!$C:$C, СТЕКЛО!$A:$A, "*Закалк*", СТЕКЛО!$B:$B, "4*"), SUMIF(СТЕКЛО!$A:$A, "*Закалк*", СТЕКЛО!$C:$C))) + (R9 * IF(SUMIFS(СТЕКЛО!$C:$C, СТЕКЛО!$A:$A, "*Шлифовк*", СТЕКЛО!$B:$B, "4*")>0, SUMIFS(СТЕКЛО!$C:$C, СТЕКЛО!$A:$A, "*Шлифовк*", СТЕКЛО!$B:$B, "4*"), SUMIF(СТЕКЛО!$A:$A, "*Шлифовк*", СТЕКЛО!$C:$C))) ) * (1 + IF(AND(MIN(D9, E9)>=30, MIN(D9, E9)<=100), 1, 0) + IF(MAX(D9, E9)>=2500, 1, 0)) ) -> 0 | AC9: =IF(OR(O9<>"ОК", G9="", G9="без присадки", G9="без петель", G9="только присадка"), 0, IF(ISNUMBER(SEARCH("MF", B9)), IF(SUMIF(MF!$A:$A, G9, MF!$C:$C)>0, SUMIF(MF!$A:$A, G9, MF!$C:$C), SUMIF(MZ!$A:$A, G9, MZ!$C:$C)), IF(SUMIF(MZ!$A:$A, G9, MZ!$C:$C)>0, SUMIF(MZ!$A:$A, G9, MZ!$C:$C), SUMIF(MF!$A:$A, G9, MF!$C:$C))) * F9 * IF(OR(ISNUMBER(SEARCH("Salice AIR", G9)), ISNUMBER(SEARCH("(2шт)", G9))), H9, H9)) -> 0 | AD9: =IF(AND(O9="ОК", L9>0, M9<>""), L9 * SUMIFS(СТЕКЛО!$C:$C, СТЕКЛО!$A:$A, "Сверление отверстий", СТЕКЛО!$B:$B, M9), 0) -> 0 | AE9: =IF(AND(O9="ОК", J9<>"", J9<>"без оклейки"), S9 * IFERROR(VLOOKUP(J9, СТЕКЛО!$A:$C, 3, 0), 0), 0) -> 0 | AF9: =IF(AND(ISNUMBER(MATCH(B9, {"MZ 12","MZ 17","MZ 19","MZ 20","MZ 20/21","MZ 20/22","MZ 20/25"}, 0)), I9<>"", I9<>"без наполнения"), R9, 0) -> 0 | AG9: =IF((COUNTIFS(MZ!$A:$A, B9, MZ!$B:$B, C9) + COUNTIFS(MF!$A:$A, B9, MF!$B:$B, C9))>0, TRUE, FALSE) -> FALSE | AH9: =IFERROR(VLOOKUP(B9, Данные!$B:$C, 2, 0), "") | AI9: =IFERROR(VLOOKUP(G9, Данные!$B:$C, 2, 0), "") | AJ9: =IF(G9="без присадки", IF(IFERROR(VLOOKUP(B9, Данные!$B:$D, 3, 0), "")="можно без присадки", TRUE, FALSE), IF(OR(AH9=AI9, AI9="любой", G9="только присадка", G9=""), TRUE, FALSE)) -> TRUE | AL9: =IF(OR(I9="", I9="без наполнения"), R9 * (3/6), S9 * (40/4.09) + R9 * (3/6)) -> 0
A10: 6 | O10: =IF(OR(B10="", C10="", D10=0, E10=0, F10=0), "Сделайте выбор", IF(OR(D10<200, E10<200), "Мин. размер 200х200!", IF(NOT(AG10), "Ошибка цвета!", IF(IF(ISNUMBER(SEARCH("MF", B10)), SUMIFS(MF!$C:$C, MF!$A:$A, LEFT(B10, 5), MF!$B:$B, C10), SUMIFS(MZ!$C:$C, MZ!$A:$A, B10, MZ!$B:$B, C10))=0, "Нет актуальной цены!", IF(OR(AND(NOT(AJ10), NOT(AND(B10="MZ 04", ISNUMBER(SEARCH("902", G10))))), AND(ISNUMBER(SEARCH("MF20", SUBSTITUTE(G10, " ", ""))), NOT(ISNUMBER(SEARCH("MF 2", B10)))), AND(ISNUMBER(SEARCH("MF50", SUBSTITUTE(G10, " ", ""))), NOT(ISNUMBER(SEARCH("MF 5", B10)))), AND(ISNUMBER(SEARCH("MF70", SUBSTITUTE(G10, " ", ""))), NOT(ISNUMBER(SEARCH("MF 7", B10))))), "Петля не подходит!", IF(AND(K10<>"", K10<>"без закалки", OR(ISNUMBER(SEARCH("MF 2", B10)), ISNUMBER(SEARCH("MF 3", B10)))), "В этом профиле закалка невозможна!", IF(AND(K10<>"", K10<>"без закалки", ISNUMBER(SEARCH("нельзя закаливать", IFERROR(INDEX(Данные!$E:$E, MATCH(I10, Данные!$B:$B, 0)), "")))), "Это наполнение не закаливают!", "ОК"))))))) -> Сделайте выбор | P10: =IF(O10="ОК",SUM(W10:AE10)*$O$1,0) -> 0 | Q10: =(P10-P10*0.2)*$Q$1 -> 0 | R10: =SUM(D10:E10)*2*F10/1000 -> 0 | S10: =IF(OR(I10="", I10="без наполнения"), 0, D10/1000 * E10/1000 * F10) -> 0 | T10: =(W10+X10) * $O$1 -> 0 | U10: =AC10*$O$1 -> 0 | V10: =Z10*$O$1 -> 0 | W10: =IFERROR(IF(O10<>"ОК", 0, IF(NOT(ISNUMBER(SEARCH("MF", B10))), IF(ISNUMBER(SEARCH("13-01", B10)), ((R10 - D10*F10/1000) * SUMIFS(MZ!$C:$C, MZ!$A:$A, "MZ 13", MZ!$B:$B, C10) * 0.732) + (F10 * SUMIFS(MZ!$C:$C, MZ!$A:$A, B10, MZ!$B:$B, C10)), R10 * SUMIFS(MZ!$C:$C, MZ!$A:$A, B10, MZ!$B:$B, C10)), IF((LEN(B10)-LEN(SUBSTITUTE(B10,"/","")))=2, (IF(VLOOKUP(LEFT(B10, 5), MF!$A:$D, 4, 0)="хлыст", F10 * ROUNDUP((E10*2/1000) / VLOOKUP(LEFT(B10, 5), MF!$A:$E, 5, 0), 0), (E10*2*F10/1000)) * SUMIFS(MF!$C:$C, MF!$A:$A, LEFT(B10, 5), MF!$B:$B, C10)) + (IF(VLOOKUP("MF "&MID(B10, 7, 2), MF!$A:$D, 4, 0)="хлыст", F10 * ROUNDUP((D10/1000) / VLOOKUP("MF "&MID(B10, 7, 2), MF!$A:$E, 5, 0), 0), (D10*F10/1000)) * SUMIFS(MF!$C:$C, MF!$A:$A, "MF "&MID(B10, 7, 2), MF!$B:$B, C10)) + (IF(VLOOKUP("MF "&RIGHT(B10, 2), MF!$A:$D, 4, 0)="хлыст", F10 * ROUNDUP((D10/1000) / VLOOKUP("MF "&RIGHT(B10, 2), MF!$A:$E, 5, 0), 0), (D10*F10/1000)) * SUMIFS(MF!$C:$C, MF!$A:$A, "MF "&RIGHT(B10, 2), MF!$B:$B, C10)), IF((LEN(B10)-LEN(SUBSTITUTE(B10,"/","")))=1, (IF(VLOOKUP(LEFT(B10, 5), MF!$A:$D, 4, 0)="хлыст", F10 * ROUNDUP(((R10/F10) - D10/1000) / VLOOKUP(LEFT(B10, 5), MF!$A:$E, 5, 0), 0), (R10 - D10*F10/1000)) * SUMIFS(MF!$C:$C, MF!$A:$A, LEFT(B10, 5), MF!$B:$B, C10)) + (IF(VLOOKUP("MF "&RIGHT(B10, 2), MF!$A:$D, 4, 0)="хлыст", F10 * ROUNDUP((D10/1000) / VLOOKUP("MF "&RIGHT(B10, 2), MF!$A:$E, 5, 0), 0), (D10*F10/1000)) * SUMIFS(MF!$C:$C, MF!$A:$A, "MF "&RIGHT(B10, 2), MF!$B:$B, C10)), IF(VLOOKUP(B10, MF!$A:$D, 4, 0)="хлыст", F10 * ROUNDUP((R10/F10) / VLOOKUP(B10, MF!$A:$E, 5, 0), 0), R10) * SUMIFS(MF!$C:$C, MF!$A:$A, B10, MF!$B:$B, C10))))), 0) -> 0 | X10: =IFERROR(IF(O10<>"ОК", 0, F10 * IF(AND(ISNUMBER(SEARCH("MZ", B10)), ISNUMBER(SEARCH("04", B10)), ISNUMBER(SEARCH("902", G10))), SUMIF(MZ!$A:$A, "Сборка*902*", MZ!$C:$C), IF(ISNUMBER(SEARCH("MF", B10)), IF(ISNUMBER(SEARCH("MF 2", B10)), IF(ISNUMBER(SEARCH("/", B10)), SUMIF(MF!$A:$A, "Сборка фасада MF20/2*", MF!$C:$C), SUMIF(MF!$A:$A, "Сборка фасада MF20", MF!$C:$C)), IF(OR(ISNUMBER(SEARCH("MF 5", B10)), ISNUMBER(SEARCH("MF 7", B10))), SUMIF(MF!$A:$A, "Сборка фасада MF50, MF70*", MF!$C:$C), IF(ISNUMBER(SEARCH("MF 6", B10)), SUMIF(MF!$A:$A, "Сборка фасада MF30, MF60*", MF!$C:$C), IF(ISNUMBER(SEARCH("/", B10)), SUMIF(MF!$A:$A, "Сборка фасада MF30/3*", MF!$C:$C), SUMIF(MF!$A:$A, "Сборка фасада MF30, MF60*", MF!$C:$C))))), SUMIF(MZ!$A:$A, "Сборка+уголки+фрез.под петли*", MZ!$C:$C)))), 0) -> 0 | Y10: =IF(AND(O10="ОК", N10>0), N10 * SUMIFS(СТЕКЛО!$C:$C, СТЕКЛО!$A:$A, "Втулки для отверстий в стекле"), 0) -> 0 | Z10: =IF(O10="ОК", S10 * IFERROR(VLOOKUP(I10, СТЕКЛО!$A:$C, 3, 0), 0), 0) -> 0 | AA10: =IF(O10="ОК", AF10 * SUMIFS(СТЕКЛО!$C:$C, СТЕКЛО!$A:$A, "Подгонка под Z-12, Z-17, Z-19, Z-20"), 0) -> 0 | AB10: =IF(OR(O10<>"ОК", K10="", K10="без закалки", ISNUMBER(SEARCH("без", K10))), 0, ( (MAX(0.3 * F10, S10) * IF(SUMIFS(СТЕКЛО!$C:$C, СТЕКЛО!$A:$A, "*Закалк*", СТЕКЛО!$B:$B, "4*")>0, SUMIFS(СТЕКЛО!$C:$C, СТЕКЛО!$A:$A, "*Закалк*", СТЕКЛО!$B:$B, "4*"), SUMIF(СТЕКЛО!$A:$A, "*Закалк*", СТЕКЛО!$C:$C))) + (R10 * IF(SUMIFS(СТЕКЛО!$C:$C, СТЕКЛО!$A:$A, "*Шлифовк*", СТЕКЛО!$B:$B, "4*")>0, SUMIFS(СТЕКЛО!$C:$C, СТЕКЛО!$A:$A, "*Шлифовк*", СТЕКЛО!$B:$B, "4*"), SUMIF(СТЕКЛО!$A:$A, "*Шлифовк*", СТЕКЛО!$C:$C))) ) * (1 + IF(AND(MIN(D10, E10)>=30, MIN(D10, E10)<=100), 1, 0) + IF(MAX(D10, E10)>=2500, 1, 0)) ) -> 0 | AC10: =IF(OR(O10<>"ОК", G10="", G10="без присадки", G10="без петель", G10="только присадка"), 0, IF(ISNUMBER(SEARCH("MF", B10)), IF(SUMIF(MF!$A:$A, G10, MF!$C:$C)>0, SUMIF(MF!$A:$A, G10, MF!$C:$C), SUMIF(MZ!$A:$A, G10, MZ!$C:$C)), IF(SUMIF(MZ!$A:$A, G10, MZ!$C:$C)>0, SUMIF(MZ!$A:$A, G10, MZ!$C:$C), SUMIF(MF!$A:$A, G10, MF!$C:$C))) * F10 * IF(OR(ISNUMBER(SEARCH("Salice AIR", G10)), ISNUMBER(SEARCH("(2шт)", G10))), H10, H10)) -> 0 | AD10: =IF(AND(O10="ОК", L10>0, M10<>""), L10 * SUMIFS(СТЕКЛО!$C:$C, СТЕКЛО!$A:$A, "Сверление отверстий", СТЕКЛО!$B:$B, M10), 0) -> 0 | AE10: =IF(AND(O10="ОК", J10<>"", J10<>"без оклейки"), S10 * IFERROR(VLOOKUP(J10, СТЕКЛО!$A:$C, 3, 0), 0), 0) -> 0 | AF10: =IF(AND(ISNUMBER(MATCH(B10, {"MZ 12","MZ 17","MZ 19","MZ 20","MZ 20/21","MZ 20/22","MZ 20/25"}, 0)), I10<>"", I10<>"без наполнения"), R10, 0) -> 0 | AG10: =IF((COUNTIFS(MZ!$A:$A, B10, MZ!$B:$B, C10) + COUNTIFS(MF!$A:$A, B10, MF!$B:$B, C10))>0, TRUE, FALSE) -> FALSE | AH10: =IFERROR(VLOOKUP(B10, Данные!$B:$C, 2, 0), "") | AI10: =IFERROR(VLOOKUP(G10, Данные!$B:$C, 2, 0), "") | AJ10: =IF(G10="без присадки", IF(IFERROR(VLOOKUP(B10, Данные!$B:$D, 3, 0), "")="можно без присадки", TRUE, FALSE), IF(OR(AH10=AI10, AI10="любой", G10="только присадка", G10=""), TRUE, FALSE)) -> TRUE | AL10: =IF(OR(I10="", I10="без наполнения"), R10 * (3/6), S10 * (40/4.09) + R10 * (3/6)) -> 0
A11: 7 | O11: =IF(OR(B11="", C11="", D11=0, E11=0, F11=0), "Сделайте выбор", IF(OR(D11<200, E11<200), "Мин. размер 200х200!", IF(NOT(AG11), "Ошибка цвета!", IF(IF(ISNUMBER(SEARCH("MF", B11)), SUMIFS(MF!$C:$C, MF!$A:$A, LEFT(B11, 5), MF!$B:$B, C11), SUMIFS(MZ!$C:$C, MZ!$A:$A, B11, MZ!$B:$B, C11))=0, "Нет актуальной цены!", IF(OR(AND(NOT(AJ11), NOT(AND(B11="MZ 04", ISNUMBER(SEARCH("902", G11))))), AND(ISNUMBER(SEARCH("MF20", SUBSTITUTE(G11, " ", ""))), NOT(ISNUMBER(SEARCH("MF 2", B11)))), AND(ISNUMBER(SEARCH("MF50", SUBSTITUTE(G11, " ", ""))), NOT(ISNUMBER(SEARCH("MF 5", B11)))), AND(ISNUMBER(SEARCH("MF70", SUBSTITUTE(G11, " ", ""))), NOT(ISNUMBER(SEARCH("MF 7", B11))))), "Петля не подходит!", IF(AND(K11<>"", K11<>"без закалки", OR(ISNUMBER(SEARCH("MF 2", B11)), ISNUMBER(SEARCH("MF 3", B11)))), "В этом профиле закалка невозможна!", IF(AND(K11<>"", K11<>"без закалки", ISNUMBER(SEARCH("нельзя закаливать", IFERROR(INDEX(Данные!$E:$E, MATCH(I11, Данные!$B:$B, 0)), "")))), "Это наполнение не закаливают!", "ОК"))))))) -> Сделайте выбор | P11: =IF(O11="ОК",SUM(W11:AE11)*$O$1,0) -> 0 | Q11: =(P11-P11*0.2)*$Q$1 -> 0 | R11: =SUM(D11:E11)*2*F11/1000 -> 0 | S11: =IF(OR(I11="", I11="без наполнения"), 0, D11/1000 * E11/1000 * F11) -> 0 | T11: =(W11+X11) * $O$1 -> 0 | U11: =AC11*$O$1 -> 0 | V11: =Z11*$O$1 -> 0 | W11: =IFERROR(IF(O11<>"ОК", 0, IF(NOT(ISNUMBER(SEARCH("MF", B11))), IF(ISNUMBER(SEARCH("13-01", B11)), ((R11 - D11*F11/1000) * SUMIFS(MZ!$C:$C, MZ!$A:$A, "MZ 13", MZ!$B:$B, C11) * 0.732) + (F11 * SUMIFS(MZ!$C:$C, MZ!$A:$A, B11, MZ!$B:$B, C11)), R11 * SUMIFS(MZ!$C:$C, MZ!$A:$A, B11, MZ!$B:$B, C11)), IF((LEN(B11)-LEN(SUBSTITUTE(B11,"/","")))=2, (IF(VLOOKUP(LEFT(B11, 5), MF!$A:$D, 4, 0)="хлыст", F11 * ROUNDUP((E11*2/1000) / VLOOKUP(LEFT(B11, 5), MF!$A:$E, 5, 0), 0), (E11*2*F11/1000)) * SUMIFS(MF!$C:$C, MF!$A:$A, LEFT(B11, 5), MF!$B:$B, C11)) + (IF(VLOOKUP("MF "&MID(B11, 7, 2), MF!$A:$D, 4, 0)="хлыст", F11 * ROUNDUP((D11/1000) / VLOOKUP("MF "&MID(B11, 7, 2), MF!$A:$E, 5, 0), 0), (D11*F11/1000)) * SUMIFS(MF!$C:$C, MF!$A:$A, "MF "&MID(B11, 7, 2), MF!$B:$B, C11)) + (IF(VLOOKUP("MF "&RIGHT(B11, 2), MF!$A:$D, 4, 0)="хлыст", F11 * ROUNDUP((D11/1000) / VLOOKUP("MF "&RIGHT(B11, 2), MF!$A:$E, 5, 0), 0), (D11*F11/1000)) * SUMIFS(MF!$C:$C, MF!$A:$A, "MF "&RIGHT(B11, 2), MF!$B:$B, C11)), IF((LEN(B11)-LEN(SUBSTITUTE(B11,"/","")))=1, (IF(VLOOKUP(LEFT(B11, 5), MF!$A:$D, 4, 0)="хлыст", F11 * ROUNDUP(((R11/F11) - D11/1000) / VLOOKUP(LEFT(B11, 5), MF!$A:$E, 5, 0), 0), (R11 - D11*F11/1000)) * SUMIFS(MF!$C:$C, MF!$A:$A, LEFT(B11, 5), MF!$B:$B, C11)) + (IF(VLOOKUP("MF "&RIGHT(B11, 2), MF!$A:$D, 4, 0)="хлыст", F11 * ROUNDUP((D11/1000) / VLOOKUP("MF "&RIGHT(B11, 2), MF!$A:$E, 5, 0), 0), (D11*F11/1000)) * SUMIFS(MF!$C:$C, MF!$A:$A, "MF "&RIGHT(B11, 2), MF!$B:$B, C11)), IF(VLOOKUP(B11, MF!$A:$D, 4, 0)="хлыст", F11 * ROUNDUP((R11/F11) / VLOOKUP(B11, MF!$A:$E, 5, 0), 0), R11) * SUMIFS(MF!$C:$C, MF!$A:$A, B11, MF!$B:$B, C11))))), 0) -> 0 | X11: =IFERROR(IF(O11<>"ОК", 0, F11 * IF(AND(ISNUMBER(SEARCH("MZ", B11)), ISNUMBER(SEARCH("04", B11)), ISNUMBER(SEARCH("902", G11))), SUMIF(MZ!$A:$A, "Сборка*902*", MZ!$C:$C), IF(ISNUMBER(SEARCH("MF", B11)), IF(ISNUMBER(SEARCH("MF 2", B11)), IF(ISNUMBER(SEARCH("/", B11)), SUMIF(MF!$A:$A, "Сборка фасада MF20/2*", MF!$C:$C), SUMIF(MF!$A:$A, "Сборка фасада MF20", MF!$C:$C)), IF(OR(ISNUMBER(SEARCH("MF 5", B11)), ISNUMBER(SEARCH("MF 7", B11))), SUMIF(MF!$A:$A, "Сборка фасада MF50, MF70*", MF!$C:$C), IF(ISNUMBER(SEARCH("MF 6", B11)), SUMIF(MF!$A:$A, "Сборка фасада MF30, MF60*", MF!$C:$C), IF(ISNUMBER(SEARCH("/", B11)), SUMIF(MF!$A:$A, "Сборка фасада MF30/3*", MF!$C:$C), SUMIF(MF!$A:$A, "Сборка фасада MF30, MF60*", MF!$C:$C))))), SUMIF(MZ!$A:$A, "Сборка+уголки+фрез.под петли*", MZ!$C:$C)))), 0) -> 0 | Y11: =IF(AND(O11="ОК", N11>0), N11 * SUMIFS(СТЕКЛО!$C:$C, СТЕКЛО!$A:$A, "Втулки для отверстий в стекле"), 0) -> 0 | Z11: =IF(O11="ОК", S11 * IFERROR(VLOOKUP(I11, СТЕКЛО!$A:$C, 3, 0), 0), 0) -> 0 | AA11: =IF(O11="ОК", AF11 * SUMIFS(СТЕКЛО!$C:$C, СТЕКЛО!$A:$A, "Подгонка под Z-12, Z-17, Z-19, Z-20"), 0) -> 0 | AB11: =IF(OR(O11<>"ОК", K11="", K11="без закалки", ISNUMBER(SEARCH("без", K11))), 0, ( (MAX(0.3 * F11, S11) * IF(SUMIFS(СТЕКЛО!$C:$C, СТЕКЛО!$A:$A, "*Закалк*", СТЕКЛО!$B:$B, "4*")>0, SUMIFS(СТЕКЛО!$C:$C, СТЕКЛО!$A:$A, "*Закалк*", СТЕКЛО!$B:$B, "4*"), SUMIF(СТЕКЛО!$A:$A, "*Закалк*", СТЕКЛО!$C:$C))) + (R11 * IF(SUMIFS(СТЕКЛО!$C:$C, СТЕКЛО!$A:$A, "*Шлифовк*", СТЕКЛО!$B:$B, "4*")>0, SUMIFS(СТЕКЛО!$C:$C, СТЕКЛО!$A:$A, "*Шлифовк*", СТЕКЛО!$B:$B, "4*"), SUMIF(СТЕКЛО!$A:$A, "*Шлифовк*", СТЕКЛО!$C:$C))) ) * (1 + IF(AND(MIN(D11, E11)>=30, MIN(D11, E11)<=100), 1, 0) + IF(MAX(D11, E11)>=2500, 1, 0)) ) -> 0 | AC11: =IF(OR(O11<>"ОК", G11="", G11="без присадки", G11="без петель", G11="только присадка"), 0, IF(ISNUMBER(SEARCH("MF", B11)), IF(SUMIF(MF!$A:$A, G11, MF!$C:$C)>0, SUMIF(MF!$A:$A, G11, MF!$C:$C), SUMIF(MZ!$A:$A, G11, MZ!$C:$C)), IF(SUMIF(MZ!$A:$A, G11, MZ!$C:$C)>0, SUMIF(MZ!$A:$A, G11, MZ!$C:$C), SUMIF(MF!$A:$A, G11, MF!$C:$C))) * F11 * IF(OR(ISNUMBER(SEARCH("Salice AIR", G11)), ISNUMBER(SEARCH("(2шт)", G11))), H11, H11)) -> 0 | AD11: =IF(AND(O11="ОК", L11>0, M11<>""), L11 * SUMIFS(СТЕКЛО!$C:$C, СТЕКЛО!$A:$A, "Сверление отверстий", СТЕКЛО!$B:$B, M11), 0) -> 0 | AE11: =IF(AND(O11="ОК", J11<>"", J11<>"без оклейки"), S11 * IFERROR(VLOOKUP(J11, СТЕКЛО!$A:$C, 3, 0), 0), 0) -> 0 | AF11: =IF(AND(ISNUMBER(MATCH(B11, {"MZ 12","MZ 17","MZ 19","MZ 20","MZ 20/21","MZ 20/22","MZ 20/25"}, 0)), I11<>"", I11<>"без наполнения"), R11, 0) -> 0 | AG11: =IF((COUNTIFS(MZ!$A:$A, B11, MZ!$B:$B, C11) + COUNTIFS(MF!$A:$A, B11, MF!$B:$B, C11))>0, TRUE, FALSE) -> FALSE | AH11: =IFERROR(VLOOKUP(B11, Данные!$B:$C, 2, 0), "") | AI11: =IFERROR(VLOOKUP(G11, Данные!$B:$C, 2, 0), "") | AJ11: =IF(G11="без присадки", IF(IFERROR(VLOOKUP(B11, Данные!$B:$D, 3, 0), "")="можно без присадки", TRUE, FALSE), IF(OR(AH11=AI11, AI11="любой", G11="только присадка", G11=""), TRUE, FALSE)) -> TRUE | AL11: =IF(OR(I11="", I11="без наполнения"), R11 * (3/6), S11 * (40/4.09) + R11 * (3/6)) -> 0
A12: 8 | O12: =IF(OR(B12="", C12="", D12=0, E12=0, F12=0), "Сделайте выбор", IF(OR(D12<200, E12<200), "Мин. размер 200х200!", IF(NOT(AG12), "Ошибка цвета!", IF(IF(ISNUMBER(SEARCH("MF", B12)), SUMIFS(MF!$C:$C, MF!$A:$A, LEFT(B12, 5), MF!$B:$B, C12), SUMIFS(MZ!$C:$C, MZ!$A:$A, B12, MZ!$B:$B, C12))=0, "Нет актуальной цены!", IF(OR(AND(NOT(AJ12), NOT(AND(B12="MZ 04", ISNUMBER(SEARCH("902", G12))))), AND(ISNUMBER(SEARCH("MF20", SUBSTITUTE(G12, " ", ""))), NOT(ISNUMBER(SEARCH("MF 2", B12)))), AND(ISNUMBER(SEARCH("MF50", SUBSTITUTE(G12, " ", ""))), NOT(ISNUMBER(SEARCH("MF 5", B12)))), AND(ISNUMBER(SEARCH("MF70", SUBSTITUTE(G12, " ", ""))), NOT(ISNUMBER(SEARCH("MF 7", B12))))), "Петля не подходит!", IF(AND(K12<>"", K12<>"без закалки", OR(ISNUMBER(SEARCH("MF 2", B12)), ISNUMBER(SEARCH("MF 3", B12)))), "В этом профиле закалка невозможна!", IF(AND(K12<>"", K12<>"без закалки", ISNUMBER(SEARCH("нельзя закаливать", IFERROR(INDEX(Данные!$E:$E, MATCH(I12, Данные!$B:$B, 0)), "")))), "Это наполнение не закаливают!", "ОК"))))))) -> Сделайте выбор | P12: =IF(O12="ОК",SUM(W12:AE12)*$O$1,0) -> 0 | Q12: =(P12-P12*0.2)*$Q$1 -> 0 | R12: =SUM(D12:E12)*2*F12/1000 -> 0 | S12: =IF(OR(I12="", I12="без наполнения"), 0, D12/1000 * E12/1000 * F12) -> 0 | T12: =(W12+X12) * $O$1 -> 0 | U12: =AC12*$O$1 -> 0 | V12: =Z12*$O$1 -> 0 | W12: =IFERROR(IF(O12<>"ОК", 0, IF(NOT(ISNUMBER(SEARCH("MF", B12))), IF(ISNUMBER(SEARCH("13-01", B12)), ((R12 - D12*F12/1000) * SUMIFS(MZ!$C:$C, MZ!$A:$A, "MZ 13", MZ!$B:$B, C12) * 0.732) + (F12 * SUMIFS(MZ!$C:$C, MZ!$A:$A, B12, MZ!$B:$B, C12)), R12 * SUMIFS(MZ!$C:$C, MZ!$A:$A, B12, MZ!$B:$B, C12)), IF((LEN(B12)-LEN(SUBSTITUTE(B12,"/","")))=2, (IF(VLOOKUP(LEFT(B12, 5), MF!$A:$D, 4, 0)="хлыст", F12 * ROUNDUP((E12*2/1000) / VLOOKUP(LEFT(B12, 5), MF!$A:$E, 5, 0), 0), (E12*2*F12/1000)) * SUMIFS(MF!$C:$C, MF!$A:$A, LEFT(B12, 5), MF!$B:$B, C12)) + (IF(VLOOKUP("MF "&MID(B12, 7, 2), MF!$A:$D, 4, 0)="хлыст", F12 * ROUNDUP((D12/1000) / VLOOKUP("MF "&MID(B12, 7, 2), MF!$A:$E, 5, 0), 0), (D12*F12/1000)) * SUMIFS(MF!$C:$C, MF!$A:$A, "MF "&MID(B12, 7, 2), MF!$B:$B, C12)) + (IF(VLOOKUP("MF "&RIGHT(B12, 2), MF!$A:$D, 4, 0)="хлыст", F12 * ROUNDUP((D12/1000) / VLOOKUP("MF "&RIGHT(B12, 2), MF!$A:$E, 5, 0), 0), (D12*F12/1000)) * SUMIFS(MF!$C:$C, MF!$A:$A, "MF "&RIGHT(B12, 2), MF!$B:$B, C12)), IF((LEN(B12)-LEN(SUBSTITUTE(B12,"/","")))=1, (IF(VLOOKUP(LEFT(B12, 5), MF!$A:$D, 4, 0)="хлыст", F12 * ROUNDUP(((R12/F12) - D12/1000) / VLOOKUP(LEFT(B12, 5), MF!$A:$E, 5, 0), 0), (R12 - D12*F12/1000)) * SUMIFS(MF!$C:$C, MF!$A:$A, LEFT(B12, 5), MF!$B:$B, C12)) + (IF(VLOOKUP("MF "&RIGHT(B12, 2), MF!$A:$D, 4, 0)="хлыст", F12 * ROUNDUP((D12/1000) / VLOOKUP("MF "&RIGHT(B12, 2), MF!$A:$E, 5, 0), 0), (D12*F12/1000)) * SUMIFS(MF!$C:$C, MF!$A:$A, "MF "&RIGHT(B12, 2), MF!$B:$B, C12)), IF(VLOOKUP(B12, MF!$A:$D, 4, 0)="хлыст", F12 * ROUNDUP((R12/F12) / VLOOKUP(B12, MF!$A:$E, 5, 0), 0), R12) * SUMIFS(MF!$C:$C, MF!$A:$A, B12, MF!$B:$B, C12))))), 0) -> 0 | X12: =IFERROR(IF(O12<>"ОК", 0, F12 * IF(AND(ISNUMBER(SEARCH("MZ", B12)), ISNUMBER(SEARCH("04", B12)), ISNUMBER(SEARCH("902", G12))), SUMIF(MZ!$A:$A, "Сборка*902*", MZ!$C:$C), IF(ISNUMBER(SEARCH("MF", B12)), IF(ISNUMBER(SEARCH("MF 2", B12)), IF(ISNUMBER(SEARCH("/", B12)), SUMIF(MF!$A:$A, "Сборка фасада MF20/2*", MF!$C:$C), SUMIF(MF!$A:$A, "Сборка фасада MF20", MF!$C:$C)), IF(OR(ISNUMBER(SEARCH("MF 5", B12)), ISNUMBER(SEARCH("MF 7", B12))), SUMIF(MF!$A:$A, "Сборка фасада MF50, MF70*", MF!$C:$C), IF(ISNUMBER(SEARCH("MF 6", B12)), SUMIF(MF!$A:$A, "Сборка фасада MF30, MF60*", MF!$C:$C), IF(ISNUMBER(SEARCH("/", B12)), SUMIF(MF!$A:$A, "Сборка фасада MF30/3*", MF!$C:$C), SUMIF(MF!$A:$A, "Сборка фасада MF30, MF60*", MF!$C:$C))))), SUMIF(MZ!$A:$A, "Сборка+уголки+фрез.под петли*", MZ!$C:$C)))), 0) -> 0 | Y12: =IF(AND(O12="ОК", N12>0), N12 * SUMIFS(СТЕКЛО!$C:$C, СТЕКЛО!$A:$A, "Втулки для отверстий в стекле"), 0) -> 0 | Z12: =IF(O12="ОК", S12 * IFERROR(VLOOKUP(I12, СТЕКЛО!$A:$C, 3, 0), 0), 0) -> 0 | AA12: =IF(O12="ОК", AF12 * SUMIFS(СТЕКЛО!$C:$C, СТЕКЛО!$A:$A, "Подгонка под Z-12, Z-17, Z-19, Z-20"), 0) -> 0 | AB12: =IF(OR(O12<>"ОК", K12="", K12="без закалки", ISNUMBER(SEARCH("без", K12))), 0, ( (MAX(0.3 * F12, S12) * IF(SUMIFS(СТЕКЛО!$C:$C, СТЕКЛО!$A:$A, "*Закалк*", СТЕКЛО!$B:$B, "4*")>0, SUMIFS(СТЕКЛО!$C:$C, СТЕКЛО!$A:$A, "*Закалк*", СТЕКЛО!$B:$B, "4*"), SUMIF(СТЕКЛО!$A:$A, "*Закалк*", СТЕКЛО!$C:$C))) + (R12 * IF(SUMIFS(СТЕКЛО!$C:$C, СТЕКЛО!$A:$A, "*Шлифовк*", СТЕКЛО!$B:$B, "4*")>0, SUMIFS(СТЕКЛО!$C:$C, СТЕКЛО!$A:$A, "*Шлифовк*", СТЕКЛО!$B:$B, "4*"), SUMIF(СТЕКЛО!$A:$A, "*Шлифовк*", СТЕКЛО!$C:$C))) ) * (1 + IF(AND(MIN(D12, E12)>=30, MIN(D12, E12)<=100), 1, 0) + IF(MAX(D12, E12)>=2500, 1, 0)) ) -> 0 | AC12: =IF(OR(O12<>"ОК", G12="", G12="без присадки", G12="без петель", G12="только присадка"), 0, IF(ISNUMBER(SEARCH("MF", B12)), IF(SUMIF(MF!$A:$A, G12, MF!$C:$C)>0, SUMIF(MF!$A:$A, G12, MF!$C:$C), SUMIF(MZ!$A:$A, G12, MZ!$C:$C)), IF(SUMIF(MZ!$A:$A, G12, MZ!$C:$C)>0, SUMIF(MZ!$A:$A, G12, MZ!$C:$C), SUMIF(MF!$A:$A, G12, MF!$C:$C))) * F12 * IF(OR(ISNUMBER(SEARCH("Salice AIR", G12)), ISNUMBER(SEARCH("(2шт)", G12))), H12, H12)) -> 0 | AD12: =IF(AND(O12="ОК", L12>0, M12<>""), L12 * SUMIFS(СТЕКЛО!$C:$C, СТЕКЛО!$A:$A, "Сверление отверстий", СТЕКЛО!$B:$B, M12), 0) -> 0 | AE12: =IF(AND(O12="ОК", J12<>"", J12<>"без оклейки"), S12 * IFERROR(VLOOKUP(J12, СТЕКЛО!$A:$C, 3, 0), 0), 0) -> 0 | AF12: =IF(AND(ISNUMBER(MATCH(B12, {"MZ 12","MZ 17","MZ 19","MZ 20","MZ 20/21","MZ 20/22","MZ 20/25"}, 0)), I12<>"", I12<>"без наполнения"), R12, 0) -> 0 | AG12: =IF((COUNTIFS(MZ!$A:$A, B12, MZ!$B:$B, C12) + COUNTIFS(MF!$A:$A, B12, MF!$B:$B, C12))>0, TRUE, FALSE) -> FALSE | AH12: =IFERROR(VLOOKUP(B12, Данные!$B:$C, 2, 0), "") | AI12: =IFERROR(VLOOKUP(G12, Данные!$B:$C, 2, 0), "") | AJ12: =IF(G12="без присадки", IF(IFERROR(VLOOKUP(B12, Данные!$B:$D, 3, 0), "")="можно без присадки", TRUE, FALSE), IF(OR(AH12=AI12, AI12="любой", G12="только присадка", G12=""), TRUE, FALSE)) -> TRUE | AL12: =IF(OR(I12="", I12="без наполнения"), R12 * (3/6), S12 * (40/4.09) + R12 * (3/6)) -> 0
A13: 9 | O13: =IF(OR(B13="", C13="", D13=0, E13=0, F13=0), "Сделайте выбор", IF(OR(D13<200, E13<200), "Мин. размер 200х200!", IF(NOT(AG13), "Ошибка цвета!", IF(IF(ISNUMBER(SEARCH("MF", B13)), SUMIFS(MF!$C:$C, MF!$A:$A, LEFT(B13, 5), MF!$B:$B, C13), SUMIFS(MZ!$C:$C, MZ!$A:$A, B13, MZ!$B:$B, C13))=0, "Нет актуальной цены!", IF(OR(AND(NOT(AJ13), NOT(AND(B13="MZ 04", ISNUMBER(SEARCH("902", G13))))), AND(ISNUMBER(SEARCH("MF20", SUBSTITUTE(G13, " ", ""))), NOT(ISNUMBER(SEARCH("MF 2", B13)))), AND(ISNUMBER(SEARCH("MF50", SUBSTITUTE(G13, " ", ""))), NOT(ISNUMBER(SEARCH("MF 5", B13)))), AND(ISNUMBER(SEARCH("MF70", SUBSTITUTE(G13, " ", ""))), NOT(ISNUMBER(SEARCH("MF 7", B13))))), "Петля не подходит!", IF(AND(K13<>"", K13<>"без закалки", OR(ISNUMBER(SEARCH("MF 2", B13)), ISNUMBER(SEARCH("MF 3", B13)))), "В этом профиле закалка невозможна!", IF(AND(K13<>"", K13<>"без закалки", ISNUMBER(SEARCH("нельзя закаливать", IFERROR(INDEX(Данные!$E:$E, MATCH(I13, Данные!$B:$B, 0)), "")))), "Это наполнение не закаливают!", "ОК"))))))) -> Сделайте выбор | P13: =IF(O13="ОК",SUM(W13:AE13)*$O$1,0) -> 0 | Q13: =(P13-P13*0.2)*$Q$1 -> 0 | R13: =SUM(D13:E13)*2*F13/1000 -> 0 | S13: =IF(OR(I13="", I13="без наполнения"), 0, D13/1000 * E13/1000 * F13) -> 0 | T13: =(W13+X13) * $O$1 -> 0 | U13: =AC13*$O$1 -> 0 | V13: =Z13*$O$1 -> 0 | W13: =IFERROR(IF(O13<>"ОК", 0, IF(NOT(ISNUMBER(SEARCH("MF", B13))), IF(ISNUMBER(SEARCH("13-01", B13)), ((R13 - D13*F13/1000) * SUMIFS(MZ!$C:$C, MZ!$A:$A, "MZ 13", MZ!$B:$B, C13) * 0.732) + (F13 * SUMIFS(MZ!$C:$C, MZ!$A:$A, B13, MZ!$B:$B, C13)), R13 * SUMIFS(MZ!$C:$C, MZ!$A:$A, B13, MZ!$B:$B, C13)), IF((LEN(B13)-LEN(SUBSTITUTE(B13,"/","")))=2, (IF(VLOOKUP(LEFT(B13, 5), MF!$A:$D, 4, 0)="хлыст", F13 * ROUNDUP((E13*2/1000) / VLOOKUP(LEFT(B13, 5), MF!$A:$E, 5, 0), 0), (E13*2*F13/1000)) * SUMIFS(MF!$C:$C, MF!$A:$A, LEFT(B13, 5), MF!$B:$B, C13)) + (IF(VLOOKUP("MF "&MID(B13, 7, 2), MF!$A:$D, 4, 0)="хлыст", F13 * ROUNDUP((D13/1000) / VLOOKUP("MF "&MID(B13, 7, 2), MF!$A:$E, 5, 0), 0), (D13*F13/1000)) * SUMIFS(MF!$C:$C, MF!$A:$A, "MF "&MID(B13, 7, 2), MF!$B:$B, C13)) + (IF(VLOOKUP("MF "&RIGHT(B13, 2), MF!$A:$D, 4, 0)="хлыст", F13 * ROUNDUP((D13/1000) / VLOOKUP("MF "&RIGHT(B13, 2), MF!$A:$E, 5, 0), 0), (D13*F13/1000)) * SUMIFS(MF!$C:$C, MF!$A:$A, "MF "&RIGHT(B13, 2), MF!$B:$B, C13)), IF((LEN(B13)-LEN(SUBSTITUTE(B13,"/","")))=1, (IF(VLOOKUP(LEFT(B13, 5), MF!$A:$D, 4, 0)="хлыст", F13 * ROUNDUP(((R13/F13) - D13/1000) / VLOOKUP(LEFT(B13, 5), MF!$A:$E, 5, 0), 0), (R13 - D13*F13/1000)) * SUMIFS(MF!$C:$C, MF!$A:$A, LEFT(B13, 5), MF!$B:$B, C13)) + (IF(VLOOKUP("MF "&RIGHT(B13, 2), MF!$A:$D, 4, 0)="хлыст", F13 * ROUNDUP((D13/1000) / VLOOKUP("MF "&RIGHT(B13, 2), MF!$A:$E, 5, 0), 0), (D13*F13/1000)) * SUMIFS(MF!$C:$C, MF!$A:$A, "MF "&RIGHT(B13, 2), MF!$B:$B, C13)), IF(VLOOKUP(B13, MF!$A:$D, 4, 0)="хлыст", F13 * ROUNDUP((R13/F13) / VLOOKUP(B13, MF!$A:$E, 5, 0), 0), R13) * SUMIFS(MF!$C:$C, MF!$A:$A, B13, MF!$B:$B, C13))))), 0) -> 0 | X13: =IFERROR(IF(O13<>"ОК", 0, F13 * IF(AND(ISNUMBER(SEARCH("MZ", B13)), ISNUMBER(SEARCH("04", B13)), ISNUMBER(SEARCH("902", G13))), SUMIF(MZ!$A:$A, "Сборка*902*", MZ!$C:$C), IF(ISNUMBER(SEARCH("MF", B13)), IF(ISNUMBER(SEARCH("MF 2", B13)), IF(ISNUMBER(SEARCH("/", B13)), SUMIF(MF!$A:$A, "Сборка фасада MF20/2*", MF!$C:$C), SUMIF(MF!$A:$A, "Сборка фасада MF20", MF!$C:$C)), IF(OR(ISNUMBER(SEARCH("MF 5", B13)), ISNUMBER(SEARCH("MF 7", B13))), SUMIF(MF!$A:$A, "Сборка фасада MF50, MF70*", MF!$C:$C), IF(ISNUMBER(SEARCH("MF 6", B13)), SUMIF(MF!$A:$A, "Сборка фасада MF30, MF60*", MF!$C:$C), IF(ISNUMBER(SEARCH("/", B13)), SUMIF(MF!$A:$A, "Сборка фасада MF30/3*", MF!$C:$C), SUMIF(MF!$A:$A, "Сборка фасада MF30, MF60*", MF!$C:$C))))), SUMIF(MZ!$A:$A, "Сборка+уголки+фрез.под петли*", MZ!$C:$C)))), 0) -> 0 | Y13: =IF(AND(O13="ОК", N13>0), N13 * SUMIFS(СТЕКЛО!$C:$C, СТЕКЛО!$A:$A, "Втулки для отверстий в стекле"), 0) -> 0 | Z13: =IF(O13="ОК", S13 * IFERROR(VLOOKUP(I13, СТЕКЛО!$A:$C, 3, 0), 0), 0) -> 0 | AA13: =IF(O13="ОК", AF13 * SUMIFS(СТЕКЛО!$C:$C, СТЕКЛО!$A:$A, "Подгонка под Z-12, Z-17, Z-19, Z-20"), 0) -> 0 | AB13: =IF(OR(O13<>"ОК", K13="", K13="без закалки", ISNUMBER(SEARCH("без", K13))), 0, ( (MAX(0.3 * F13, S13) * IF(SUMIFS(СТЕКЛО!$C:$C, СТЕКЛО!$A:$A, "*Закалк*", СТЕКЛО!$B:$B, "4*")>0, SUMIFS(СТЕКЛО!$C:$C, СТЕКЛО!$A:$A, "*Закалк*", СТЕКЛО!$B:$B, "4*"), SUMIF(СТЕКЛО!$A:$A, "*Закалк*", СТЕКЛО!$C:$C))) + (R13 * IF(SUMIFS(СТЕКЛО!$C:$C, СТЕКЛО!$A:$A, "*Шлифовк*", СТЕКЛО!$B:$B, "4*")>0, SUMIFS(СТЕКЛО!$C:$C, СТЕКЛО!$A:$A, "*Шлифовк*", СТЕКЛО!$B:$B, "4*"), SUMIF(СТЕКЛО!$A:$A, "*Шлифовк*", СТЕКЛО!$C:$C))) ) * (1 + IF(AND(MIN(D13, E13)>=30, MIN(D13, E13)<=100), 1, 0) + IF(MAX(D13, E13)>=2500, 1, 0)) ) -> 0 | AC13: =IF(OR(O13<>"ОК", G13="", G13="без присадки", G13="без петель", G13="только присадка"), 0, IF(ISNUMBER(SEARCH("MF", B13)), IF(SUMIF(MF!$A:$A, G13, MF!$C:$C)>0, SUMIF(MF!$A:$A, G13, MF!$C:$C), SUMIF(MZ!$A:$A, G13, MZ!$C:$C)), IF(SUMIF(MZ!$A:$A, G13, MZ!$C:$C)>0, SUMIF(MZ!$A:$A, G13, MZ!$C:$C), SUMIF(MF!$A:$A, G13, MF!$C:$C))) * F13 * IF(OR(ISNUMBER(SEARCH("Salice AIR", G13)), ISNUMBER(SEARCH("(2шт)", G13))), H13, H13)) -> 0 | AD13: =IF(AND(O13="ОК", L13>0, M13<>""), L13 * SUMIFS(СТЕКЛО!$C:$C, СТЕКЛО!$A:$A, "Сверление отверстий", СТЕКЛО!$B:$B, M13), 0) -> 0 | AE13: =IF(AND(O13="ОК", J13<>"", J13<>"без оклейки"), S13 * IFERROR(VLOOKUP(J13, СТЕКЛО!$A:$C, 3, 0), 0), 0) -> 0 | AF13: =IF(AND(ISNUMBER(MATCH(B13, {"MZ 12","MZ 17","MZ 19","MZ 20","MZ 20/21","MZ 20/22","MZ 20/25"}, 0)), I13<>"", I13<>"без наполнения"), R13, 0) -> 0 | AG13: =IF((COUNTIFS(MZ!$A:$A, B13, MZ!$B:$B, C13) + COUNTIFS(MF!$A:$A, B13, MF!$B:$B, C13))>0, TRUE, FALSE) -> FALSE | AH13: =IFERROR(VLOOKUP(B13, Данные!$B:$C, 2, 0), "") | AI13: =IFERROR(VLOOKUP(G13, Данные!$B:$C, 2, 0), "") | AJ13: =IF(G13="без присадки", IF(IFERROR(VLOOKUP(B13, Данные!$B:$D, 3, 0), "")="можно без присадки", TRUE, FALSE), IF(OR(AH13=AI13, AI13="любой", G13="только присадка", G13=""), TRUE, FALSE)) -> TRUE | AL13: =IF(OR(I13="", I13="без наполнения"), R13 * (3/6), S13 * (40/4.09) + R13 * (3/6)) -> 0
A14: 10 | O14: =IF(OR(B14="", C14="", D14=0, E14=0, F14=0), "Сделайте выбор", IF(OR(D14<200, E14<200), "Мин. размер 200х200!", IF(NOT(AG14), "Ошибка цвета!", IF(IF(ISNUMBER(SEARCH("MF", B14)), SUMIFS(MF!$C:$C, MF!$A:$A, LEFT(B14, 5), MF!$B:$B, C14), SUMIFS(MZ!$C:$C, MZ!$A:$A, B14, MZ!$B:$B, C14))=0, "Нет актуальной цены!", IF(OR(AND(NOT(AJ14), NOT(AND(B14="MZ 04", ISNUMBER(SEARCH("902", G14))))), AND(ISNUMBER(SEARCH("MF20", SUBSTITUTE(G14, " ", ""))), NOT(ISNUMBER(SEARCH("MF 2", B14)))), AND(ISNUMBER(SEARCH("MF50", SUBSTITUTE(G14, " ", ""))), NOT(ISNUMBER(SEARCH("MF 5", B14)))), AND(ISNUMBER(SEARCH("MF70", SUBSTITUTE(G14, " ", ""))), NOT(ISNUMBER(SEARCH("MF 7", B14))))), "Петля не подходит!", IF(AND(K14<>"", K14<>"без закалки", OR(ISNUMBER(SEARCH("MF 2", B14)), ISNUMBER(SEARCH("MF 3", B14)))), "В этом профиле закалка невозможна!", IF(AND(K14<>"", K14<>"без закалки", ISNUMBER(SEARCH("нельзя закаливать", IFERROR(INDEX(Данные!$E:$E, MATCH(I14, Данные!$B:$B, 0)), "")))), "Это наполнение не закаливают!", "ОК"))))))) -> Сделайте выбор | P14: =IF(O14="ОК",SUM(W14:AE14)*$O$1,0) -> 0 | Q14: =(P14-P14*0.2)*$Q$1 -> 0 | R14: =SUM(D14:E14)*2*F14/1000 -> 0 | S14: =IF(OR(I14="", I14="без наполнения"), 0, D14/1000 * E14/1000 * F14) -> 0 | T14: =(W14+X14) * $O$1 -> 0 | U14: =AC14*$O$1 -> 0 | V14: =Z14*$O$1 -> 0 | W14: =IFERROR(IF(O14<>"ОК", 0, IF(NOT(ISNUMBER(SEARCH("MF", B14))), IF(ISNUMBER(SEARCH("13-01", B14)), ((R14 - D14*F14/1000) * SUMIFS(MZ!$C:$C, MZ!$A:$A, "MZ 13", MZ!$B:$B, C14) * 0.732) + (F14 * SUMIFS(MZ!$C:$C, MZ!$A:$A, B14, MZ!$B:$B, C14)), R14 * SUMIFS(MZ!$C:$C, MZ!$A:$A, B14, MZ!$B:$B, C14)), IF((LEN(B14)-LEN(SUBSTITUTE(B14,"/","")))=2, (IF(VLOOKUP(LEFT(B14, 5), MF!$A:$D, 4, 0)="хлыст", F14 * ROUNDUP((E14*2/1000) / VLOOKUP(LEFT(B14, 5), MF!$A:$E, 5, 0), 0), (E14*2*F14/1000)) * SUMIFS(MF!$C:$C, MF!$A:$A, LEFT(B14, 5), MF!$B:$B, C14)) + (IF(VLOOKUP("MF "&MID(B14, 7, 2), MF!$A:$D, 4, 0)="хлыст", F14 * ROUNDUP((D14/1000) / VLOOKUP("MF "&MID(B14, 7, 2), MF!$A:$E, 5, 0), 0), (D14*F14/1000)) * SUMIFS(MF!$C:$C, MF!$A:$A, "MF "&MID(B14, 7, 2), MF!$B:$B, C14)) + (IF(VLOOKUP("MF "&RIGHT(B14, 2), MF!$A:$D, 4, 0)="хлыст", F14 * ROUNDUP((D14/1000) / VLOOKUP("MF "&RIGHT(B14, 2), MF!$A:$E, 5, 0), 0), (D14*F14/1000)) * SUMIFS(MF!$C:$C, MF!$A:$A, "MF "&RIGHT(B14, 2), MF!$B:$B, C14)), IF((LEN(B14)-LEN(SUBSTITUTE(B14,"/","")))=1, (IF(VLOOKUP(LEFT(B14, 5), MF!$A:$D, 4, 0)="хлыст", F14 * ROUNDUP(((R14/F14) - D14/1000) / VLOOKUP(LEFT(B14, 5), MF!$A:$E, 5, 0), 0), (R14 - D14*F14/1000)) * SUMIFS(MF!$C:$C, MF!$A:$A, LEFT(B14, 5), MF!$B:$B, C14)) + (IF(VLOOKUP("MF "&RIGHT(B14, 2), MF!$A:$D, 4, 0)="хлыст", F14 * ROUNDUP((D14/1000) / VLOOKUP("MF "&RIGHT(B14, 2), MF!$A:$E, 5, 0), 0), (D14*F14/1000)) * SUMIFS(MF!$C:$C, MF!$A:$A, "MF "&RIGHT(B14, 2), MF!$B:$B, C14)), IF(VLOOKUP(B14, MF!$A:$D, 4, 0)="хлыст", F14 * ROUNDUP((R14/F14) / VLOOKUP(B14, MF!$A:$E, 5, 0), 0), R14) * SUMIFS(MF!$C:$C, MF!$A:$A, B14, MF!$B:$B, C14))))), 0) -> 0 | X14: =IFERROR(IF(O14<>"ОК", 0, F14 * IF(AND(ISNUMBER(SEARCH("MZ", B14)), ISNUMBER(SEARCH("04", B14)), ISNUMBER(SEARCH("902", G14))), SUMIF(MZ!$A:$A, "Сборка*902*", MZ!$C:$C), IF(ISNUMBER(SEARCH("MF", B14)), IF(ISNUMBER(SEARCH("MF 2", B14)), IF(ISNUMBER(SEARCH("/", B14)), SUMIF(MF!$A:$A, "Сборка фасада MF20/2*", MF!$C:$C), SUMIF(MF!$A:$A, "Сборка фасада MF20", MF!$C:$C)), IF(OR(ISNUMBER(SEARCH("MF 5", B14)), ISNUMBER(SEARCH("MF 7", B14))), SUMIF(MF!$A:$A, "Сборка фасада MF50, MF70*", MF!$C:$C), IF(ISNUMBER(SEARCH("MF 6", B14)), SUMIF(MF!$A:$A, "Сборка фасада MF30, MF60*", MF!$C:$C), IF(ISNUMBER(SEARCH("/", B14)), SUMIF(MF!$A:$A, "Сборка фасада MF30/3*", MF!$C:$C), SUMIF(MF!$A:$A, "Сборка фасада MF30, MF60*", MF!$C:$C))))), SUMIF(MZ!$A:$A, "Сборка+уголки+фрез.под петли*", MZ!$C:$C)))), 0) -> 0 | Y14: =IF(AND(O14="ОК", N14>0), N14 * SUMIFS(СТЕКЛО!$C:$C, СТЕКЛО!$A:$A, "Втулки для отверстий в стекле"), 0) -> 0 | Z14: =IF(O14="ОК", S14 * IFERROR(VLOOKUP(I14, СТЕКЛО!$A:$C, 3, 0), 0), 0) -> 0 | AA14: =IF(O14="ОК", AF14 * SUMIFS(СТЕКЛО!$C:$C, СТЕКЛО!$A:$A, "Подгонка под Z-12, Z-17, Z-19, Z-20"), 0) -> 0 | AB14: =IF(OR(O14<>"ОК", K14="", K14="без закалки", ISNUMBER(SEARCH("без", K14))), 0, ( (MAX(0.3 * F14, S14) * IF(SUMIFS(СТЕКЛО!$C:$C, СТЕКЛО!$A:$A, "*Закалк*", СТЕКЛО!$B:$B, "4*")>0, SUMIFS(СТЕКЛО!$C:$C, СТЕКЛО!$A:$A, "*Закалк*", СТЕКЛО!$B:$B, "4*"), SUMIF(СТЕКЛО!$A:$A, "*Закалк*", СТЕКЛО!$C:$C))) + (R14 * IF(SUMIFS(СТЕКЛО!$C:$C, СТЕКЛО!$A:$A, "*Шлифовк*", СТЕКЛО!$B:$B, "4*")>0, SUMIFS(СТЕКЛО!$C:$C, СТЕКЛО!$A:$A, "*Шлифовк*", СТЕКЛО!$B:$B, "4*"), SUMIF(СТЕКЛО!$A:$A, "*Шлифовк*", СТЕКЛО!$C:$C))) ) * (1 + IF(AND(MIN(D14, E14)>=30, MIN(D14, E14)<=100), 1, 0) + IF(MAX(D14, E14)>=2500, 1, 0)) ) -> 0 | AC14: =IF(OR(O14<>"ОК", G14="", G14="без присадки", G14="без петель", G14="только присадка"), 0, IF(ISNUMBER(SEARCH("MF", B14)), IF(SUMIF(MF!$A:$A, G14, MF!$C:$C)>0, SUMIF(MF!$A:$A, G14, MF!$C:$C), SUMIF(MZ!$A:$A, G14, MZ!$C:$C)), IF(SUMIF(MZ!$A:$A, G14, MZ!$C:$C)>0, SUMIF(MZ!$A:$A, G14, MZ!$C:$C), SUMIF(MF!$A:$A, G14, MF!$C:$C))) * F14 * IF(OR(ISNUMBER(SEARCH("Salice AIR", G14)), ISNUMBER(SEARCH("(2шт)", G14))), H14, H14)) -> 0 | AD14: =IF(AND(O14="ОК", L14>0, M14<>""), L14 * SUMIFS(СТЕКЛО!$C:$C, СТЕКЛО!$A:$A, "Сверление отверстий", СТЕКЛО!$B:$B, M14), 0) -> 0 | AE14: =IF(AND(O14="ОК", J14<>"", J14<>"без оклейки"), S14 * IFERROR(VLOOKUP(J14, СТЕКЛО!$A:$C, 3, 0), 0), 0) -> 0 | AF14: =IF(AND(ISNUMBER(MATCH(B14, {"MZ 12","MZ 17","MZ 19","MZ 20","MZ 20/21","MZ 20/22","MZ 20/25"}, 0)), I14<>"", I14<>"без наполнения"), R14, 0) -> 0 | AG14: =IF((COUNTIFS(MZ!$A:$A, B14, MZ!$B:$B, C14) + COUNTIFS(MF!$A:$A, B14, MF!$B:$B, C14))>0, TRUE, FALSE) -> FALSE | AH14: =IFERROR(VLOOKUP(B14, Данные!$B:$C, 2, 0), "") | AI14: =IFERROR(VLOOKUP(G14, Данные!$B:$C, 2, 0), "") | AJ14: =IF(G14="без присадки", IF(IFERROR(VLOOKUP(B14, Данные!$B:$D, 3, 0), "")="можно без присадки", TRUE, FALSE), IF(OR(AH14=AI14, AI14="любой", G14="только присадка", G14=""), TRUE, FALSE)) -> TRUE | AL14: =IF(OR(I14="", I14="без наполнения"), R14 * (3/6), S14 * (40/4.09) + R14 * (3/6)) -> 0
A15: 11 | O15: =IF(OR(B15="", C15="", D15=0, E15=0, F15=0), "Сделайте выбор", IF(OR(D15<200, E15<200), "Мин. размер 200х200!", IF(NOT(AG15), "Ошибка цвета!", IF(IF(ISNUMBER(SEARCH("MF", B15)), SUMIFS(MF!$C:$C, MF!$A:$A, LEFT(B15, 5), MF!$B:$B, C15), SUMIFS(MZ!$C:$C, MZ!$A:$A, B15, MZ!$B:$B, C15))=0, "Нет актуальной цены!", IF(OR(AND(NOT(AJ15), NOT(AND(B15="MZ 04", ISNUMBER(SEARCH("902", G15))))), AND(ISNUMBER(SEARCH("MF20", SUBSTITUTE(G15, " ", ""))), NOT(ISNUMBER(SEARCH("MF 2", B15)))), AND(ISNUMBER(SEARCH("MF50", SUBSTITUTE(G15, " ", ""))), NOT(ISNUMBER(SEARCH("MF 5", B15)))), AND(ISNUMBER(SEARCH("MF70", SUBSTITUTE(G15, " ", ""))), NOT(ISNUMBER(SEARCH("MF 7", B15))))), "Петля не подходит!", IF(AND(K15<>"", K15<>"без закалки", OR(ISNUMBER(SEARCH("MF 2", B15)), ISNUMBER(SEARCH("MF 3", B15)))), "В этом профиле закалка невозможна!", IF(AND(K15<>"", K15<>"без закалки", ISNUMBER(SEARCH("нельзя закаливать", IFERROR(INDEX(Данные!$E:$E, MATCH(I15, Данные!$B:$B, 0)), "")))), "Это наполнение не закаливают!", "ОК"))))))) -> Сделайте выбор | P15: =IF(O15="ОК",SUM(W15:AE15)*$O$1,0) -> 0 | Q15: =(P15-P15*0.2)*$Q$1 -> 0 | R15: =SUM(D15:E15)*2*F15/1000 -> 0 | S15: =IF(OR(I15="", I15="без наполнения"), 0, D15/1000 * E15/1000 * F15) -> 0 | T15: =(W15+X15) * $O$1 -> 0 | U15: =AC15*$O$1 -> 0 | V15: =Z15*$O$1 -> 0 | W15: =IFERROR(IF(O15<>"ОК", 0, IF(NOT(ISNUMBER(SEARCH("MF", B15))), IF(ISNUMBER(SEARCH("13-01", B15)), ((R15 - D15*F15/1000) * SUMIFS(MZ!$C:$C, MZ!$A:$A, "MZ 13", MZ!$B:$B, C15) * 0.732) + (F15 * SUMIFS(MZ!$C:$C, MZ!$A:$A, B15, MZ!$B:$B, C15)), R15 * SUMIFS(MZ!$C:$C, MZ!$A:$A, B15, MZ!$B:$B, C15)), IF((LEN(B15)-LEN(SUBSTITUTE(B15,"/","")))=2, (IF(VLOOKUP(LEFT(B15, 5), MF!$A:$D, 4, 0)="хлыст", F15 * ROUNDUP((E15*2/1000) / VLOOKUP(LEFT(B15, 5), MF!$A:$E, 5, 0), 0), (E15*2*F15/1000)) * SUMIFS(MF!$C:$C, MF!$A:$A, LEFT(B15, 5), MF!$B:$B, C15)) + (IF(VLOOKUP("MF "&MID(B15, 7, 2), MF!$A:$D, 4, 0)="хлыст", F15 * ROUNDUP((D15/1000) / VLOOKUP("MF "&MID(B15, 7, 2), MF!$A:$E, 5, 0), 0), (D15*F15/1000)) * SUMIFS(MF!$C:$C, MF!$A:$A, "MF "&MID(B15, 7, 2), MF!$B:$B, C15)) + (IF(VLOOKUP("MF "&RIGHT(B15, 2), MF!$A:$D, 4, 0)="хлыст", F15 * ROUNDUP((D15/1000) / VLOOKUP("MF "&RIGHT(B15, 2), MF!$A:$E, 5, 0), 0), (D15*F15/1000)) * SUMIFS(MF!$C:$C, MF!$A:$A, "MF "&RIGHT(B15, 2), MF!$B:$B, C15)), IF((LEN(B15)-LEN(SUBSTITUTE(B15,"/","")))=1, (IF(VLOOKUP(LEFT(B15, 5), MF!$A:$D, 4, 0)="хлыст", F15 * ROUNDUP(((R15/F15) - D15/1000) / VLOOKUP(LEFT(B15, 5), MF!$A:$E, 5, 0), 0), (R15 - D15*F15/1000)) * SUMIFS(MF!$C:$C, MF!$A:$A, LEFT(B15, 5), MF!$B:$B, C15)) + (IF(VLOOKUP("MF "&RIGHT(B15, 2), MF!$A:$D, 4, 0)="хлыст", F15 * ROUNDUP((D15/1000) / VLOOKUP("MF "&RIGHT(B15, 2), MF!$A:$E, 5, 0), 0), (D15*F15/1000)) * SUMIFS(MF!$C:$C, MF!$A:$A, "MF "&RIGHT(B15, 2), MF!$B:$B, C15)), IF(VLOOKUP(B15, MF!$A:$D, 4, 0)="хлыст", F15 * ROUNDUP((R15/F15) / VLOOKUP(B15, MF!$A:$E, 5, 0), 0), R15) * SUMIFS(MF!$C:$C, MF!$A:$A, B15, MF!$B:$B, C15))))), 0) -> 0 | X15: =IFERROR(IF(O15<>"ОК", 0, F15 * IF(AND(ISNUMBER(SEARCH("MZ", B15)), ISNUMBER(SEARCH("04", B15)), ISNUMBER(SEARCH("902", G15))), SUMIF(MZ!$A:$A, "Сборка*902*", MZ!$C:$C), IF(ISNUMBER(SEARCH("MF", B15)), IF(ISNUMBER(SEARCH("MF 2", B15)), IF(ISNUMBER(SEARCH("/", B15)), SUMIF(MF!$A:$A, "Сборка фасада MF20/2*", MF!$C:$C), SUMIF(MF!$A:$A, "Сборка фасада MF20", MF!$C:$C)), IF(OR(ISNUMBER(SEARCH("MF 5", B15)), ISNUMBER(SEARCH("MF 7", B15))), SUMIF(MF!$A:$A, "Сборка фасада MF50, MF70*", MF!$C:$C), IF(ISNUMBER(SEARCH("MF 6", B15)), SUMIF(MF!$A:$A, "Сборка фасада MF30, MF60*", MF!$C:$C), IF(ISNUMBER(SEARCH("/", B15)), SUMIF(MF!$A:$A, "Сборка фасада MF30/3*", MF!$C:$C), SUMIF(MF!$A:$A, "Сборка фасада MF30, MF60*", MF!$C:$C))))), SUMIF(MZ!$A:$A, "Сборка+уголки+фрез.под петли*", MZ!$C:$C)))), 0) -> 0 | Y15: =IF(AND(O15="ОК", N15>0), N15 * SUMIFS(СТЕКЛО!$C:$C, СТЕКЛО!$A:$A, "Втулки для отверстий в стекле"), 0) -> 0 | Z15: =IF(O15="ОК", S15 * IFERROR(VLOOKUP(I15, СТЕКЛО!$A:$C, 3, 0), 0), 0) -> 0 | AA15: =IF(O15="ОК", AF15 * SUMIFS(СТЕКЛО!$C:$C, СТЕКЛО!$A:$A, "Подгонка под Z-12, Z-17, Z-19, Z-20"), 0) -> 0 | AB15: =IF(OR(O15<>"ОК", K15="", K15="без закалки", ISNUMBER(SEARCH("без", K15))), 0, ( (MAX(0.3 * F15, S15) * IF(SUMIFS(СТЕКЛО!$C:$C, СТЕКЛО!$A:$A, "*Закалк*", СТЕКЛО!$B:$B, "4*")>0, SUMIFS(СТЕКЛО!$C:$C, СТЕКЛО!$A:$A, "*Закалк*", СТЕКЛО!$B:$B, "4*"), SUMIF(СТЕКЛО!$A:$A, "*Закалк*", СТЕКЛО!$C:$C))) + (R15 * IF(SUMIFS(СТЕКЛО!$C:$C, СТЕКЛО!$A:$A, "*Шлифовк*", СТЕКЛО!$B:$B, "4*")>0, SUMIFS(СТЕКЛО!$C:$C, СТЕКЛО!$A:$A, "*Шлифовк*", СТЕКЛО!$B:$B, "4*"), SUMIF(СТЕКЛО!$A:$A, "*Шлифовк*", СТЕКЛО!$C:$C))) ) * (1 + IF(AND(MIN(D15, E15)>=30, MIN(D15, E15)<=100), 1, 0) + IF(MAX(D15, E15)>=2500, 1, 0)) ) -> 0 | AC15: =IF(OR(O15<>"ОК", G15="", G15="без присадки", G15="без петель", G15="только присадка"), 0, IF(ISNUMBER(SEARCH("MF", B15)), IF(SUMIF(MF!$A:$A, G15, MF!$C:$C)>0, SUMIF(MF!$A:$A, G15, MF!$C:$C), SUMIF(MZ!$A:$A, G15, MZ!$C:$C)), IF(SUMIF(MZ!$A:$A, G15, MZ!$C:$C)>0, SUMIF(MZ!$A:$A, G15, MZ!$C:$C), SUMIF(MF!$A:$A, G15, MF!$C:$C))) * F15 * IF(OR(ISNUMBER(SEARCH("Salice AIR", G15)), ISNUMBER(SEARCH("(2шт)", G15))), H15, H15)) -> 0 | AD15: =IF(AND(O15="ОК", L15>0, M15<>""), L15 * SUMIFS(СТЕКЛО!$C:$C, СТЕКЛО!$A:$A, "Сверление отверстий", СТЕКЛО!$B:$B, M15), 0) -> 0 | AE15: =IF(AND(O15="ОК", J15<>"", J15<>"без оклейки"), S15 * IFERROR(VLOOKUP(J15, СТЕКЛО!$A:$C, 3, 0), 0), 0) -> 0 | AF15: =IF(AND(ISNUMBER(MATCH(B15, {"MZ 12","MZ 17","MZ 19","MZ 20","MZ 20/21","MZ 20/22","MZ 20/25"}, 0)), I15<>"", I15<>"без наполнения"), R15, 0) -> 0 | AG15: =IF((COUNTIFS(MZ!$A:$A, B15, MZ!$B:$B, C15) + COUNTIFS(MF!$A:$A, B15, MF!$B:$B, C15))>0, TRUE, FALSE) -> FALSE | AH15: =IFERROR(VLOOKUP(B15, Данные!$B:$C, 2, 0), "") | AI15: =IFERROR(VLOOKUP(G15, Данные!$B:$C, 2, 0), "") | AJ15: =IF(G15="без присадки", IF(IFERROR(VLOOKUP(B15, Данные!$B:$D, 3, 0), "")="можно без присадки", TRUE, FALSE), IF(OR(AH15=AI15, AI15="любой", G15="только присадка", G15=""), TRUE, FALSE)) -> TRUE | AL15: =IF(OR(I15="", I15="без наполнения"), R15 * (3/6), S15 * (40/4.09) + R15 * (3/6)) -> 0
A16: 12 | O16: =IF(OR(B16="", C16="", D16=0, E16=0, F16=0), "Сделайте выбор", IF(OR(D16<200, E16<200), "Мин. размер 200х200!", IF(NOT(AG16), "Ошибка цвета!", IF(IF(ISNUMBER(SEARCH("MF", B16)), SUMIFS(MF!$C:$C, MF!$A:$A, LEFT(B16, 5), MF!$B:$B, C16), SUMIFS(MZ!$C:$C, MZ!$A:$A, B16, MZ!$B:$B, C16))=0, "Нет актуальной цены!", IF(OR(AND(NOT(AJ16), NOT(AND(B16="MZ 04", ISNUMBER(SEARCH("902", G16))))), AND(ISNUMBER(SEARCH("MF20", SUBSTITUTE(G16, " ", ""))), NOT(ISNUMBER(SEARCH("MF 2", B16)))), AND(ISNUMBER(SEARCH("MF50", SUBSTITUTE(G16, " ", ""))), NOT(ISNUMBER(SEARCH("MF 5", B16)))), AND(ISNUMBER(SEARCH("MF70", SUBSTITUTE(G16, " ", ""))), NOT(ISNUMBER(SEARCH("MF 7", B16))))), "Петля не подходит!", IF(AND(K16<>"", K16<>"без закалки", OR(ISNUMBER(SEARCH("MF 2", B16)), ISNUMBER(SEARCH("MF 3", B16)))), "В этом профиле закалка невозможна!", IF(AND(K16<>"", K16<>"без закалки", ISNUMBER(SEARCH("нельзя закаливать", IFERROR(INDEX(Данные!$E:$E, MATCH(I16, Данные!$B:$B, 0)), "")))), "Это наполнение не закаливают!", "ОК"))))))) -> Сделайте выбор | P16: =IF(O16="ОК",SUM(W16:AE16)*$O$1,0) -> 0 | Q16: =(P16-P16*0.2)*$Q$1 -> 0 | R16: =SUM(D16:E16)*2*F16/1000 -> 0 | S16: =IF(OR(I16="", I16="без наполнения"), 0, D16/1000 * E16/1000 * F16) -> 0 | T16: =(W16+X16) * $O$1 -> 0 | U16: =AC16*$O$1 -> 0 | V16: =Z16*$O$1 -> 0 | W16: =IFERROR(IF(O16<>"ОК", 0, IF(NOT(ISNUMBER(SEARCH("MF", B16))), IF(ISNUMBER(SEARCH("13-01", B16)), ((R16 - D16*F16/1000) * SUMIFS(MZ!$C:$C, MZ!$A:$A, "MZ 13", MZ!$B:$B, C16) * 0.732) + (F16 * SUMIFS(MZ!$C:$C, MZ!$A:$A, B16, MZ!$B:$B, C16)), R16 * SUMIFS(MZ!$C:$C, MZ!$A:$A, B16, MZ!$B:$B, C16)), IF((LEN(B16)-LEN(SUBSTITUTE(B16,"/","")))=2, (IF(VLOOKUP(LEFT(B16, 5), MF!$A:$D, 4, 0)="хлыст", F16 * ROUNDUP((E16*2/1000) / VLOOKUP(LEFT(B16, 5), MF!$A:$E, 5, 0), 0), (E16*2*F16/1000)) * SUMIFS(MF!$C:$C, MF!$A:$A, LEFT(B16, 5), MF!$B:$B, C16)) + (IF(VLOOKUP("MF "&MID(B16, 7, 2), MF!$A:$D, 4, 0)="хлыст", F16 * ROUNDUP((D16/1000) / VLOOKUP("MF "&MID(B16, 7, 2), MF!$A:$E, 5, 0), 0), (D16*F16/1000)) * SUMIFS(MF!$C:$C, MF!$A:$A, "MF "&MID(B16, 7, 2), MF!$B:$B, C16)) + (IF(VLOOKUP("MF "&RIGHT(B16, 2), MF!$A:$D, 4, 0)="хлыст", F16 * ROUNDUP((D16/1000) / VLOOKUP("MF "&RIGHT(B16, 2), MF!$A:$E, 5, 0), 0), (D16*F16/1000)) * SUMIFS(MF!$C:$C, MF!$A:$A, "MF "&RIGHT(B16, 2), MF!$B:$B, C16)), IF((LEN(B16)-LEN(SUBSTITUTE(B16,"/","")))=1, (IF(VLOOKUP(LEFT(B16, 5), MF!$A:$D, 4, 0)="хлыст", F16 * ROUNDUP(((R16/F16) - D16/1000) / VLOOKUP(LEFT(B16, 5), MF!$A:$E, 5, 0), 0), (R16 - D16*F16/1000)) * SUMIFS(MF!$C:$C, MF!$A:$A, LEFT(B16, 5), MF!$B:$B, C16)) + (IF(VLOOKUP("MF "&RIGHT(B16, 2), MF!$A:$D, 4, 0)="хлыст", F16 * ROUNDUP((D16/1000) / VLOOKUP("MF "&RIGHT(B16, 2), MF!$A:$E, 5, 0), 0), (D16*F16/1000)) * SUMIFS(MF!$C:$C, MF!$A:$A, "MF "&RIGHT(B16, 2), MF!$B:$B, C16)), IF(VLOOKUP(B16, MF!$A:$D, 4, 0)="хлыст", F16 * ROUNDUP((R16/F16) / VLOOKUP(B16, MF!$A:$E, 5, 0), 0), R16) * SUMIFS(MF!$C:$C, MF!$A:$A, B16, MF!$B:$B, C16))))), 0) -> 0 | X16: =IFERROR(IF(O16<>"ОК", 0, F16 * IF(AND(ISNUMBER(SEARCH("MZ", B16)), ISNUMBER(SEARCH("04", B16)), ISNUMBER(SEARCH("902", G16))), SUMIF(MZ!$A:$A, "Сборка*902*", MZ!$C:$C), IF(ISNUMBER(SEARCH("MF", B16)), IF(ISNUMBER(SEARCH("MF 2", B16)), IF(ISNUMBER(SEARCH("/", B16)), SUMIF(MF!$A:$A, "Сборка фасада MF20/2*", MF!$C:$C), SUMIF(MF!$A:$A, "Сборка фасада MF20", MF!$C:$C)), IF(OR(ISNUMBER(SEARCH("MF 5", B16)), ISNUMBER(SEARCH("MF 7", B16))), SUMIF(MF!$A:$A, "Сборка фасада MF50, MF70*", MF!$C:$C), IF(ISNUMBER(SEARCH("MF 6", B16)), SUMIF(MF!$A:$A, "Сборка фасада MF30, MF60*", MF!$C:$C), IF(ISNUMBER(SEARCH("/", B16)), SUMIF(MF!$A:$A, "Сборка фасада MF30/3*", MF!$C:$C), SUMIF(MF!$A:$A, "Сборка фасада MF30, MF60*", MF!$C:$C))))), SUMIF(MZ!$A:$A, "Сборка+уголки+фрез.под петли*", MZ!$C:$C)))), 0) -> 0 | Y16: =IF(AND(O16="ОК", N16>0), N16 * SUMIFS(СТЕКЛО!$C:$C, СТЕКЛО!$A:$A, "Втулки для отверстий в стекле"), 0) -> 0 | Z16: =IF(O16="ОК", S16 * IFERROR(VLOOKUP(I16, СТЕКЛО!$A:$C, 3, 0), 0), 0) -> 0 | AA16: =IF(O16="ОК", AF16 * SUMIFS(СТЕКЛО!$C:$C, СТЕКЛО!$A:$A, "Подгонка под Z-12, Z-17, Z-19, Z-20"), 0) -> 0 | AB16: =IF(OR(O16<>"ОК", K16="", K16="без закалки", ISNUMBER(SEARCH("без", K16))), 0, ( (MAX(0.3 * F16, S16) * IF(SUMIFS(СТЕКЛО!$C:$C, СТЕКЛО!$A:$A, "*Закалк*", СТЕКЛО!$B:$B, "4*")>0, SUMIFS(СТЕКЛО!$C:$C, СТЕКЛО!$A:$A, "*Закалк*", СТЕКЛО!$B:$B, "4*"), SUMIF(СТЕКЛО!$A:$A, "*Закалк*", СТЕКЛО!$C:$C))) + (R16 * IF(SUMIFS(СТЕКЛО!$C:$C, СТЕКЛО!$A:$A, "*Шлифовк*", СТЕКЛО!$B:$B, "4*")>0, SUMIFS(СТЕКЛО!$C:$C, СТЕКЛО!$A:$A, "*Шлифовк*", СТЕКЛО!$B:$B, "4*"), SUMIF(СТЕКЛО!$A:$A, "*Шлифовк*", СТЕКЛО!$C:$C))) ) * (1 + IF(AND(MIN(D16, E16)>=30, MIN(D16, E16)<=100), 1, 0) + IF(MAX(D16, E16)>=2500, 1, 0)) ) -> 0 | AC16: =IF(OR(O16<>"ОК", G16="", G16="без присадки", G16="без петель", G16="только присадка"), 0, IF(ISNUMBER(SEARCH("MF", B16)), IF(SUMIF(MF!$A:$A, G16, MF!$C:$C)>0, SUMIF(MF!$A:$A, G16, MF!$C:$C), SUMIF(MZ!$A:$A, G16, MZ!$C:$C)), IF(SUMIF(MZ!$A:$A, G16, MZ!$C:$C)>0, SUMIF(MZ!$A:$A, G16, MZ!$C:$C), SUMIF(MF!$A:$A, G16, MF!$C:$C))) * F16 * IF(OR(ISNUMBER(SEARCH("Salice AIR", G16)), ISNUMBER(SEARCH("(2шт)", G16))), H16, H16)) -> 0 | AD16: =IF(AND(O16="ОК", L16>0, M16<>""), L16 * SUMIFS(СТЕКЛО!$C:$C, СТЕКЛО!$A:$A, "Сверление отверстий", СТЕКЛО!$B:$B, M16), 0) -> 0 | AE16: =IF(AND(O16="ОК", J16<>"", J16<>"без оклейки"), S16 * IFERROR(VLOOKUP(J16, СТЕКЛО!$A:$C, 3, 0), 0), 0) -> 0 | AF16: =IF(AND(ISNUMBER(MATCH(B16, {"MZ 12","MZ 17","MZ 19","MZ 20","MZ 20/21","MZ 20/22","MZ 20/25"}, 0)), I16<>"", I16<>"без наполнения"), R16, 0) -> 0 | AG16: =IF((COUNTIFS(MZ!$A:$A, B16, MZ!$B:$B, C16) + COUNTIFS(MF!$A:$A, B16, MF!$B:$B, C16))>0, TRUE, FALSE) -> FALSE | AH16: =IFERROR(VLOOKUP(B16, Данные!$B:$C, 2, 0), "") | AI16: =IFERROR(VLOOKUP(G16, Данные!$B:$C, 2, 0), "") | AJ16: =IF(G16="без присадки", IF(IFERROR(VLOOKUP(B16, Данные!$B:$D, 3, 0), "")="можно без присадки", TRUE, FALSE), IF(OR(AH16=AI16, AI16="любой", G16="только присадка", G16=""), TRUE, FALSE)) -> TRUE | AL16: =IF(OR(I16="", I16="без наполнения"), R16 * (3/6), S16 * (40/4.09) + R16 * (3/6)) -> 0
A17: Стоимость заказа: | P17: =SUM(P5:P16) -> 0 | Q17: =SUM(Q5:Q16) -> 0
B19: Серия MZ: Минимальные размеры: 200x200 мм. Рекомендуемые максимальные размеры: — для М2 01, MZ 02 - 2200х450 мм; — для М2 04, М2 09, MZ 10, MZ 12, MZ 13, MZ 19/20 - 2500x550 мм; — для MZ 07- 2200х450 мм; — для М2 17 - 1500х450 мм.
B20: Серия MF 20/21/22/25: Присадка под петли делается только в профиле MF 20. – Максимальный вес двери: 20 кг. – Рекомендуемые максимальные размеры двери: высота 2100 мм, ширина 500 мм. – Угол открывания: 105°.
B21: Серия MF 30/31/32/33/34/35: Максимальный вес двери: 20 кг. – Рекомендуемые максимальные размеры двери: высота 2100 мм, ширина 500 мм.
B22: Серия MF 50/51/52: – При использовании профиля MF 52 рекомендуемая высота фасада: 1920 - 2550 мм. – Минимальная ширина фасада: 200 мм. – Максимальная ширина фасада: 550 мм. – Наполнение: стекло 4 мм, ЛДСП 18 мм. – Для установки фасадов используются петли серии MF 50.
B23: Серия MF 60/61/62: Минимальные размеры фасада: 200х200 мм. – Рекомендуемые максимальные размеры: 2500х550 мм. – Наполнение: стекло 4 мм. – Для установки фасадов используются петли для широких алюминиевых рамок.
B24: Серия MF 70/71/72: Рекомендуемая высота фасада: до 2750 мм. – Рекомендуемая ширина фасада: 200 - 550 мм. – Рекомендуемый вес фасада: до 40 кг. – Наполнение: стекло и прочие листовые материалы толщиной 4 мм. Обработка кромок не требуется.
B26: Для фасадов из профиля MZ07: прозрачное наполнение(стекло) применяется при использовании петель BLUM 71B950A. В остальных случаях(использование других петель) применяется только непрозрачное наполнение(стекло).
I27: ВНИМАНИЕ !
B28: Для сборки фасадов серии MF в качестве наполнения используется стекло только с необработанным торцом. | I28: Заказывая у нас алюминиевые фасады и полки, вы подтверждаете, что ознакомились с техническими условиями и требованиями к качеству мебельных фасадов и согласны с ними.
B30: *В стоимость работы входят стоимость углов и фрезеровка под петли | I30: Ссылка на требования: | J30: http://ал-декор.рф/Izgotovlenie-alyuminievih-fasadov/
B31: *В стоимость профиля входит стоимость уплотнителя

Sheet Схема присадки фасадов
A1: !!! ВИД С ЛИЦЕВОЙ СТОРОНЫ !!! | V1: !!! ВИД С ЛИЦЕВОЙ СТОРОНЫ !!! | AQ1: !!! ВИД С ЛИЦЕВОЙ СТОРОНЫ !!!
AU21: D= | BE21: D=
AU24: D= | BE24: D=
F29: - укажите размер | AA29: - укажите размер
A31: !!! ВИД С ЛИЦЕВОЙ СТОРОНЫ !!! | V31: !!! ВИД С ЛИЦЕВОЙ СТОРОНЫ !!! | AQ31: !!! ВИД С ЛИЦЕВОЙ СТОРОНЫ !!!
AU51: D= | BE51: D=
AU54: D= | BE54: D=
F59: - укажите размер | AA59: - укажите размер
A61: !!! ВИД С ЛИЦЕВОЙ СТОРОНЫ !!! | V61: !!! ВИД С ЛИЦЕВОЙ СТОРОНЫ !!! | AQ61: !!! ВИД С ЛИЦЕВОЙ СТОРОНЫ !!!
AU81: D= | BE81: D=
AU84: D= | BE84: D=
F89: - укажите размер | AA89: - укажите размер
A91: !!! ВИД С ЛИЦЕВОЙ СТОРОНЫ !!! | V91: !!! ВИД С ЛИЦЕВОЙ СТОРОНЫ !!! | AQ91: !!! ВИД С ЛИЦЕВОЙ СТОРОНЫ !!!
AU111: D= | BE111: D=
AU114: D= | BE114: D=
F119: - укажите размер | AA119: - укажите размер

Sheet MZ
A1: Прайс-лист на фасады серии MZ MODUS | B1: Цвет профиля | C1: цена, м.п.
A2: Профиль MZ01
A3: MZ 01 | B3: серебро А00 | C3: =7.0834*1.07462 -> 7.6119633
A4: MZ 01 | B4: шампань А06 | C4: =7.0834*1.07462 -> 7.6119633
A5: MZ 01 | B5: коньяк А07 | C5: =7.0834*1.07462 -> 7.6119633
A6: MZ 01 | B6: белый А16 | C6: =7.0834*1.07462 -> 7.6119633
A7: MZ 01 | B7: титан А18 | C7: =1.07462*8.417 -> 9.0450765
A8: MZ 01 | B8: белый матовый Р11 | C8: =1.07462*8.417 -> 9.0450765
A9: MZ 01 | B9: серебро браш АВ00 | C9: =1.07462*9.4301 -> 10.133774
A10: MZ 01 | B10: инокс АВ04 | C10: =1.07462*9.4301 -> 10.133774
A11: MZ 01 | B11: латунь АВ21 | C11: =1.07462*9.4301 -> 10.133774
A12: MZ 01 | B12: черный браш АВ05 | C12: =1.07462*8.9365 -> 9.6033416
A13: MZ 01 | B13: черный матовый А05 | C13: =1.07462*8.2091 -> 8.821663
A14: Профиль MZ02
A15: MZ 02 | B15: серебро А00 | C15: =1.07462*7.283 -> 7.8264575
A16: MZ 02 | B16: белый матовый Р11 | C16: =1.07462*8.4689 -> 9.1008493
A17: MZ 02 | B17: инокс АВ04 | C17: =1.07462*9.6855 -> 10.408232
A18: MZ 02 | B18: латунь АВ21 | C18: =1.07462*9.6855 -> 10.408232
A19: MZ 02 | B19: черный браш АВ05 | C19: =1.07462*8.7244 -> 9.3754147
A20: Профиль MZ04
A21: MZ 04 | B21: серебро А00 | C21: =1.07462*11.4996 -> 12.3577
A22: MZ 04 | B22: шампань А06 | C22: =1.07462*11.4996 -> 12.3577
A23: MZ 04 | B23: коньяк А07 | C23: =1.07462*11.4996 -> 12.3577
A24: MZ 04 | B24: титан А18 | C24: =1.07462*13.8246 -> 14.856192
A25: MZ 04 | B25: белый матовый Р11 | C25: =1.07462*13.8246 -> 14.856192
A26: MZ 04 | B26: белый А16 | C26: =1.07462*11.4996 -> 12.3577
A27: MZ 04 | B27: серебро браш АВ00 | C27: =1.07462*15.5565 -> 16.717326
A28: MZ 04 | B28: инокс АВ04 | C28: =1.07462*15.5565 -> 16.717326
A29: MZ 04 | B29: латунь АВ21 | C29: =1.07462*15.5565 -> 16.717326
A30: MZ 04 | B30: черный браш АВ05 | C30: =1.07462*15.5565 -> 16.717326
A31: MZ 04 | B31: черный матовый А05 | C31: =1.07462*13.4956 -> 14.502642
A32: Профиль MZ07
A33: MZ 07 | B33: серебро А00 | C33: =1.07462*6.8063 -> 7.3141861
A34: MZ 07 | B34: белый матовый Р11 | C34: =1.07462*7.7632 -> 8.34249
A35: MZ 07 | B35: латунь АВ21 | C35: =1.07462*9.0404 -> 9.7149946
A36: MZ 07 | B36: черный браш АВ05 | C36: =1.07462*8.0359 -> 8.6355389
A37: Профиль MZ09
A38: MZ 09 | B38: серебро А00 | C38: =1.07462*10.3653 -> 11.138759
A39: Профиль MZ10
A40: MZ 10 | B40: серебро А00 | C40: =1.07462*12.2616 -> 13.176561
A41: MZ 10 | B41: белый матовый Р11 | C41: =1.07462*14.6213 -> 15.712341
A42: MZ 10 | B42: инокс АВ04 | C42: =1.07462*15.8292 -> 17.010375
A43: MZ 10 | B43: латунь АВ21 | C43: =1.07462*15.8292 -> 17.010375
A44: MZ 10 | B44: шампань А06 | C44: =1.07462*12.2616 -> 13.176561
A45: MZ 10 | B45: коньяк А07 | C45: =1.07462*11.4996 -> 12.3577
A46: MZ 10 | B46: черный браш АВ05 | C46: =1.07462*15.0066 -> 16.126392
A47: Профиль MZ12
A48: MZ 12 | B48: серебро А00 | C48: =1.07462*10.0709 -> 10.822391
A49: MZ 12 | B49: шампань А06 | C49: =1.07462*10.0709 -> 10.822391
A50: MZ 12 | B50: коньяк А07 | C50: =1.07462*10.0709 -> 10.822391
A51: MZ 12 | B51: белый А16 | C51: =1.07462*10.0709 -> 10.822391
A52: MZ 12 | B52: титан А18 | C52: =1.07462*12.0798 -> 12.981195
A53: MZ 12 | B53: белый матовый Р11 | C53: =1.07462*12.0798 -> 12.981195
A54: MZ 12 | B54: латунь АВ21 | C54: =1.07462*13.5648 -> 14.577005
A55: MZ 12 | B55: инокс АВ04 | C55: =1.07462*13.5648 -> 14.577005
A56: MZ 12 | B56: черный матовый А05 | C56: =1.07462*11.3611 -> 12.208865
A57: MZ 12 | B57: черный браш АВ05 | C57: =1.07462*12.8721 -> 13.832616
A58: Профиль MZ13
A59: MZ 13 | B59: серебро А00 | C59: =1.07462*10.8805 -> 11.692403
A60: MZ 13 | B60: белый матовый Р11 | C60: =1.07462*13.6904 -> 14.711978
A61: MZ 13 | B61: инокс АВ04 | C61: =1.07462*14.8637 -> 15.972829
A62: MZ 13 | B62: латунь АВ21 | C62: =1.07462*14.8637 -> 15.972829
A63: MZ 13 | B63: черный браш АВ05 | C63: =1.07462*14.8637 -> 15.972829
A64: MZ 13 | B64: шампань А06 | C64: =1.07462*10.8805 -> 11.692403
A65: MZ 13 | B65: коньяк А07 | C65: =1.07462*10.8805 -> 11.692403
A66: MZ 13 | B66: белый А16 | C66: =1.07462*10.8805 -> 11.692403
A67: MZ 13 | B67: титан А18 | C67: =1.07462*13.0362 -> 14.008961
A68: MZ 13 | B68: серебро браш АВ00 | C68: =1.07462*14.7165 -> 15.814645
A69: MZ 13 | B69: черный матовый А05 | C69: =1.07462*13.6904 -> 14.711978
A70: Профиль MZ13-01
A71: MZ 13-01 | B71: серебро А00 | C71: 50.6231 | D71: хлыст | E71: 2.85
A72: MZ 13-01 | B72: латунь АВ21 | C72: 65.7635 | D72: хлыст | E72: 2.85
A73: MZ 13-01 | B73: черный браш АВ05 | C73: 64.8874 | D73: хлыст | E73: 2.85
A74: Профиль MZ17
A75: MZ 17 | B75: серебро А00 | C75: =1.07462*10.9887 -> 11.808677
A76: MZ 17 | B76: белый матовый Р11 | C76: =1.07462*13.7294 -> 14.753888
A77: MZ 17 | B77: инокс АВ04 | C77: =1.07462*14.9157 -> 16.02871
A78: MZ 17 | B78: латунь АВ21 | C78: =1.07462*14.9157 -> 16.02871
A79: MZ 17 | B79: черный браш АВ05 | C79: =1.07462*14.1537 -> 15.209849
A80: Работа
A81: Сборка+уголки+фрез.под петли, 1 фасад | C81: 13.13
A82: Сборка+уголки под Т902+фрезеровка под петли(1 створка) только для MZ04 | C82: 29.7
A83: Дополнительная комплектация
A84: Петля BLUM для MZ01/08
A85: Blum Накл(уз.пр) clip top blumotion 71B950A никель | C85: =1.03*14.8366 -> 15.281698
A86: Blum Накл(уз.пр) clip top 71T950A никель | C86: =1.03*7.4633 -> 7.687199
A87: Blum Накл(уз.пр) clip top 71T950A черный | C87: =1.03*8.5159 -> 8.771377
A88: Blum Накл(уз.пр) без пружины clip top 70T950A.TL никель | C88: =1.03*7.7673 -> 8.000319
A89: Blum Накл(уз.пр) без пружины clip top 70T950A.TL черный | C89: =1.03*8.5159 -> 8.771377
A90: Blum Полунакл(уз.пр) clip top blumotion 71B960A никель | C90: =1.03*14.8704 -> 15.316512
A91: Blum Полунакл(уз.пр) clip top 71T960A никель | C91: =1.03*8.2739 -> 8.522117
A92: Blum Вкладн(уз.пр) clip top blumotion 71B970A никель | C92: =1.03*15.4333 -> 15.896299
A93: Blum Вкладн(уз.пр) clip top 71T970A никель | C93: =1.03*8.3639 -> 8.614817
A94: Петля BLUM для MZ03/04/09/12/13/17/19/20
A95: Blum Накл(шир.пр) clip top blumotion 71B3550 никель | C95: =1.03*6.5853 -> 6.782859
A96: Blum Накл(шир.пр) clip top blumotion 71B3550 черный | C96: =1.03*9.7373 -> 10.029419
A97: Blum Накл(шир.пр) clip top 71T3550 никель | C97: =1.03*4.5084 -> 4.643652
A98: Blum Накл без пружины(шир.пр) clip top 70Т3550.TL никель | C98: =1.03*4.8855 -> 5.032065
A99: Blum Полунакл(шир.пр) clip top blumotion 71B3650 никель | C99: =1.03*8.5384 -> 8.794552
A100: Blum Полунакл(шир.пр) clip top blumotion 71B3650 черный | C100: =1.03*9.7373 -> 10.029419
...

Sheet MF
A1: Прайс-лист на фасады серии MF MODUS | B1: Цвет профиля | C1: цена | D1: ед. измерения | E1: размер хлыста
A2: Профили MF20/21/22/25
A3: MF 20 | B3: черный матовый А05 | C3: 14.24 | D3: м.п.
A4: MF 20 | B4: титан А18 | C4: 12.96 | D4: м.п.
A5: MF 20 | B5: латунь АВ21 | C5: 16.52 | D5: м.п. | G5: БЕЛАЯ КЛЕТКА – ЗАПОЛНЯЕМ САМИ ЦЕНУ
A6: MF 21 | B6: черный матовый А05 | C6: 81.96 | D6: хлыст | E6: 2.85 | G6: ЗЕЛЕНАЯ КЛЕТКА – ОСТАВЛЯЕМ БЕЗ ЦЕНЫ
A7: MF 21 | B7: титан А18 | C7: 73.88 | D7: хлыст | E7: 2.85
A8: MF 21 | B8: латунь АВ21 | C8: 81.97 | D8: хлыст | E8: 2.85
A9: MF 22 | B9: черный матовый А05 | C9: 17.42 | D9: м.п.
A10: MF 22 | B10: латунь АВ21 | C10: 21.42 | D10: м.п.
A11: MF 25 | B11: черный матовый А05 | C11: 61.16 | D11: хлыст | E11: 2.85
A12: MF 25 | B12: латунь АВ21 | C12: 69.42 | D12: хлыст | E12: 2.85
A13: MF 20/21 | B13: черный матовый А05 | D13: м.п./хлыст
A14: MF 20/21 | B14: титан А18 | D14: м.п./хлыст
A15: MF 20/21 | B15: латунь АВ21 | D15: м.п./хлыст
A16: MF 20/22 | B16: черный матовый А05 | D16: м.п./м.п.
A17: MF 20/22 | B17: латунь АВ21 | D17: м.п./м.п.
A18: MF 20/25 | B18: черный матовый А05 | D18: м.п./хлыст
A19: MF 20/25 | B19: латунь АВ21 | D19: м.п./хлыст
A20: Salice AIR Push для MF20, титан | C20: =1.03*115.4287 -> 118.89156
A21: Salice AIR Push для MF20, никель | C21: =1.03*112.2542 -> 115.62183
A22: Петля MODUS серии MF20 (2шт) Soft никель | C22: =1.03*39.3092 -> 40.488476
A23: Петля MODUS серии MF20 (2шт) Soft черный | C23: =1.03*39.3092 -> 40.488476
A24: Профили MF30/31/32/33/34/35
A25: MF 30 | B25: черный матовый А05 | C25: 10.28 | D25: м.п.
A26: MF 30 | B26: титан А18 | C26: 9.35 | D26: м.п.
A27: MF 30 | B27: латунь АВ21 | C27: 12.58 | D27: м.п.
A28: MF 31 | B28: черный матовый А05 | C28: 62.29 | D28: хлыст | E28: 2.85
A29: MF 31 | B29: титан А18 | C29: 56.14 | D29: хлыст | E29: 2.85
A30: MF 31 | B30: латунь АВ21 | C30: 62.3 | D30: хлыст | E30: 2.85
A31: MF 32 | B31: черный матовый А05 | C31: 13.57 | D31: м.п.
A32: MF 32 | B32: латунь АВ21 | C32: 16.71 | D32: м.п.
A33: MF 33 | B33: черный матовый А05 | C33: 46.48 | D33: хлыст | E33: 2.85
A34: MF 33 | B34: латунь АВ21 | C34: 50.93 | D34: хлыст | E34: 2.85
A35: MF 34 | B35: черный матовый А05 | C35: 17.23 | D35: м.п.
A36: MF 34 | B36: латунь АВ21 | C36: 18.62 | D36: м.п.
A37: MF 35 | B37: черный матовый А05 | C37: 49.41 | D37: хлыст | E37: 2.85
A38: MF 35 | B38: латунь АВ21 | C38: 54.75 | D38: хлыст | E38: 2.85
A39: MF 30/31 | B39: черный матовый А05 | D39: м.п./хлыст
A40: MF 30/31 | B40: титан А18 | D40: м.п./хлыст
A41: MF 30/31 | B41: латунь АВ21 | D41: м.п./м.п.
A42: MF 30/32 | B42: черный матовый А05 | D42: м.п./м.п.
A43: MF 30/32 | B43: латунь АВ21 | D43: м.п./м.п.
A44: MF 30/33 | B44: черный матовый А05 | D44: м.п./хлыст
A45: MF 30/33 | B45: латунь АВ21 | D45: м.п./хлыст
A46: MF 30/34 | B46: черный матовый А05 | D46: м.п./м.п.
A47: MF 30/34 | B47: латунь АВ21 | D47: м.п./м.п.
A48: MF 30/35 | B48: черный матовый А05 | D48: м.п./хлыст
A49: MF 30/35 | B49: латунь АВ21 | D49: м.п./хлыст
A50: Blum Накл(уз.пр) clip top blumotion 71B950A никель | C50: =1.03*14.8366 -> 15.281698
A51: Blum Накл(уз.пр) clip top 71T950A никель | C51: =1.03*7.4633 -> 7.687199
A52: Blum Накл(уз.пр) clip top 71T950A черный | C52: =1.03*8.5159 -> 8.771377
A53: Blum Накл(уз.пр) без пружины clip top 70T950A.TL никель | C53: =1.03*7.7673 -> 8.000319
A54: Blum Накл(уз.пр) без пружины clip top 70T950A.TL черный | C54: =1.03*8.5159 -> 8.771377
A55: Blum Полунакл(уз.пр) clip top blumotion 71B960A никель | C55: =1.03*14.8704 -> 15.316512
A56: Blum Полунакл(уз.пр) clip top 71T960A никель | C56: =1.03*8.2739 -> 8.522117
A57: Blum Вкладн(уз.пр) clip top blumotion 71B970A никель | C57: =1.03*15.4333 -> 15.896299
A58: Blum Вкладн(уз.пр) clip top 71T970A никель | C58: =1.03*8.3639 -> 8.614817
A59: Hettich Накл(уз.пр) с доводчиком никель | C59: =1.03*9.5121 -> 9.797463
A60: Hettich Накл(уз.пр) с доводчиком черный | C60: =1.03*12.726 -> 13.10778
A61: Hettich Вкладн(уз.пр) с доводчиком никель | C61: =1.03*7.7391 -> 7.971273
A62: MZF 63 Накл(уз.пр) с доводчиком темный графит | C62: =1.03*2.06 -> 2.1218
A63: Профили MF50/51/52
A64: MF 50 | B64: черный браш АВ05 | C64: 8.04 | D64: м.п.
A65: MF 51 | B65: черный браш АВ05 | C65: 48.31 | D65: хлыст | E65: 3
A66: MF 52 | B66: черный браш АВ05 | C66: 73.78 | D66: хлыст | E66: 2.65
A67: MF 50 | B67: латунь АВ21 | C67: 8.04 | D67: м.п.
A68: MF 51 | B68: латунь АВ21 | C68: 48.31 | D68: хлыст | E68: 3
A69: MF 52 | B69: латунь АВ21 | C69: 73.78 | D69: хлыст | E69: 2.65
A70: MF 50/51/52 | B70: черный браш АВ05 | D70: м.п./хлыст/хлыст
A71: MF 50/51/52 | B71: латунь АВ21 | D71: м.п./хлыст/хлыст
A72: Петля серии MF50 270* (2шт) черный матовый | C72: =1.03*58.007 -> 59.74721
A73: Петля серии MF50 270* (2шт) латунь | C73: =1.03*58.007 -> 59.74721
A74: Профили MF60/61/62
A75: MF 60 | B75: черный браш АВ05 | C75: 8.56 | D75: м.п.
A76: MF 61 | B76: черный браш АВ05 | C76: 10.58 | D76: м.п.
A77: MF 62 | B77: черный браш АВ05 | C77: 16.34 | D77: м.п.
A78: MF 60 | B78: латунь АВ21 | C78: 8.56 | D78: м.п.
A79: MF 61 | B79: латунь АВ21 | C79: 10.58 | D79: м.п.
A80: MF 62 | B80: латунь АВ21 | C80: 16.34 | D80: м.п.
A81: MF 60/61/62 | B81: черный браш АВ05 | D81: м.п.
A82: MF 60/61/62 | B82: латунь АВ21 | D82: м.п. | G82: Рекомендуемые максимальные размеры для MF20/21 - 2100*500
A83: Профили MF70/71/72 | G83: Рекомендуемые максимальные размеры для MF30/31 - 2100*500
A84: MF 70 | B84: черный матовый А05 | C84: 8.79 | D84: м.п. | G84: Для сборки фасадов серии MF в качестве наполнения используется стекло только с необработанным торцом.
A85: MF 71 | B85: черный матовый А05 | C85: 53.86 | D85: хлыст | E85: 3 | G85: *В стоимость профиля входит стоимость уплотнителя
A86: MF 72 | B86: черный матовый А05 | C86: 66.79 | D86: хлыст | E86: 2.65 | G86: *В стоимость работы по MF30, MF50, MF60 входят стоимость углов и фрезеровка под петли
A87: MF 70 | B87: латунь АВ21 | C87: 11.05 | D87: м.п.
A88: MF 71 | B88: латунь АВ21 | C88: 58.72 | D88: хлыст | E88: 3
A89: MF 72 | B89: латунь АВ21 | C89: 78.48 | D89: хлыст | E89: 2.65
A90: MF 70/71/72 | B90: черный матовый А05 | D90: м.п./хлыст/хлыст
A91: MF 70/71/72 | B91: латунь АВ21 | D91: м.п./хлыст/хлыст
A92: Петля серии MF70 270* (2шт) черный матовый | C92: =1.03*82.27 -> 84.7381
A93: Петля серии MF70 270* (2шт) латунь | C93: =1.03*82.27 -> 84.7381
A94: Работа
A95: Сборка фасада MF20 | C95: 22.85
A96: Сборка фасада MF20/2 | C96: 24.8
A97: Сборка фасада MF30, MF60 | C97: 17.3
A98: Сборка фасада MF30/3 | C98: 18.8
A99: Сборка фасада MF50, MF70 | C99: 29.67
A100: Дополнительные услуги
...

Sheet LT10,30
A1: Прайс-лист на световые полки LT20, LT30 MODUS | B1: Цвет профиля | C1: цена, м.п.
A2: Профиль LT10/11 | E2: Рекомендуемые максимальные размеры для LT20 - 1000*300
A3: LT10 | B3: латунь АВ21 | C3: 9.51 | E3: Рекомендуемые максимальные размеры для LT30/31 - 1000*500
A4: LT10 | B4: черный матовый А05 | C4: 8.57 | E4: *В стоимость работы входит стоимость углов для LT30/31
A5: LT11 | B5: латунь АВ21 | C5: 9.51
A6: LT11 | B6: черный матовый А05 | C6: 8.57
A7: LT10/11 (подсветка по передней стороне) | B7: латунь АВ21
A8: LT10/11 (подсветка по передней стороне) | B8: черный матовый А05
A9: Профиль LT30/31
A10: LT30 | B10: черный матовый А05 | C10: 15.41
A11: LT31 | B11: черный матовый А05 | C11: 13.99
A12: LT30 | B12: титан А18 | C12: 12.21
A13: LT31 | B13: титан А18 | C13: 11.26
A14: LT30 | B14: латунь АВ21 | C14: 17.54
A15: LT31 | B15: латунь АВ21 | C15: 15.87
A16: LT30/31 (подсветка по передней стороне) | B16: черный матовый А05
A17: LT30/31 (подсветка по передней стороне) | B17: титан А18
A18: LT30/31 (подсветка по передней стороне) | B18: латунь АВ21
A19: Винные полки
A20: Профиль-трубка VP 16 черный матовый A05 | B20: черный матовый А05 | C20: 5
A21: Профиль-трубка VP 16 латунь АВ21 | B21: латунь АВ21 | C21: 5.5
A22: Полкодержатель
A23: Полкодержатель врезной (металл) | C23: 2.56
A24: Работа
A25: Сборка световой полки LT10 | C25: 22.36
A26: Сборка световой полки LT30 | C26: 22
A27: Сборка световой полки LT30/31 | C27: 22.8
A28: Сборка винных полок | C28: 27.75

Sheet СТЕКЛО
A1: Прайс-лист на стекло | B1: толщина, мм | C1: Цена за м2
A2: Стекло
A3: Стекло прозрачное | B3: 4 | C3: =1.04*12.6359 -> 13.141336
A4: Стекло прозрачное | B4: 5 | C4: 18.36
A5: Стекло прозрачное | B5: 6 | C5: 21.6
A6: Стекло прозрачное | B6: 8 | C6: 32.4
A7: Стекло прозрачное | B7: 10 | C7: 42.12
A8: Стекло осветленное | B8: 4 | C8: =1.04*39.2304 -> 40.799616
A9: Стекло осветленное | B9: 6 | C9: 51.84
A10: Стекло осветленное | B10: 8 | C10: 75.6
A11: Стекло осветленное | B11: 10 | C11: 95.04
A12: Стекло тонированное серое | B12: 4 | C12: =1.04*27.8328 -> 28.946112
A13: Стекло тонированное серое | B13: 6 | C13: 34.56
A14: Стекло тонированное серое | B14: 8 | C14: 50.76
A15: Стекло тонированное серое | B15: 10 | C15: 61.56
A16: Стекло тонированное бронза | B16: 4 | C16: =1.04*27.8328 -> 28.946112
A17: Стекло тонированное бронза | B17: 6 | C17: 34.56
A18: Стекло тонированное бронза | B18: 8 | C18: 50.76
A19: Стекло тонированное бронза | B19: 10 | C19: 61.56
A20: Стекло Сталь серая (ШПИОН) | B20: 4 | C20: =1.04*60.4498 -> 62.867792
A21: Стекло Сталь серая (ШПИОН) | B21: 6
A22: Стекло Сталь серая (ШПИОН) | B22: 8
A23: Стекло Сталь серая (ШПИОН) | B23: 10
A24: Стекло тонированное DARK GREY | B24: 4 | C24: =1.04*75.9278 -> 78.964912
A25: Стекло тонированное DARK GREY | B25: 6
A26: Стекло тонированное DARK GREY | B26: 8
A27: Стекло тонированное DARK GREY | B27: 10
A28: Стекло рифленое Raywall 90 | B28: 4 | C28: =1.04*105.4494 -> 109.66738
A29: Стекло рифленое Raywall 90 | B29: 6
A30: Стекло рифленое Raywall 90 | B30: 8
A31: Стекло рифленое Raywall 90 | B31: 10
A32: Стекло рифленое Flutelite-B | B32: 4 | C32: =1.04*63.264 -> 65.79456
A33: Стекло рифленое Flutelite-B | B33: 6
A34: Стекло рифленое Flutelite-B | B34: 8
A35: Стекло рифленое Flutelite-B | B35: 10
A36: Стекло Aqualite | B36: 4 | C36: =1.04*42.1854 -> 43.872816
A37: Стекло Aqualite | B37: 6
A38: Стекло Aqualite | B38: 8
A39: Стекло Aqualite | B39: 10
A40: Стекло Flurelit-S | B40: 4 | C40: =1.04*77.3352 -> 80.428608
A41: Стекло Flurelit-S | B41: 6
A42: Стекло Flurelit-S | B42: 8
A43: Стекло Flurelit-S | B43: 10
A44: Стекло Kathedral Klein | B44: 4 | C44: =1.04*91.4063 -> 95.062552
A45: Стекло Kathedral Klein | B45: 6
A46: Стекло Kathedral Klein | B46: 8
A47: Стекло Kathedral Klein | B47: 10
A48: Стекло Gothic | B48: 4 | C48: =1.04*105.4494 -> 109.66738
A49: Стекло Gothic | B49: 6
A50: Стекло Gothic | B50: 8
A51: Стекло Gothic | B51: 10
A52: Стекло солцезащитное СТОПСОЛ
A53: Стекло Stopsol Classic Clear | B53: 4 | C53: =1.04*110.3843 -> 114.79967
A54: Стекло Stopsol Classic Clear | B54: 6 | C54: =86.4+7.23 -> 93.63
A55: Стекло Stopsol Classic Clear | B55: 8 | C55: =86.4+7.23 -> 93.63
A56: Стекло Stopsol Classic Clear | B56: 10 | C56: =86.4+7.23 -> 93.63
A57: Стекло Stopsol Classic Grey | B57: 4 | C57: =1.04*110.3843 -> 114.79967
A58: Стекло Stopsol Classic Grey | B58: 6 | C58: =86.4+7.23 -> 93.63
A59: Стекло Stopsol Classic Grey | B59: 8 | C59: =86.4+7.23 -> 93.63
A60: Стекло Stopsol Classic Grey | B60: 10 | C60: =86.4+7.23 -> 93.63
A61: Стекло Stopsol Classic Bronze | B61: 4 | C61: =1.04*110.3843 -> 114.79967
A62: Стекло Stopsol Classic Bronze | B62: 6
A63: Стекло Stopsol Classic Bronze | B63: 8
A64: Стекло Stopsol Classic Bronze | B64: 10
A65: Стекло Stopsol Phoenix Clear | B65: 4 | C65: =1.04*63.264 -> 65.79456
A66: Стекло Stopsol Phoenix Clear | B66: 6 | C66: =54+7.23 -> 61.23
A67: Стекло Stopsol Phoenix Clear | B67: 8 | C67: =54+7.23 -> 61.23
A68: Стекло Stopsol Phoenix Clear | B68: 10 | C68: =54+7.23 -> 61.23
A69: Стекло Stopsol Phoenix Grey | B69: 4 | C69: =1.04*63.264 -> 65.79456
A70: Стекло Stopsol Phoenix Grey | B70: 6 | C70: =54+7.23 -> 61.23
A71: Стекло Stopsol Phoenix Grey | B71: 8 | C71: =54+7.23 -> 61.23
A72: Стекло Stopsol Phoenix Grey | B72: 10 | C72: =54+7.23 -> 61.23
A73: Стекло Stopsol Phoenix Bronze | B73: 4 | C73: =1.04*63.264 -> 65.79456
A74: Стекло Stopsol Phoenix Bronze | B74: 6
A75: Стекло Stopsol Phoenix Bronze | B75: 8
A76: Стекло Stopsol Phoenix Bronze | B76: 10
A77: Зеркало
A78: Зеркало бронза | B78: 4 | C78: =1.04*41.7632 -> 43.433728
A79: Зеркало бронза | B79: 6
A80: Зеркало бронза | B80: 8
A81: Зеркало бронза | B81: 10
A82: Зеркало серебро | B82: 4 | C82: =1.04*22.7672 -> 23.677888
A83: Зеркало серебро | B83: 6
A84: Зеркало серебро | B84: 8
A85: Зеркало серебро | B85: 10
A86: Зеркало серебро осветленное | B86: 4 | C86: =1.04*39.3711 -> 40.945944
A87: Зеркало серебро осветленное | B87: 6
A88: Зеркало серебро осветленное | B88: 8
A89: Зеркало серебро осветленное | B89: 10
A90: Зеркало серое (графит) | B90: 4 | C90: =1.04*41.7632 -> 43.433728
A91: Зеркало серое (графит) | B91: 6
A92: Зеркало серое (графит) | B92: 8
A93: Зеркало серое (графит) | B93: 10
A94: Зеркало матированное серое (графит) | B94: 4 | C94: =1.04*58.1984 -> 60.526336
A95: Зеркало матированное серое (графит) | B95: 6
A96: Зеркало матированное серое (графит) | B96: 8
A97: Зеркало матированное серое (графит) | B97: 10
A98: Зеркало матированное серебро | B98: 4 | C98: =1.04*58.1984 -> 60.526336
A99: Зеркало матированное серебро | B99: 6
A100: Зеркало матированное серебро | B100: 8
...

Sheet ГС
A1: Заказ № Клиент Дата готовности
A2: Прайс-лист на гардеробную систему MODUS | B2: цена | C2: заказ
A3: Цвет серебро А00
A4: Профиль PA02 угловой с креплениями: (UPA), пол(KPP01), стена(KPP02)- высота 2,4м, 1 шт | B4: 75
A5: Профиль PA02 угловой с креплениями: (UPA), пол(KPP01), стена(KPP02)- высота 2,7м, 1 шт | B5: 78.55
A6: Профиль PA02 с креплениеми: пол (KPP01), потолок (KPP02)- высота до 3м , 1 шт | B6: 71.86
A7: Набор креплений (PDD, ZK03) для полки из дсп, комплект для 1 полки | B7: 10.26
A8: Набор креплений (PК01,02,03, ZK03) для полки из алюминия, комплект для 1 полки | B8: 30
A9: Набор креплений (PDS, ZK03) для полки из стекла, комплект для 1 полки | B9: 13.16
A10: набор креплений (PDN, ZK03) для наклонной полки из дсп, комплект для 1 полки | B10: 10.26
A11: Набор креплений(K046, ZK03) для навесного элемента с 2 выдвижными ящиками,1 компл(4шт) | B11: 22.48
A12: Набор креплений(K046, ZK03) для навесного элемента с 4 выдвижными ящиками,1 компл(8шт) | B12: 44.96
A13: Штанга овальная (TR01) с креплениями (D20, ZK03), до 1м | B13: 7.332
A14: Штанга прямоугольная (TP) без паза под подсветку, с креплениями (DТ01, ZK05), до 1м | B14: 11.249
A15: Штанга прямоугольная (TP) c пазом под подсветку, с креплениями (DТ01, ZK05), до 1м | B15: 13.277
A16: Цвет черный матовый А05
A17: Профиль PA02 угловой с креплениями: (UPA), пол(KPP01), стена(KPP02)- высота 2,4м, 1 шт | B17: 84.4
A18: Профиль PA02 угловой с креплениями: (UPA), пол(KPP01), стена(KPP02)- высота 2,7м, 1 шт | B18: 88.53
A19: Профиль PA02 с креплениеми: пол (KPP01), потолок (KPP02)- высота до 3м , 1 шт | B19: 81.84
A20: Набор креплений (PDD, ZK03) для полки из дсп, комплект для 1 полки | B20: 11.62
A21: Набор креплений (PК01,02,03, ZK03) для полки из алюминия, комплект для 1 полки | B21: 30
A22: Набор креплений (PDS, ZK03) для полки из стекла, комплект для 1 полки | B22: 14.96
A23: набор креплений (PDN, ZK03) для наклонной полки из дсп, комплект для 1 полки | B23: 11.62
A24: Набор креплений(K046, ZK03) для навесного элемента с 2 выдвижными ящиками,1 компл(4шт) | B24: 25.52
A25: Набор креплений(K046, ZK03) для навесного элемента с 4 выдвижными ящиками,1 компл(8шт) | B25: 51.04
A26: Штанга овальная (TR01) с креплениями (D20, ZK03), до 1м | B26: 8.215
A27: Штанга прямоугольная (TP) без паза под подсветку, с креплениями (DТ01, ZK05), до 1м | B27: 12.726
A28: Штанга прямоугольная (TP) c пазом под подсветку, с креплениями (DТ01, ZK05), до 1м | B28: 14.806
A29: Цвет латунь АВ21
A30: Профиль PA02 угловой с креплениями: (UPA), пол(KPP01), стена(KPP02)- высота 2,4м, 1 шт | B30: 93.5
A31: Профиль PA02 угловой с креплениями: (UPA), пол(KPP01), стена(KPP02)- высота 2,7м, 1 шт | B31: 98.5
A32: Профиль PA02 с креплениеми: пол (KPP01), потолок (KPP02)- высота до 3м , 1 шт | B32: 90.42
A33: Набор креплений (PDD, ZK03) для полки из дсп, комплект для 1 полки | B33: 11.62
A34: Набор креплений (PК01,02,03, ZK03) для полки из алюминия, комплект для 1 полки | B34: 30
A35: Набор креплений (PDS, ZK03) для полки из стекла, комплект для 1 полки | B35: 14.96
A36: набор креплений (PDN, ZK03) для наклонной полки из дсп, комплект для 1 полки | B36: 11.62
A37: Набор креплений(K046, ZK03) для навесного элемента с 2 выдвижными ящиками,1 компл(4шт) | B37: 25.52
A38: Набор креплений(K046, ZK03) для навесного элемента с 4 выдвижными ящиками,1 компл(8шт) | B38: 51.04
A39: Штанга овальная (TR01) с креплениями (D20, ZK03), до 1м | B39: 8.215
A40: Штанга прямоугольная (TP) без паза под подсветку, с креплениями (DТ01, ZK05), до 1м | B40: 12.726
A41: Штанга прямоугольная (TP) c пазом под подсветку, с креплениями (DТ01, ZK05), до 1м | B41: 14.806
C42: =SUMPRODUCT(B4:B41,C4:C41) -> 0
A43: курс | C43: =B43*C42 -> 0
B44: цена | C44: заказ
A45: Цвет серебро А00
A46: Профиль PA02 угловой с креплениями: (UPA), пол(KPP01), стена(KPP02)- высота 2,4м, 1 шт | B46: 75
A47: Профиль PA02 угловой с креплениями: (UPA), пол(KPP01), стена(KPP02)- высота 2,7м, 1 шт | B47: 78.55
A48: Профиль PA02 с креплениеми: пол (KPP01), потолок (KPP02)- высота до 3м , 1 шт | B48: 71.86
A49: Набор креплений (PDD, ZK03) для полки из дсп, комплект для 1 полки | B49: 10.26
A50: Набор креплений (PDS, ZK03) для полки из стекла, комплект для 1 полки | B50: 13.16
A51: набор креплений (PDN, ZK03) для наклонной полки из дсп, комплект для 1 полки | B51: 10.26
A52: Набор креплений(K046, ZK03) для навесного элемента с 2 выдвижными ящиками,1 компл(4шт) | B52: 22.48
A53: Набор креплений(K046, ZK03) для навесного элемента с 4 выдвижными ящиками,1 компл(8шт) | B53: 44.96
A54: Штанга овальная (TR01) с креплениями (D20, ZK03), до 1м | B54: 7.332
A55: Штанга прямоугольная (TP) без паза под подсветку, с креплениями (DТ01, ZK05), до 1м | B55: 11.249
A56: Штанга прямоугольная (TP) c пазом под подсветку, с креплениями (DТ01, ZK05), до 1м | B56: 13.277
A57: Цвет черный матовый А05
A58: Профиль PA02 угловой с креплениями: (UPA), пол(KPP01), стена(KPP02)- высота 2,4м, 1 шт | B58: 84.4
A59: Профиль PA02 угловой с креплениями: (UPA), пол(KPP01), стена(KPP02)- высота 2,7м, 1 шт | B59: 88.53
A60: Профиль PA02 с креплениеми: пол (KPP01), потолок (KPP02)- высота до 3м , 1 шт | B60: 81.84
A61: Набор креплений (PDD, ZK03) для полки из дсп, комплект для 1 полки | B61: 11.62
A62: Набор креплений (PDS, ZK03) для полки из стекла, комплект для 1 полки | B62: 14.96
A63: набор креплений (PDN, ZK03) для наклонной полки из дсп, комплект для 1 полки | B63: 11.62
A64: Набор креплений(K046, ZK03) для навесного элемента с 2 выдвижными ящиками,1 компл(4шт) | B64: 25.52
A65: Набор креплений(K046, ZK03) для навесного элемента с 4 выдвижными ящиками,1 компл(8шт) | B65: 51.04
A66: Штанга овальная (TR01) с креплениями (D20, ZK03), до 1м | B66: 8.215
A67: Штанга прямоугольная (TP) без паза под подсветку, с креплениями (DТ01, ZK05), до 1м | B67: 12.726
A68: Штанга прямоугольная (TP) c пазом под подсветку, с креплениями (DТ01, ZK05), до 1м | B68: 14.806
A69: Цвет латунь АВ21
A70: Профиль PA02 угловой с креплениями: (UPA), пол(KPP01), стена(KPP02)- высота 2,4м, 1 шт | B70: 93.5
A71: Профиль PA02 угловой с креплениями: (UPA), пол(KPP01), стена(KPP02)- высота 2,7м, 1 шт | B71: 98.5
A72: Профиль PA02 с креплениеми: пол (KPP01), потолок (KPP02)- высота до 3м , 1 шт | B72: 90.42
A73: Набор креплений (PDD, ZK03) для полки из дсп, комплект для 1 полки | B73: 11.62
A74: Набор креплений (PDS, ZK03) для полки из стекла, комплект для 1 полки | B74: 14.96
A75: набор креплений (PDN, ZK03) для наклонной полки из дсп, комплект для 1 полки | B75: 11.62
A76: Набор креплений(K046, ZK03) для навесного элемента с 2 выдвижными ящиками,1 компл(4шт) | B76: 25.52
A77: Набор креплений(K046, ZK03) для навесного элемента с 4 выдвижными ящиками,1 компл(8шт) | B77: 51.04
A78: Штанга овальная (TR01) с креплениями (D20, ZK03), до 1м | B78: 8.215
A79: Штанга прямоугольная (TP) без паза под подсветку, с креплениями (DТ01, ZK05), до 1м | B79: 12.726
A80: Штанга прямоугольная (TP) c пазом под подсветку, с креплениями (DТ01, ZK05), до 1м | B80: 14.806
A81: ВЫ МОЖЕТЕ САМОСТОЯТЕЛЬНО РАСЧИТАТЬ СТОИМОСТЬ РАБОТ ПО ИЗГОТОВЛЕНИЮ ГАРДЕРОБНОЙ СИСТЕМЫ ВСТАВЬТЕ ЗНАЧЕНИЕ В СТОЛБЕЦ "КОЛ-ВО"
A85: Наименование | J85: Стоимость работы | K85: Ко-во | L85: Сумма
A86: РАСПИЛ ВЕРТИКАЛЬНОГО ПРОФИЛЯ БЕЗ ПРИСАДКИ И СБОРКИ | J86: 150 | L86: =J86*K86 -> 0
A87: РАСПИЛ ВЕРТИКАЛЬНОГО ПРОФИЛЯ БЕЗ ПРИСАДКИ И СБОРКИ В РАЗМЕР (в виде буквы Г) | J87: 150 | L87: =J87*K87 -> 0
A88: РАСПИЛ ВЕРТИКАЛЬНОГО ПРОФИЛЯ С ПРИСАДКОЙ И СБОРКОЙ (в виде буквы Г) | J88: 300 | L88: =J88*K88 -> 0
A89: РАСПИЛ ШТАНГИ В РАЗМЕР-50 Р ШТ | J89: 50 | L89: =J89*K89 -> 0
A90: РАСПИЛ ПРОФИЛЯ ДЛЯ ПОЛОК В РАЗМЕР | J90: 150 | L90: =J90*K90 -> 0
A91: СБОРКА ПОЛКИ С РАСПИЛОМ В РАЗМЕР | J91: 300 | L91: =J91*K91 -> 0
J93: И ТОГО: | L93: =SUM(L86:L92) -> 0

Sheet КС нов
A1: Заказ № Клиент Дата готовности
A2: Прайс-лист на каркасную систему MODUS | B2: цена | C2: заказ
A3: Профиль KS
A4: Профиль для каркасной системы основной KS1, черный матовый А05, м.п | B4: 4.464
A5: Профиль для каркасной системы под дсп KS2/N, черный матовый А05, м.п | B5: 4.848
A6: Профиль для каркасной системы основной KS1, латунь АВ21, м.п | B6: 5.3568
A7: Профиль для каркасной системы под дсп KS2/N, латунь АВ21, м.п | B7: 5.8176
A8: Комплектующие KS
A9: Уголок соединительный 2L для KS, черный матовый А05, латунь АВ21, шт | B9: 3.6
A10: Уголок соединительный 3L для KS, черный матовый А05, латунь АВ21, шт | B10: 4.27
A11: Уголок соединительный 4L для KS, черный матовый А05, латунь АВ21, шт | B11: 4.52
A12: Уголок соединительный 5L для KS, черный матовый А05, латунь АВ21, шт | B12: 5.03
A13: Сборка КС- количество углов | B13: 0.5
A14: Уплотнитель под стекло KSU для профиля KS2/N, черный, м.п | B14: 1.924
A15: Заглушка для KS, черный матовый А05, шт | B15: 0.14
A16: Подпятник регулируемый | B16: 0.5
A17: Полкодержатель-пружинный для KS, шт | B17: 0.28
C18: =SUMPRODUCT(B4:B17,C4:C17) -> 0
A19: курс | C19: =B19*C18 -> 0
A21: *Стоимость работы входит в стоимость углов.
A22: *Сборка каркасной системы +0,5 х количество углов
A25: Профиль KS
A26: Профиль для каркасной системы основной KS1, черный матовый А05, м.п | B26: 4.464
A27: Профиль для каркасной системы под дсп KS2/N, черный матовый А05, м.п | B27: 4.848
A28: Профиль для каркасной системы основной KS1, латунь АВ21, м.п | B28: 5.3568
A29: Профиль для каркасной системы под дсп KS2/N, латунь АВ21, м.п | B29: 5.8176
A30: Комплектующие KS
A31: Уголок соединительный 2L для KS, черный матовый А05, латунь АВ21, шт | B31: 3.6
A32: Уголок соединительный 3L для KS, черный матовый А05, латунь АВ21, шт | B32: 4.27
A33: Уголок соединительный 4L для KS, черный матовый А05, латунь АВ21, шт | B33: 4.52
A34: Уголок соединительный 5L для KS, черный матовый А05, латунь АВ21, шт | B34: 5.03
A35: Сборка КС- количество углов | B35: 0.5
A36: Уплотнитель под стекло KSU для профиля KS2/N, черный, м.п | B36: 1.924
A37: Заглушка для KS, черный матовый А05, шт | B37: 0.14
A38: Подпятник регулируемый | B38: 0.5
A39: Полкодержатель-пружинный для KS, шт | B39: 0.28
C40: =SUMPRODUCT(B26:B39,C26:C39) -> 0
A41: *Стоимость работы входит в стоимость углов.
A42: *Сборка каркасной системы +0,5 х количество углов

Sheet Фото петель
A1: ДЛЯ УЗКИХ АЛЮМИНИЕВЫХ РАМОК
A2: Накладная clip top blumotion 71B950A | E2: Накладная clip top 71T950A | I2: Накладная clip top 71T950A | M2: Накладная MZF 63 с доводчиком | Q2: Накладная Hettich Sensys 8631i | U2: Накладная Hettich Sensys 8631i | Y2: Полунакладная clip top blumotion 71B960A | AC2: Полунакладная clip top 71T960A | AG2: Вкладная clip top blumotion 71B970A | AK2: Вкладная clip top 71T970A
A3: никель | E3: черный | I3: никель | M3: тёмный графит | Q3: никель | U3: черный | Y3: никель | AC3: никель | AG3: никель | AK3: никель
M11: Несъёмная ответная часть
A14: БЕЗ ПРУЖИНЫ | U14: ДЛЯ ПРОФИЛЕЙ MF20/21/22/25 | AC14: ДЛЯ ПРОФИЛЕЙ MF50/51/52
A15: Накладная без пружины clip top 70T950A.TL | E15: Накладная без пружины clip top 70Т3550.TL | I15: Полунакладная без пружины clip top 70Т3650.TL | M15: Вкладная без пружины clip top 70Т3750.TL | U15: Комплект петель MF20 | Y15: Комплект петель MF20 | AC15: Комплект петель MF50 | AG15: Комплект петель MF50
A16: никель | E16: никель | I16: никель | M16: никель | U16: черный | Y16: никель | AC16: черный | AG16: латунь
U26: Комплект петель Salice AIR Push | Y26: Комплект петель Salice AIR Push | AC26: ДЛЯ ПРОФИЛЕЙ MF70/71/72
A27: ДЛЯ ШИРОКИХ АЛЮМИНИЕВЫХ РАМОК | U27: титан | Y27: никель | AC27: Комплект петель MF70 | AG27: Комплект петель MF70
A28: Накладная clip top blumotion 71B3550 | E28: Накладная clip top blumotion 71B3550 | I28: Накладная clip top 71T3550 | AC28: черный | AG28: латунь
A29: никель | E29: черный | I29: никель
A39: Полунакладная clip top blumotion 71B3650 | E39: Полунакладная clip top blumotion 71B3650 | I39: Полунакладная clip top 71T3650
A40: никель | E40: черный | I40: никель
A50: Вкладная clip top blumotion 71B3750 | E50: Вкладная clip top blumotion 71B3750 | I50: Вкладная clip top 71T3750
A51: никель | E51: черный | I51: никель

Sheet Фото наполнений
N1: Варианты наполнения*
J2: * - фото наполнения носит ознакомительный характер
A26: Стекло Gothic | G26: Стекло Kathedral Klein | M26: Стекло Flurelit-S | S26: Стекло Aqualite | Y26: Стекло Flutelit-B | AE26: Стекло Raywall 90
A48: Стекло Dark Grey | G48: Стекло Сталь Серая (ШПИОН) | M48: Стекло тонированное (Бронза) | S48: Стекло тонированное (Серый) | Y48: Стекло осветленное | AE48: Стекло прозрачное
A70: Стекло Stopsol Phoenix Bronze | G70: Стекло Stopsol Phoenix Grey | M70: Стекло Stopsol Phoenix Clear | S70: Стекло Stopsol Classic Bronze | Y70: Стекло Stopsol Classic Grey | AE70: Стекло Stopsol Classic Clear
A92: Зеркало матированное БРОНЗА | G92: Зеркало матированное СЕРЕБРО | M92: Зеркало матированное СЕРОЕ (ГРАФИТ) | S92: Зеркало СЕРОЕ (ГРАФИТ) | Y92: Зеркало СЕРЕБРО (осветленное) | AE92: Зеркало СЕРЕБРО
A114: Зеркало бронза | G114: Стекло ЛАКОМАТ | M114: Стекло ЛАКОБЕЛЬ 9010 | S114: Стекло ЛАКОБЕЛЬ 9005 | Y114: Стекло ЛАКОБЕЛЬ 9003 | AE114: Стекло ЛАКОБЕЛЬ 7013
A136: Стекло ЛАКОБЕЛЬ 1236 | G136: Стекло ЛАКОБЕЛЬ 1015 | M136: Стекло ЛАКОБЕЛЬ 1013 | S136: Стекло матовое МАТЕЛЮКС (Бронза) | Y136: Стекло матовое МАТЕЛЮКС (Серый) | AE136: Стекло матовое МАТЕЛЮКС (осветленное)
A158: Стекло матовое МАТЕЛЮКС | G158: Стекло МАТЕЛАК 9003 | M158: Стекло МАТЕЛАК 1013

Sheet Расчет размеров наполнения
A2: Расчет размеров наполнения (стекла) для сборки | E2: S - Высота фасада
A3: Профиль | B3: Высота | C3: Ширина | E3: L - Ширина фасада
A4: MZ 01 | B4: S-30 | C4: L-30
A5: MZ 02 | B5: S-5 | C5: L-5
A6: MZ 04 | B6: S-24 | C6: L-24
A7: MZ 07 | B7: S-2 | C7: L-2
A8: MZ 09 | B8: S-5 | C8: L-5
A9: MZ 10 | B9: S-3 | C9: L-3
A10: MZ 12 | B10: S-3 | C10: L-3
A11: MZ 13 | B11: S-5 | C11: L-5
A12: MZ 13-01 | B12: S-5 | C12: L-25.5
A13: MZ 17 | B13: S-3 | C13: L-3
A14: MF 20 | B14: S-4 | C14: L-4
A15: MF 20/21 | B15: S-4 | C15: L-21
... A31: LT 30/31 | B31: S-6 | C31: L-6

Sheet О порядках приёмки и претензий
J6: ООО «Ал-Декор»
I9: УВЕДОМЛЕНИЕ ДЛЯ КЛИЕНТОВ
E12: О порядке получения товара со склада ООО "Ал-Декор" или при доставке на склад покупатели и сроках предъявления претензий по качеству и количеству.
E17: Получаемый товар необходимо проверять на складе продавца в момент его передачи от продавца покупателю. При доставке товара проверка происходит на складе покупателя или непосредственно в момент его передачи покупателю. После приёма товара претензии по количеству не принимаются, по качеству товара рассматриваются в отдельном порядке. Алюминиевые фасады: приём и проверка по качеству, комплектности и количеству происходит на складе продавца в момент их передачи покупателю. При доставке фасадов проверка происходит на складе покупателя или непосредственно в момент их передачи покупателю. В исключительных случаях при невозможности проверки фасадов в момент получения срок проверки увеличивается до 3 (трёх) рабочих дней, покупатель проверяет их самостоятельно на своём складе. По истечении данного срока претензии по качеству, комплектности и количеству не принимаются.
E41: Генеральный директор ООО "Ал-Декор" | Q41: Лесовников А.Б.
